
BEGIN:VCALENDAR
VERSION:2.0
PRODID:-//wp-events-plugin.com//6.6.3//EN
TZID:Europe/Berlin
X-WR-TIMEZONE:Europe/Berlin
BEGIN:VEVENT
UID:0-11@veranstaltungen.muenchen.de
DTSTART;TZID=Europe/Berlin:20200128T180000
DTEND;TZID=Europe/Berlin:20200128T190000
DTSTAMP:20200203T094625Z
URL:https://veranstaltungen.muenchen.de/bauzentrum/veranstaltungen/infoabe
 nd-alte-oelheizung-was-tun/
SUMMARY:Infoabend: Alte Ölheizung – was tun?
DESCRIPTION:Eintritt frei\n\n&nbsp\;\n\nReferent_in: Klaus Rüttiger\, Refe
 rent Technik\, Fachverband SHK München\n\n&nbsp\;\n\nKommt das Verbot von
  Ölheizungen? Was sagen die Vorschriften und Gesetze? Gibt es Alternative
 n und wie werden sie gefördert? All diese und noch mehr Fragen beantworte
 t  Klaus Rüttiger vom Fachverband SHK München. Bundesweit gibt es derze
 it ungefähr 5\,4 Millionen Ölheizungen. Von den werden auch nach 2026 no
 ch viele in Betrieb sein. Die Lösungen für einen sinnvollen Ersatz müss
 en umweltfreundlich\, sparsam und wirtschaftlich machbar sein.
CATEGORIES:Infovorträge - Führungen - Infotage
LOCATION:Bauzentrum München\, Konrad-Zuse-Platz 12 (Eingang: Konrad-Zuse-P
 latz 8)\, München\, Bayern\, 81829\, Deutschland
GEO:48.138166;11.689028
X-APPLE-STRUCTURED-LOCATION;VALUE=URI;X-ADDRESS=Konrad-Zuse-Platz 12 (Einga
 ng: Konrad-Zuse-Platz 8)\, München\, Bayern\, 81829\, Deutschland;X-APPLE
 -RADIUS=100;X-TITLE=Bauzentrum München:geo:48.138166,11.689028
END:VEVENT
BEGIN:VTIMEZONE
TZID:Europe/Berlin
X-LIC-LOCATION:Europe/Berlin
BEGIN:STANDARD
DTSTART:20191027T020000
TZOFFSETFROM:+0200
TZOFFSETTO:+0100
TZNAME:CET
END:STANDARD
END:VTIMEZONE
END:VCALENDAR