
BEGIN:VCALENDAR
VERSION:2.0
PRODID:-//wp-events-plugin.com//6.6.3//EN
TZID:Europe/Berlin
X-WR-TIMEZONE:Europe/Berlin
BEGIN:VEVENT
UID:0-72@veranstaltungen.muenchen.de
DTSTART;TZID=Europe/Berlin:20200205T180000
DTEND;TZID=Europe/Berlin:20200205T190000
DTSTAMP:20200204T073452Z
URL:https://veranstaltungen.muenchen.de/bauzentrum/veranstaltungen/infoabe
 nd-alte-nachtspeicherheizung-was-tun-damit/
SUMMARY:Infoabend: Alte Nachtspeicherheizung - Was tun damit?
DESCRIPTION:Eintritt frei\n\n&nbsp\;\n\nReferent: Janko Kroschl\, Dipl.-Ing
 . Elektrotechnik\n\n&nbsp\;\n\nNachtspeicheröfen: Fluch oder Segen? Der I
 ngenieur und Energieberater Janko Kroschl gibt in seinem Vortrag Antworten
  auf folgende Fragen: Wie ist die gesetzliche Lage? Welche Alternativen gi
 bt es? Wie können Nachtspeicheröfen in ein neues Heizsystem eingebunden 
 werden? Abbau\, Entsorgung und Recycling\, worauf ist zu achten?
CATEGORIES:Infovorträge - Führungen - Infotage
LOCATION:Bauzentrum München\, Konrad-Zuse-Platz 12 (Eingang: Konrad-Zuse-P
 latz 8)\, München\, Bayern\, 81829\, Deutschland
GEO:48.138166;11.689028
X-APPLE-STRUCTURED-LOCATION;VALUE=URI;X-ADDRESS=Konrad-Zuse-Platz 12 (Einga
 ng: Konrad-Zuse-Platz 8)\, München\, Bayern\, 81829\, Deutschland;X-APPLE
 -RADIUS=100;X-TITLE=Bauzentrum München:geo:48.138166,11.689028
END:VEVENT
BEGIN:VTIMEZONE
TZID:Europe/Berlin
X-LIC-LOCATION:Europe/Berlin
BEGIN:STANDARD
DTSTART:20191027T020000
TZOFFSETFROM:+0200
TZOFFSETTO:+0100
TZNAME:CET
END:STANDARD
END:VTIMEZONE
END:VCALENDAR