
BEGIN:VCALENDAR
VERSION:2.0
PRODID:-//wp-events-plugin.com//6.6.3//EN
TZID:Europe/Berlin
X-WR-TIMEZONE:Europe/Berlin
BEGIN:VEVENT
UID:0-2068@veranstaltungen.muenchen.de
DTSTART;TZID=Europe/Berlin:20251118T120000
DTEND;TZID=Europe/Berlin:20251118T130000
DTSTAMP:20251017T093327Z
URL:https://veranstaltungen.muenchen.de/bauzentrum/veranstaltungen/fachwis
 senlunch-bau-turbo/
SUMMARY:Bauzentrum FachWissen@Lunch: Bau-Turbo: Neuregelung für den Wohnun
 gsbau
DESCRIPTION:   \n\nFachWissen@Lunch vom Bauzentrum München\n\n&nbsp\;\nBa
 uzentrum FachWissen@Lunch: Bau-Turbo: Neuregelung für den Wohnungsbau –
  Chancen\, Risiken und Stolpersteine\n&nbsp\;\n\nTeilnahme kostenfrei - On
 line-Anmeldung erforderlich:\n\nAnmeldung\n\n&nbsp\;\nAlle Online-Veransta
 ltungen vom Bauzentrum München werden mit Webex durchgeführt.\nOb Ihr Ar
 beitsplatz die technischen Voraussetzungen für die Teilnahme erfüllt\, k
 önnen Sie hier testen:\nTestseite Webex\n\n&nbsp\;\n\nHinweis\n\nFür die
 se Veranstaltung werden keine Fortbildungspunkte beantragt und auch keine 
 Teilnahmebestätigungen ausgestellt.\n\n&nbsp\;\n\nThema\n\nZur Beschleuni
 gung des Wohnungsbaus sollen Städte und Gemeinden künftig mehr Freiheite
 n im Genehmigungs- und Planungsverfahren erhalten. Der sogenannte „Bau-T
 urbo“ ermöglicht es\, erweiterte Abweichungen von bestehenden Bebauungs
 plänen sowie im unbeplanten Innenbereich vorzunehmen. Ein besonders weitr
 eichender Vorschlag erlaubt sogar allgemeine Abweichungen vom Baugesetz\, 
 solange sie dem Wohnungsbau oder dessen Erweiterung dienen.\n\n&nbsp\;\n\n
 Diese Neuregelungen dürfen nur mit Zustimmung der jeweiligen Gemeinde ang
 ewendet werden\, die auch Bedingungen stellen kann\, um die städtebaulich
 en Anforderungen einzuhalten.\nDie geplanten Vorschriften sind sehr weit g
 efasst und wurden daher von Fachverbänden stark kritisiert. Um planerisch
 en Wildwuchs zu verhindern\, müssen Genehmigungsbehörden\, Planer*innen 
 und Bauherr*innen lernen verantwortungsvoll mit diesem Instrument umzugehe
 n.\n\n&nbsp\;\n\nAuch bleibt abzuwarten\, wie diese neuen Regelungen in de
 r Praxis wirken und ob sie den aktuellen Realisierungsstau wirklich beseit
 igen können.\nDie Veranstaltung widmet sich einer Analyse der neuen geset
 zlichen Regelung.\n\n&nbsp\;\n\nProgramm\n\n 	Aktueller Stand des Gesetzge
 bungsverfahrens\n 	Die einzelnen Instrumente des Bau-Turbo\n 	Details zu 
 §§ 31 Abs. 3\, § 34 Abs. 3b\, 246a BauGB-Entwurf\n 	Das Zustimmungserfo
 rdernis des § 36a BauGB-Entwurf\n 	Anforderungen und Möglichkeiten der K
 ommunen\n 	Kritikpunkte am Bau-Turbo\n\n&nbsp\;\n\nDer Bundestag hat jetzt
  am 9.10.2025 den Bauturbo endgültig beschlossen. Wann das Gesetz mit sei
 ner Verkündigung in Kraft tritt  ist noch offen.  Der Vorgang und der l
 etzte Entwurfsstand  (BT Drs.21/2109) ist dokumentiert unter:\n\nhttps://
 www.bundestag.de/dokumente/textarchiv/2025/kw41-de-wohnungsbau-1111794\n\n
 &nbsp\;\n\nReferent:\n\nCornelius Mager\n\nStadtdirektor a.D.\, Landeshaup
 tstadt München\, Lehrbeauftragter an der Hochschule München\, Architektu
 r\nMitglied in der Vereinigung für Stadt- Regional und Landesplanung\, SR
 L.\n\n&nbsp\;\n\nZielgruppe\n\nFachpublikum wie Architekt*innen\, Bauingen
 ieur*innen\, Fachplaner*innen\, Sachverständige\, Handwerker*innen\, Bauu
 nternehmen oder Kommunen\n\n&nbsp\;\n\nVeranstaltungsformat: FachWissen@Lu
 nch\n\n\nWer kennt das nicht: Es gibt zahlreiche Themen\, von denen Sie be
 reits gehört haben und die Sie gerne in ihrer beruflichen Praxis berücks
 ichtigen würden? Oftmals fehlt Ihnen aber im hektischen Arbeitsalltag die
  Zeit\, um sich damit ausführlich auseinanderzusetzen. Nutzen Sie jetzt u
 nser neues Online-Angebot FachWissen@Lunch – regelmäßig montags zur Mi
 ttagszeit: Fachexpert*innen informieren verständlich und praxisnah über 
 relevante Themengebiete rund um nachhaltiges Wohnen\, Sanieren und Bauen. 
 Die neue Reihe FachWissen@Lunch richtet sich an Fachpublikum\, also Planen
 de\, Hausverwaltungen\, Energieberater*innen\, Kommunen oder Handwerker*in
 nen\, abhängig vom jeweiligen Themenschwerpunkt. Jeder Vortrag widmet sic
 h intensiv einem spezifischen Thema\, gefolgt von einer Fragerunde\, die R
 aum für vertieften Austausch bietet.
CATEGORIES:Fachforen - Exkursionen
END:VEVENT
BEGIN:VTIMEZONE
TZID:Europe/Berlin
X-LIC-LOCATION:Europe/Berlin
BEGIN:STANDARD
DTSTART:20251026T020000
TZOFFSETFROM:+0200
TZOFFSETTO:+0100
TZNAME:CET
END:STANDARD
END:VTIMEZONE
END:VCALENDAR