
BEGIN:VCALENDAR
VERSION:2.0
PRODID:-//wp-events-plugin.com//6.6.3//EN
TZID:Europe/Berlin
X-WR-TIMEZONE:Europe/Berlin
BEGIN:VEVENT
UID:0-77@veranstaltungen.muenchen.de
DTSTART;TZID=Europe/Berlin:20200303T090000
DTEND;TZID=Europe/Berlin:20200303T124000
DTSTAMP:20200220T105700Z
URL:https://veranstaltungen.muenchen.de/bauzentrum/veranstaltungen/fachfor
 um-neue-foerder-kriterien/
SUMMARY:Fachforum: Neue Förder-Kriterien 2020
DESCRIPTION:Fachforum\nNeue Förder-Kriterien 2020\nHeizung - Lüftung - So
 larenergie – Effizienzhäuser - Einzelmaßnahmen\n\n&nbsp\;\n\nProgramm 
 (pdf)\n\n&nbsp\;\n\nEintritt kostenfrei\n\n&nbsp\;\n\nAnmeldung erbeten (s
 iehe ganz unten auf dieser Seite)\n\n&nbsp\;\n\nFortbildungspunkte\n\nFort
 bildungspunkte für die Energieeffizienz-Expertenliste wurden beantragt.\n
 \n&nbsp\;\n\nThema\nDie neuen Klimaziele der Bundesregierung führen zu de
 utlichen Veränderungen in der Förderlandschaft. Zusätzlich verändert d
 ie ab 2021 wirksame Einführung des CO2-Preises für Heizöl und Erdgas di
 e Ergebnisse der Wirtschaftlichkeitsberechnungen im Bereich Gebäudestanda
 rds und Heiztechnik. Einer von mehreren neuen Förderbausteinen wird die s
 teuerliche Absetzbarkeit von energetischen Sanierungsmaßnahmen für Eigen
 heimbesitzerinnen und -besitzern sein. Der Markt muss sich somit - neben e
 iner Verteuerung der fossilen Energieträger - auch auf die neue Förderun
 gen für energetische Sanierungen einstellen.\n\n&nbsp\;\n\nHeizungen mit 
 den konventionellen Energieträgern Gas und Heizöl werden ohne zusätzlic
 he umweltfreundliche Komponenten nicht mehr gefördert. Der Energieträger
  Heizöl wird teilweise von der Förderung ausgeschlossen. Nah- und Fernw
 ärme-Anlagen sowie die Optimierung der Heizungsanlage werden weiterhin vo
 n der KfW gefördert. Die Regeln für die energetische Berechnung zum KfW-
 Effizienzhaus wurden differenziert. Mit Fördersätzen von bis zu 45 Proze
 nt wird insbesondere der Umstieg auf regenerative Heizsysteme belohnt.\n\n
 &nbsp\;\n\nDieses Fachgespräch gibt einen Überblick zu aktuellen Förder
 programmen\, erklärt die technische Anforderungen und stellt Praxiserfahr
 ungen vor.\n\n&nbsp\;\n\nDas Bauzentrum München dankt Teresa Sauczek für
  die fachliche Leitung bei der Vorbereitung dieser Veranstaltung.\n\n&nbsp
 \;\n\nDieses Fachforum wird veranstaltet in Kooperation mit: Eigenheimerve
 rband Bayern e.V.\n\n&nbsp\;\n\nProgramm\n\n&nbsp\;\n\n8.45    Begrüß
 ungskaffee\n\n&nbsp\;\n\n9.00    Begrüßung und Einführung\nRoland Gr
 äbel\, Leiter Bauzentrum München\n&nbsp\;\n\n9.10    KfW-Förderung -
  Neues und Bewährtes\nEckard von Schwerin\, KfW Bankengruppe\n&nbsp\;\n\n
 9.35    BAFA-Förderungen Heizung\nAlois Zimmerer\, BAYERNenergie e.V.\
 n&nbsp\;\n\n10.00   Steuerliche Modernisierungsförderung für selbstgen
 utzte Eigenheime\nDr. Martin Raßhofer\, Steuerberater\, Plininger &amp\; 
 Partner PartG mbB\n&nbsp\;\n\n10.25   10.000 Häuser-Programm\nDr. techn
 . Maximiliane Schmiedmayer\,\nBayerisches Staatsministerium für Wirtschaf
 t\, Landesentwicklung und Energie\n&nbsp\;\n\n10.40   Pause\n\n&nbsp\;\n
 \n11.00   Fragen und Diskussion zum ersten Teil\n\n&nbsp\;\n\n11.10   
 Fallstricke für Antragsteller*innen - Erfahrungen eines Energieberaters\n
 Cornelius Schmidt\, Vorstand BAYERNenergie e.V.\n&nbsp\;\n\n11.30   Mün
 chner Förderprogramm Energieeinsparung (FES)\nMartina Contini\, Referat f
 ür Gesundheit und Umwelt\, Sachgebiet FES\n&nbsp\;\n\n11.50   Herstelle
 r-Paketlösungen zur BAFA Förderung "EE - Hybridheizung“\nMarin Jozinov
 ic\, Gebietsverkaufsleiter\, Solvis GmbH\n&nbsp\;\n\n12.10    Wirtschaf
 tlichkeit energetischer Sanierungen:\nModell-Berechnung nach Einführung C
 O2-Preis für fossile Brennstoffe\nCornelius Schmidt\, Vorstand BAYERNener
 gie e.V.\n&nbsp\;\n\n12.30   Abschlussdiskussion\n\n&nbsp\;\n\n12.40  
  Ende der Veranstaltung\n\n&nbsp\;\n\nTeilnahmebestätigung\n\n 	Eine einf
 ache Teilnahmebestätigung (ohne Fortbildungspunkte) ist kostenfrei.\n 	Ei
 ne Teilnahmebestätigung mit Bescheinigung von Fortbildungspunkten für di
 e Energieeffizienz-Experten-Liste kostet 25 Euro.\n 	Falls sie eine Bestä
 tigung benötigen\, bestellen sie diese bitte mit dem bei der Veranstaltun
 g ausgehändigten Formblatt.\n\n&nbsp\;\nDie Veranstaltung ist ausgebucht!
 \n
CATEGORIES:Fachforen - Exkursionen
LOCATION:Bauzentrum München\, Konrad-Zuse-Platz 12 (Eingang: Konrad-Zuse-P
 latz 8)\, München\, Bayern\, 81829\, Deutschland
GEO:48.138166;11.689028
X-APPLE-STRUCTURED-LOCATION;VALUE=URI;X-ADDRESS=Konrad-Zuse-Platz 12 (Einga
 ng: Konrad-Zuse-Platz 8)\, München\, Bayern\, 81829\, Deutschland;X-APPLE
 -RADIUS=100;X-TITLE=Bauzentrum München:geo:48.138166,11.689028
END:VEVENT
BEGIN:VTIMEZONE
TZID:Europe/Berlin
X-LIC-LOCATION:Europe/Berlin
BEGIN:STANDARD
DTSTART:20191027T020000
TZOFFSETFROM:+0200
TZOFFSETTO:+0100
TZNAME:CET
END:STANDARD
END:VTIMEZONE
END:VCALENDAR