
BEGIN:VCALENDAR
VERSION:2.0
PRODID:-//wp-events-plugin.com//6.6.3//EN
TZID:Europe/Berlin
X-WR-TIMEZONE:Europe/Berlin
BEGIN:VEVENT
UID:0-746@veranstaltungen.muenchen.de
DTSTART;TZID=Europe/Berlin;VALUE=DATE:20250428
DTEND;TZID=Europe/Berlin;VALUE=DATE:20250802
DTSTAMP:20250701T074007Z
URL:https://veranstaltungen.muenchen.de/bauzentrum/veranstaltungen/energie
 beratung-im-quartier-kruener-platz/
SUMMARY:Quartier St.-Veit-Straße: Anmeldung für kostenfreie einstündige 
 Vor-Ort-Energieberatung
DESCRIPTION:\n\n\nRegistrieren Sie sich für die neue Kampagne im Quartier 
 St.-Veit-Straße mit einer Laufzeit vom 19.05.2025 bis zum 01.08.2025.\n\n
 &nbsp\;\n\nDie Landeshauptstadt München unterstützt Sie als Hauseigentü
 mer*in im Rahmen der Energieberatungskampagne rund um das Quartier St.-Vei
 t-Straße bei Energieeinsparungen an und in Ihrem Wohngebäude.\n\n&nbsp\;
 \n\nNutzen Sie vom 19. Mai bis 11. Juli 2025 die kostenfreie Gebäude-Ener
 gieberatung direkt bei Ihnen zuhause. Erhalten Sie unabhängiges Expert*in
 nenwissen\, Informationen zu Fördermitteln und Energieeffizienz und erfah
 ren Sie\, wie Sie Ihre Strom- und Wärmeversorgung mit erneuerbaren Energi
 en umsetzen können.\n\n&nbsp\;\n\nAls Eigentümer*in eines Ein-\, Zwei- o
 der Dreifamilienhauses im Quartier St.-Veit-Straße können Sie sich bis z
 um 1. August 2025 für eine individuelle\, unabhängige und kostenfreie\, 
 Energieberatung anmelden.\n\n&nbsp\;\n\nBeratungsberechtigt sind ausschlie
 ßlich Eigentümer*innen von Ein-\, Zwei- oder Dreifamilienhäusern. Hierb
 ei gilt\, dass einzelne Eigentümer*innen innerhalb einer Wohnungseigentü
 mergemeinschaft (WEG) nur mit Vertretung durch die Hausverwaltung beraten 
 werden können.\n\n&nbsp\;\n\nNutzen Sie die Zeit bis zu Ihrer Beratung un
 d bereiten Sie den Besuch vor. Legen Sie die wichtigsten Unterlagen zu Ihr
 em Gebäude bereit und verwenden Sie hierfür gerne unsere Pdf-Checkliste 
 auf der Quartiers-Webseite.\n\n&nbsp\;\n\nHinweis: Das Anmeldeformular fin
 den Sie ganz unten auf dieser Seite.\n\n&nbsp\;\n\nSie haben ein Anliegen\
 , Kritik oder ein Lob?\n\n&nbsp\;\n\nSchreiben Sie uns an energieberatung.
 rku@muenchen.de\n\n&nbsp\;\n\nVielen Dank.\nIhr Team Energieberatung im Qu
 artier\n\n\n
CATEGORIES:Sonder-Veranstaltungen
END:VEVENT
BEGIN:VTIMEZONE
TZID:Europe/Berlin
X-LIC-LOCATION:Europe/Berlin
BEGIN:DAYLIGHT
DTSTART:20250330T030000
TZOFFSETFROM:+0100
TZOFFSETTO:+0200
TZNAME:CEST
END:DAYLIGHT
END:VTIMEZONE
END:VCALENDAR