
BEGIN:VCALENDAR
VERSION:2.0
PRODID:-//wp-events-plugin.com//6.6.3//EN
TZID:Europe/Berlin
X-WR-TIMEZONE:Europe/Berlin
BEGIN:VEVENT
UID:0-1677@veranstaltungen.muenchen.de
DTSTART;TZID=Europe/Berlin:20250213T140000
DTEND;TZID=Europe/Berlin:20250213T170000
DTSTAMP:20250212T105146Z
URL:https://veranstaltungen.muenchen.de/bauzentrum/veranstaltungen/bottom-
 up-kommunikationsstrategien/
SUMMARY:Bauzentrum Präsenz-Forum: Bottom-Up Kommunikationsstrategien – B
 ürgerbeteiligung für ein lebendiges\, klimaneutrales Quartier
DESCRIPTION:\n\nOffenes Präsenz-Forum im Bauzentrum München\n\n&nbsp\;\n\
 nKlimaneutrale und klimaresiliente Stadtquartiere\nBottom-Up Kommunikation
 sstrategien –\nBürgerbeteiligung für ein lebendiges\, klimaneutrales Q
 uartier\n&nbsp\;\n\nTeilnahme kostenfrei - Online-Anmeldung erforderlich -
  siehe unten\n\n&nbsp\;\n\nThema\n\nIn der heutigen Zeit sind die Erwartun
 gen an die Stadtplanung umfassender denn je. Es geht dabei um die Erarbeit
 ung und Realisierung von wünschenswerten\, den menschlichen Bedürfnissen
  angepassten Lebensräumen. Die hierfür notwendigen räumlichen Konzepte 
 und Prozesse müssen dabei\, neben Klimaschutzzielen\, insbesondere auch 
 ökonomische\, soziale\, gestalterische und technische Gesichtspunkte ber
 ücksichtigen. Gemeinsam mit allen Beteiligten gilt es\, Potenziale im Bes
 tehenden zu entdecken und nachhaltige Zukunftskonzepte neu zu denken. Um g
 rößtmögliche Akzeptanz und Identifizierung mit den notwendigen Maßnahm
 en herzustellen\, ist es wichtig\, die betroffenen Bürger*innen aktiv in 
 die Planungsprozesse einzubeziehen und ihre Ideen und Vorschläge in der U
 msetzung zu berücksichtigen. Doch wie kann dies gelingen?\n\n&nbsp\;\n\nD
 ieses offene Präsenz-Forum gibt in drei Impulsvorträgen Einblicke in umg
 esetzte Projekte der Bürgerbeteiligung und stellt partizipative Methoden 
 vor\, wie gemeinsam mit allen Beteiligten zukunftsfähige Konzepte erarbei
 tet werden können.\n\n&nbsp\;\n\nIm abschließenden Podiumsgespräch sind
  Teilnehmende eingeladen gemeinsam mit den fünf Podiumsgästen über die 
 Herausforderungen und Chancen von Bottom-Up Kommunikationsstrategien und B
 ürgerbeteiligung zu diskutieren. Fragen aus dem Publikum werden dabei ger
 ne aufgegriffen. Teilnehmende haben die Möglichkeit\, schon im Vorfeld de
 r Veranstaltung ihre Fragen für das Podiumsgespräch einzureichen.\nBitte
  nutzen Sie dafür den folgenden Link: Fragen-einreichen\n\n&nbsp\;\n\nRef
 erent*innen und Podiumsgäste:\n• Silvia Gonzalez\, GreenCity e.V.\n• 
 Sebastian Clausen\, Stadt- und Mobilitätsplaner\, Amt für Verkehrsplanun
 g\, Stadt Bern\n• Eva Beham\, nonconform ideenwerkstatt GmbH\n• Thekla
  Zechner\, Referat für Klima- und Umweltschutz\, Landeshauptstadt Münche
 n\n• Maren Schüpphaus\, Münchner Initiative Nachhaltigkeit\n\n&nbsp\;\
 n\nDas Bauzentrum München dankt Naomi Morishita-Steffen für die fachlich
 e Leitung bei der Vorbereitung dieser Veranstaltung sowie Prof. Dr.in Simo
 ne Linke für die Moderation.\n\n&nbsp\;\n\nForums-Reihe „Klimaneutrale 
 und klimaresiliente Quartiere“\nDie Landeshauptstadt München richtet ih
 r Augenmerk verstärkt auf einzelne\, kleinere Wohnquartiere um ihre Ziele
  für Klimaneutralität und Klimaresilienz zu erreichen. Durch die Verbess
 erung der Energieeffizienz und den Einsatz erneuerbarer Energien sollen m
 öglichst viele Quartiere bis 2035 klimaneutral werden. Gleichzeitig müss
 en die Quartiere - inklusive ihrer Freiflächen - an den Klimawandel angep
 asst werden. Im Rahmen der Quartiersarbeit werden dabei auch Themen wie Na
 chverdichtung\, Mobilität\, Kreislaufwirtschaft\, Ernährung\, Konsum\, n
 achhaltige Bildung und soziale Aspekte mit einbezogen. Diese Forums-Reihe 
 bietet in jeder Veranstaltung einen vertieften Themenschwerpunkt zur klima
 neutralen und klimaresilienten Weiterentwicklung von Bestandsquartieren un
 d gibt Einblicke in die neuen städteplanerischen Anforderungen.\n\n&nbsp\
 ;\n\nProgramm\n\n&nbsp\;\n\n14:00\nBegrüßungskaffee\n\n&nbsp\;\n\n14.15\
 nBegrüßung\, Einführung und Moderation\nChristoph Tenbusch\, Bauzentrum
  München\nProf. Dr. Simone Linke\, Hochschule Weihenstephan-Triesdorf\,\n
 Fakultät Landschaftsarchitektur\n\n&nbsp\;\n\n14:30\nAktive Umsetzung der
  Klimaanpassungsziele in Begrünungsprojekten mit Bürger*innen\nSilvia Go
 nzalez\, GreenCity e.V.\n\n&nbsp\;\n\n14:45\nFragen zum Vortrag\n\n&nbsp\;
 \n\n14:55\nBottom-Up Quartiersgestaltung durch Kinderparlament:\nMit Kinde
 rn in Bern Spielstraßen bauen\nSebastian Clausen\, Stadt- und Mobilitäts
 planer\, Amt für Verkehrsplanung\, Stadt Bern\n\n&nbsp\;\n\n15:10\nFragen
  zum Vortrag\n\n&nbsp\;\n\n15:20\nKaffeepause\n\n&nbsp\;\n\n15:40\nmiteina
 nder weiterdenken:\nDen schönsten gemeinsamen Nenner für eine Quartierse
 ntwicklung mit Zukunft finden\nEva Beham\, nonconform ideenwerkstatt GmbH\
 n\n&nbsp\;\n\n15:55\nFragen zum Vortrag\n\n&nbsp\;\n\n16:05\nPodiumsdiskus
 sion\nmit den Referent*innen und\nThekla Zechner\, Referat für Klima- und
  Umweltschutz\, Landeshauptstadt München\nMaren Schüpphaus\, Münchner I
 nitiative Nachhaltigkeit\n\n&nbsp\;\n\n17:00\nEnde der Veranstaltung\n\n&n
 bsp\;\n\n&nbsp\;\n\nTeilnahmebestätigung\n\n 	Falls sie eine Teilnahme-Be
 stätigung benötigen (ggf. inkl. Fortbildungsode für die Energieeffizien
 z-Experten-Liste) muss diese kostenpflichtig (25 Euro) mittels Formblatt (
 wird bei der Veranstaltung ausgehändigt) bestellt werden.\n 	Für Mitarbe
 iter*innen der Landeshauptstadt München ist die Bestätigung kostenfrei u
 nd kann formlos per E-Mail bestellt werden.\n
CATEGORIES:Fachforen - Exkursionen
LOCATION:Bauzentrum München\, Konrad-Zuse-Platz 12 (Eingang: Konrad-Zuse-P
 latz 8)\, München\, Bayern\, 81829\, Deutschland
GEO:48.138166;11.689028
X-APPLE-STRUCTURED-LOCATION;VALUE=URI;X-ADDRESS=Konrad-Zuse-Platz 12 (Einga
 ng: Konrad-Zuse-Platz 8)\, München\, Bayern\, 81829\, Deutschland;X-APPLE
 -RADIUS=100;X-TITLE=Bauzentrum München:geo:48.138166,11.689028
END:VEVENT
BEGIN:VTIMEZONE
TZID:Europe/Berlin
X-LIC-LOCATION:Europe/Berlin
BEGIN:STANDARD
DTSTART:20241027T020000
TZOFFSETFROM:+0200
TZOFFSETTO:+0100
TZNAME:CET
END:STANDARD
END:VTIMEZONE
END:VCALENDAR