
BEGIN:VCALENDAR
VERSION:2.0
PRODID:-//wp-events-plugin.com//6.6.3//EN
TZID:Europe/Berlin
X-WR-TIMEZONE:Europe/Berlin
BEGIN:VEVENT
UID:0-733@veranstaltungen.muenchen.de
DTSTART;TZID=Europe/Berlin:20221020T140000
DTEND;TZID=Europe/Berlin:20221020T173000
DTSTAMP:20220912T101843Z
URL:https://veranstaltungen.muenchen.de/bauzentrum/veranstaltungen/bayeris
 che-architektenkammer-online-veranstaltung-bodenaushub-ressource-oder-abfa
 ll/
SUMMARY:Bayerische Architektenkammer Online-Veranstaltung: Bodenaushub: Res
 source oder Abfall?
DESCRIPTION:\n\nOnline-Veranstaltung der Bayerischen Architektenkammer in K
 ooperation mit dem Bauzentrum München\n\n&nbsp\;\nBodenaushub: Ressource 
 oder Abfall?\nRechtssicherer Umgang mit Bodenaushub bei Baumaßnahmen\n&nb
 sp\;\n\nhttps://www.byak.de/veranstaltungen/akademie-fuer-fort-und-weiterb
 ildung/veranstaltung/22367-bodenaushub-ressource-oder-abfall-rechtssichere
 r-umgang-mit-bodenaushub-bei-bauma-nahmen.html
CATEGORIES:Partner*innen-Veranstaltungen
END:VEVENT
BEGIN:VTIMEZONE
TZID:Europe/Berlin
X-LIC-LOCATION:Europe/Berlin
BEGIN:DAYLIGHT
DTSTART:20220327T030000
TZOFFSETFROM:+0100
TZOFFSETTO:+0200
TZNAME:CEST
END:DAYLIGHT
END:VTIMEZONE
END:VCALENDAR