
BEGIN:VCALENDAR
VERSION:2.0
PRODID:-//wp-events-plugin.com//6.6.3//EN
TZID:Europe/Berlin
X-WR-TIMEZONE:Europe/Berlin
BEGIN:VEVENT
UID:0-558@veranstaltungen.muenchen.de
DTSTART;TZID=Europe/Berlin:20220217T090000
DTEND;TZID=Europe/Berlin:20220217T120000
DTSTAMP:20220131T073343Z
URL:https://veranstaltungen.muenchen.de/bauzentrum/veranstaltungen/bauzent
 rum-web-seminar-kompakt-wdvs/
SUMMARY:Bauzentrum Web-Seminar Kompakt: Wärmedämmverbundsysteme: Einbau-Q
 ualität und Wartungskosten kontrollieren
DESCRIPTION:Web-Seminar Kompakt vom Bauzentrum München\nWärmedämmverbund
 systeme: Einbau-Qualität und Wartungskosten kontrollieren\nPflege\, Wartu
 ng und Ertüchtigung bestehender WDVS\n\n&nbsp\;\n\nAnerkannte Fortbildung
 spunkte Energieeffizienz-Expertenliste:\n\n4 Unterrichtseinheiten Wohngeb
 äude\n4 Unterrichtseinheiten Nichtwohngebäude\n4 Unterrichtseinheiten En
 ergieaudit DIN 16247\n\n&nbsp\;\n\nDiese Veranstaltung findet statt in Koo
 peration mit GIH Bayern e.V. und der Bayerischen Architektenkammer.\n\n&n
 bsp\;\n\nSchriftliche Anmeldung erforderlich\nEntweder direkt online (sieh
 e ganz unten auf dieser Seite)\noder mit dem Anmeldeformular (pdf) per E-M
 ail oder Fax.\n\nBestellschein Abo-Teilnahmekarten (pdf)\n\n&nbsp\;\n\nAll
 e Online-Veranstaltungen vom Bauzentrum München werden mit Webex Events d
 urchgeführt.\nAngemeldete Personen erhalten rechtzeitig (in der Regel am 
 Tag vor der Veranstaltung) den Teilnahme-Link per E-Mail.\n\n&nbsp\;\n\nRe
 ferent\n\nJürgen Gänßmantel\, Dipl.-Ing. (FH)\nIngenieur- und Sachverst
 ändigenbüro\, ö.b.u.v. Sachverständiger (IHK)\, Sachverständiger für
  Energieef-fizienz von Gebäuden (EIPOS)\, Energieberater Baudenkmale\, Mi
 tgründer und Vorsitzender des Fach-verbands Innendämmung e.V. (FVID)\, a
 ktives Mitglied in der WTA\, Lehrbeauftragter\n\n&nbsp\;\n\nThema\n\nDie A
 nwendung von Wärmedämmverbundsystemen (WDVS) ist ein Prozess\, bei dem j
 eder einzelne Prozessschritt maßgeblich Einfluss auf den Gesamterfolg hat
 . Eine baubegleitende Kontrolle der Einbauqualität ist ein wichtiger Beit
 rag\, die Langlebigkeit von WDVS von der Planung über die Ausführungsqua
 lität bis hin zur Nutzung zu verbessern. Prävention im Bauwesen hilft da
 bei\, unnötige Schäden zu vermeiden und die Kosten zu optimieren. Eine L
 ebenszyklusbetrachtung dieser\, zum Erreichen der Klimaschutzziele wichtig
 en\, energetischen Sanierungsmaßnahme an der Gebäudehülle anstelle der 
 reinen Fokussierung auf die Investitionskosten berücksichtigt die Pflege\
 , Wartung und Ertüchtigung bestehender WDVS. Die Instandhaltung muss von 
 Beginn an in diesen Prozess integriert werden.\n\n&nbsp\;\n\nInhalt\n\nAuf
  der Basis der einzelnen Prozessschritte bei der Herstellung eines WDVS wi
 rd das Zusammenspiel der unterschiedlichen Einflussgrößen und ihre Auswi
 rkung untereinander betrachtet:\n• Bedeutung und Anwendung der allgemein
 en bauaufsichtlichen Zulassung (abZ)\n• Berücksichtigung einschlägiger
  Normen\n• Ablauf einer baubegleitenden Qualitätskontrolle\n• Betrach
 tung der einzelnen WDVS-Prozessschritte\, vom Untergrund bis zum Anstrich\
 n• Typische Schadensbilder\, Möglichkeiten der Prävention\n• Lebensd
 auer von WDVS und Einflussgrößen\n• Lebenszyklusbetrachtung technisch 
 und ökonomisch\n• Instandhaltungs-Konzepte: Pflege\, Inspektion\, Wartu
 ng und Ertüchtigung von WDVS\n• Berücksichtigung von Sonderbauteilen\,
  z.B. Anschlüsse\, Fugen und Sockel\n\n&nbsp\;\n\nZielgruppe\n\nArchitekt
 *innen\, Planer*innen\, Bauingenieur*innen\, Energieberater*innen\, Sachve
 rständige\, Handwerker*innen\, Bauträger\, Bauunternehmen\, technisch in
 teressierte Hausverwalter*innen\n\n&nbsp\;\n\nHinweis\n\nDie Bezahlung erf
 olgt ausschließlich per Überweisung nach Erhalt einer Rechnung. Die Rech
 nungsstellung erfolgt nach der Veranstaltung.
CATEGORIES:Seminare
END:VEVENT
BEGIN:VTIMEZONE
TZID:Europe/Berlin
X-LIC-LOCATION:Europe/Berlin
BEGIN:STANDARD
DTSTART:20211031T020000
TZOFFSETFROM:+0200
TZOFFSETTO:+0100
TZNAME:CET
END:STANDARD
END:VTIMEZONE
END:VCALENDAR