
BEGIN:VCALENDAR
VERSION:2.0
PRODID:-//wp-events-plugin.com//6.6.3//EN
TZID:Europe/Berlin
X-WR-TIMEZONE:Europe/Berlin
BEGIN:VEVENT
UID:0-566@veranstaltungen.muenchen.de
DTSTART;TZID=Europe/Berlin:20220524T150000
DTEND;TZID=Europe/Berlin:20220524T180000
DTSTAMP:20220525T093652Z
URL:https://veranstaltungen.muenchen.de/bauzentrum/veranstaltungen/bauzent
 rum-web-seminar-kompakt-hoai-teil-2/
SUMMARY:Bauzentrum Web-Seminar Kompakt: Die HOAI beim Planen und Bauen im B
 estand – Teil 2
DESCRIPTION:Web-Seminar Kompakt vom Bauzentrum München\nDie HOAI beim Plan
 en und Bauen im Bestand – Teil 2\n\n 	Berechnung der mitzuverarbeitenden
  Bausubstanz gem. § 4 Abs. 3 HOAI\n 	Vereinbarung des Umbau- oder Moderni
 sierungszuschlags gem. § 6 Abs. 2 Nr. 5 HOAI\n\n&nbsp\;\n\nAnerkannte For
 tbildungspunkte Energieeffizienz-Expertenliste:\n\n0 Unterrichtseinheiten 
 Wohngebäude\n0 Unterrichtseinheiten Nichtwohngebäude\n0 Unterrichtseinhe
 iten Energieaudit DIN 16247\n\n&nbsp\;\n\nSchriftliche Anmeldung erforderl
 ich\nEntweder direkt online (siehe ganz unten auf dieser Seite)\noder mit 
 dem Anmeldeformular (pdf) per E-Mail oder Fax.\n\nBestellschein Abo-Teilna
 hmekarten (pdf)\n\n&nbsp\;\n\nDiese Veranstaltung findet statt in Kooperat
 ion mit der Bayerischen Architektenkammer.\n\n&nbsp\;\n\nAlle Online-Veran
 staltungen vom Bauzentrum München werden mit Webex durchgeführt.\nAngeme
 ldete Personen erhalten rechtzeitig (in der Regel am Tag vor der Veranstal
 tung) den Teilnahme-Link per E-Mail.\n\n&nbsp\;\n\nReferent\n\nWolfgang Jo
 bst\, Dipl.-Ing. (FH)\,\nArchitekt BDB und öffentlich bestellter Sachvers
 tändiger für Honorare für Leistungen der Architekten und Innenarchitekt
 en\, freischaffend tätig als Honorarsachverständiger\, sowie als Referen
 t und Berater\, verantwortlicher Planer und Projektsteuerer bei Umbau oder
  Modernisierung insbesondere im denkmalgeschützten Bereich\n\n&nbsp\;\n\n
 Thema\n\nDie Auseinandersetzung mit dem Planen und Bauen im Bestand\, insb
 esondere im Bereich historischer Bausubstanz\, wird und muss in Zukunft ei
 ne immer eine größere Rolle im Baubereich spielen. Die HOAI\, die auch i
 n ihrer novellierten Fassung 2021 im Wesentlichen wieder als reine Neubauv
 erordnung konzipiert wurde\, setzt sich mit der Honorarberechnung beim Pla
 nen im Bestand nur am Rande und in Teilbereichen auseinander. Es gibt in d
 ieser Verordnung an verschiedensten Stellen Abrechnungsvorschriften\, die 
 sich mit dieser Thematik des Planens und Bauens im Bestand beschäftigen. 
 Es wird dort versucht diese besonderen Honorarprobleme mehr oder weniger v
 erständig zu regeln. Deshalb ist es erforderlich\, dass einerseits beim A
 bschluss von Architekten- und Ingenieurverträgen sowie andererseits bei d
 er Abrechnung der erbrachten Planungsleistungen den beiden Vertragsparteie
 n diese speziellen Vorschriften und deren Konsequenzen bekannt sind\, so d
 ass diese auch von den Vertragsparteien entsprechend HOAI-konform angewend
 et werden können. In diesem Seminar wird einerseits die sachgerechte Bere
 chnung der mitzuverarbeitenden Bausubstanz gem. nach § 4 Abs. 3 HOAI erl
 äutert und mittels verschiedener Bespiele exemplarisch dargestellt. Ander
 erseits ist neben der mitzuverarbeitenden Bausubstanz die Vereinbarung des
  Umbau- oder Modernisierungszuschlags gem. § 6 Abs. 2 Nr. 5 HOAI ein weit
 erer wesentlicher Baustein zur Honorargestaltung. Es wird erläutert\, wel
 che Kriterien die Höhe eines zu verhandelnden Zuschlags bestimmen können
 .\n\n&nbsp\;\n\nInhalt\n\n 	Berechnung der mitzuverarbeitenden Bausubstanz
 \n 	Beispielberechnungen\n 	Vereinbarung eines auskömmlichen Umbauzuschla
 gs\n\n&nbsp\;\n\nZielgruppe\n\nPlaner*innen und Auftraggeber*innen\, die s
 ich speziell mit der Aufgabenstellung des Planens und Bauens im Bestand au
 seinandersetzen.\n\n&nbsp\;\n\nHinweis\n\nDie Bezahlung erfolgt ausschlie
 ßlich per Überweisung nach Erhalt einer Rechnung. Die Rechnungsstellung 
 erfolgt nach der Veranstaltung.
CATEGORIES:Seminare
END:VEVENT
BEGIN:VTIMEZONE
TZID:Europe/Berlin
X-LIC-LOCATION:Europe/Berlin
BEGIN:DAYLIGHT
DTSTART:20220327T030000
TZOFFSETFROM:+0100
TZOFFSETTO:+0200
TZNAME:CEST
END:DAYLIGHT
END:VTIMEZONE
END:VCALENDAR