
BEGIN:VCALENDAR
VERSION:2.0
PRODID:-//wp-events-plugin.com//6.6.3//EN
TZID:Europe/Berlin
X-WR-TIMEZONE:Europe/Berlin
BEGIN:VEVENT
UID:0-918@veranstaltungen.muenchen.de
DTSTART;TZID=Europe/Berlin:20231018T090000
DTEND;TZID=Europe/Berlin:20231018T120000
DTSTAMP:20230804T110031Z
URL:https://veranstaltungen.muenchen.de/bauzentrum/veranstaltungen/bauzent
 rum-web-seminar-kompakt-feuchte-waende/
SUMMARY:Bauzentrum Web-Seminar Kompakt: Sanierung feuchter und versalzter W
 ände
DESCRIPTION:        \n\n&nbsp\;\n\nWeb-Seminar Kompakt vom Bauzentrum M
 ünchen\nin Kooperation mit GIH Bayern e.V. und der Bayerischen Architekte
 nkammer\n\n&nbsp\;\nSanierung feuchter und versalzter Wände\nVermeidung v
 on Feuchte-Eintrag in der Bauphase\n&nbsp\;\n\nAnerkannte Fortbildungspunk
 te Energieeffizienz-Expertenliste:\n\n4 Unterrichtseinheiten Wohngebäude\
 n4 Unterrichtseinheiten Nichtwohngebäude\n4 Unterrichtseinheiten Energiea
 udit DIN 16247\n\n&nbsp\;\n\nSchriftliche Anmeldung erforderlich\nEntweder
  direkt online (siehe ganz unten auf dieser Seite)\noder mit dem Anmeldefo
 rmular (pdf) per E-Mail oder Fax.\n\nBestellschein Abo-Teilnahmekarten (pd
 f)\n\n&nbsp\;\n\nAlle Online-Veranstaltungen vom Bauzentrum München werde
 n mit Webex durchgeführt.\nAngemeldete Personen erhalten rechtzeitig (in 
 der Regel am Tag vor der Veranstaltung) den Teilnahme-Link per E-Mail.\n\n
 &nbsp\;\n\nReferent\n\nJürgen Gänßmantel\, Dipl.-Ing. (FH)\nIngenieur- 
 und Sachverständigenbüro\, Kaufbeuren\, ö.b.u.v. Sachverständiger (IHK
 )\, Sachverständiger für Energieeffizienz von Gebäuden (EIPOS)\, Energi
 eberater Baudenkmale (WTA)\, Mitgründer und Mitglied im Vorstand des Fach
 verbands Innendämmung e.V. (FVID)\, aktives Mitglied in der WTA\, Lehrbea
 uftragter\n\n&nbsp\;\n\nThema\n\nDie Beseitigung von Schäden aufgrund von
  Durchfeuchtung und Versalzung (besonders an erdberührten Bauteilen) stel
 lt ein wichtiges Aufgabengebiet des Bautenschutzes und eine wichtige techn
 ische Vorbereitungsmaßnahme zur energetischen Sanierung von Gebäuden dar
 . Viele Wände älterer Bestandsgebäude sind durch Feuchtigkeit\, mikrobi
 ologischen Befall und fehlende beziehungsweise falsche Nutzung langfristig
  geschädigt. Zunehmend an Bedeutung gewinnt aber auch die Vermeidung der 
 Durchfeuchtung der Bauteile während der Bauphase\, insbesondere mit Blick
  auf das geringe Austrocknungs- und das hohe Wasseraufnahme-Vermögen der 
 auf Energieeffizienz optimierten Baustoffe.\n\n&nbsp\;\n\nInhalt\n\nAuf de
 r Basis langjähriger Praxis-Erfahrungen werden die grundsätzlichen Wege 
 zur nachhaltigen Sanierung feuchter und versalzter Wände im Überblick da
 rgestellt:\n\n 	Allgemein anerkannte Regeln der Technik\n 	Sanierungskonze
 pt\, Nutzungsanforderungen\, Bestandsaufnahme\n 	Definition\, Ausschreibun
 g und Realisierung dauerhafter Maßnahmen\n 	Grundlagen nachträglicher Ab
 dichtungskonzepte\, Putz-Reparaturen\, Anstrich-Arbeiten\n 	Vermeidung der
  Durchfeuchtung während der Bauphase\n\n&nbsp\;\n\nZielgruppe\n\nArchitek
 t*innen\, Planer*innen\, Bauingenieur*innen\, Energieberater*innen\, Sachv
 erständige\, Handwerker*innen\, Bauträger\, Bauunternehmen\, technisch i
 nteressierte Hausverwalter*innen\n\n&nbsp\;\n\nHinweis\n\nDie Bezahlung er
 folgt ausschließlich per Überweisung nach Erhalt einer Rechnung. Die Rec
 hnungsstellung erfolgt nach der Veranstaltung.
CATEGORIES:Seminare
END:VEVENT
BEGIN:VTIMEZONE
TZID:Europe/Berlin
X-LIC-LOCATION:Europe/Berlin
BEGIN:DAYLIGHT
DTSTART:20230326T030000
TZOFFSETFROM:+0100
TZOFFSETTO:+0200
TZNAME:CEST
END:DAYLIGHT
END:VTIMEZONE
END:VCALENDAR