
BEGIN:VCALENDAR
VERSION:2.0
PRODID:-//wp-events-plugin.com//6.6.3//EN
TZID:Europe/Berlin
X-WR-TIMEZONE:Europe/Berlin
BEGIN:VEVENT
UID:0-557@veranstaltungen.muenchen.de
DTSTART;TZID=Europe/Berlin:20220224T100000
DTEND;TZID=Europe/Berlin:20220224T130000
DTSTAMP:20220128T105638Z
URL:https://veranstaltungen.muenchen.de/bauzentrum/veranstaltungen/bauzent
 rum-web-seminar-kompakt-brandschutz-tga/
SUMMARY:Bauzentrum Web-Seminar Kompakt: Brandschutz in der Technischen Geb
 äudeausrüstung (TGA)
DESCRIPTION:Web-Seminar Kompakt vom Bauzentrum München\nBrandschutz in der
  Technischen Gebäudeausrüstung (TGA)\n&nbsp\;\n\nAnerkannte Fortbildungs
 punkte Energieeffizienz-Expertenliste:\n\n1 Unterrichtseinheiten Wohngebä
 ude\n1 Unterrichtseinheiten Nichtwohngebäude\n1 Unterrichtseinheiten Ener
 gieaudit DIN 16247\n\n&nbsp\;\n\nSchriftliche Anmeldung erforderlich\nEntw
 eder direkt online (siehe ganz unten auf dieser Seite)\noder mit dem Anmel
 deformular (pdf) per E-Mail oder Fax.\n\nBestellschein Abo-Teilnahmekarten
  (pdf)\n\n&nbsp\;\n\nDiese Veranstaltung findet statt in Kooperation mit d
 er Bayerischen Architektenkammer.\n\n&nbsp\;\n\nAlle Online-Veranstaltunge
 n vom Bauzentrum München werden mit Webex Events durchgeführt.\nAngemeld
 ete Personen erhalten rechtzeitig (in der Regel am Tag vor der Veranstaltu
 ng) den Teilnahme-Link per E-Mail.\n\n&nbsp\;\n\nReferent\n\nChristian Tö
 pfel-Gruber\, Dipl.-Ing.\,\nMitarbeiter im vorbeugenden Brandschutz der Be
 rufsfeuerwehr Augsburg\, Energieberatungen für Wohn- und Nichtwohngebäud
 e\, BlowerDoor-Messungen\n\n&nbsp\;\n\nThema\n\nDie Technische Gebäudeaus
 rüstung überbrückt\, durchdringt oder nutzt vielfältige Bauteile. Unte
 r anderem auch Bauteile mit brandschutztechnischen Anforderungen\, die dad
 urch beeinträchtigt werden. Zudem ergeben sich auch Wechselwirkungen mit 
 der Nutzung von Räumen\, wie z.B. den Rettungswegen und Fluren. Als Teil 
 eines brandschutztechnischen Gesamtkonzeptes ist es wichtig die Bedeutung 
 der einzelnen Komponenten zu erkennen. In diesem Seminar werden die Funkti
 onen dieser Bauteile oder Nutzungsaspekte verschiedener Räume aufgezeigt.
  Daraus ergeben sich Anforderungen und Möglichkeiten im Rahmen der Planun
 g der TGA. An exemplarischen Beispielen werden diese erläutert. Auch form
 elle Details\, wie baurechtliche Zulassungen\, Fachunternehmererklärungen
  und die Dokumentationspflichten werden dargestellt.\n\n&nbsp\;\n\nInhalt\
 n\nAnhand typischer Beispiele werden für folgende Bauteile die Problemste
 llungen vorgestellt und Lösungswege erläutert:\n- Rettungswege: Anforder
 ungen bei Treppenhäusern und notwendigen Fluren\n- Wände und Decken mit 
 Brandschutz-Anforderung\n- Feuer und Rauch: Verschiedene Gefahren\, versch
 iedene Anforderungen\n- Brandschutzkonzepte verstehen\n- Auswahl geeignete
 r Brandschutzprodukte\n- Dokumentation\n\n&nbsp\;\n\nZielgruppe\n\nBauinge
 nieur*innen\, Architekt*innen\, Sachverständige\, Handwerker*innen\, Baut
 räger*innen\, Bauherr*innen\, Baufirmen\, Versicherungen\, Unternehmer*in
 nen\, Rechtsanwälte*innen\, Hausverwaltungen\, Beirät*innen\, Makler*inn
 en\, Immobilienfachwirt*innen und Studierende der Fachrichtung Bau\n\n&nbs
 p\;\n\nHinweis\n\nDie Bezahlung erfolgt ausschließlich per Überweisung n
 ach Erhalt einer Rechnung. Die Rechnungsstellung erfolgt nach der Veransta
 ltung.
CATEGORIES:Seminare
END:VEVENT
BEGIN:VTIMEZONE
TZID:Europe/Berlin
X-LIC-LOCATION:Europe/Berlin
BEGIN:STANDARD
DTSTART:20211031T020000
TZOFFSETFROM:+0200
TZOFFSETTO:+0100
TZNAME:CET
END:STANDARD
END:VTIMEZONE
END:VCALENDAR