
BEGIN:VCALENDAR
VERSION:2.0
PRODID:-//wp-events-plugin.com//6.6.3//EN
TZID:Europe/Berlin
X-WR-TIMEZONE:Europe/Berlin
BEGIN:VEVENT
UID:0-737@veranstaltungen.muenchen.de
DTSTART;TZID=Europe/Berlin:20221108T100000
DTEND;TZID=Europe/Berlin:20221108T130000
DTSTAMP:20221107T091505Z
URL:https://veranstaltungen.muenchen.de/bauzentrum/veranstaltungen/bauzent
 rum-web-seminar-kompakt-baubegleitung-beg/
SUMMARY:Bauzentrum Web-Seminar Kompakt: Energetische Fachplanung und Baubeg
 leitung im Rahmen der BEG
DESCRIPTION:              \n\n&nbsp\;\n\nWeb-Seminar Kompakt vom Ba
 uzentrum München in Kooperation der Bayerischen Architektenkammer\n\nEner
 getische Fachplanung und Baubegleitung im Rahmen der BEG\n\n 	Die erforder
 lichen Expertenleistungen im Überblick\n 	Grundlagen für die Bestätigun
 g nach Durchführung (BnD)\n\n&nbsp\;\n\nAnerkannte Fortbildungspunkte Ene
 rgieeffizienz-Expertenliste:\n\n4 Unterrichtseinheiten Wohngebäude\n0 Unt
 errichtseinheiten Nichtwohngebäude\n0 Unterrichtseinheiten Energieaudit D
 IN 16247\n\n&nbsp\;\n\nSchriftliche Anmeldung erforderlich\nEntweder direk
 t online (siehe ganz unten auf dieser Seite)\noder mit dem Anmeldeformular
  (pdf) per E-Mail oder Fax.\n\nBestellschein Abo-Teilnahmekarten (pdf)\n\n
 &nbsp\;\n\nAlle Online-Veranstaltungen vom Bauzentrum München werden mit 
 Webex durchgeführt.\nAngemeldete Personen erhalten rechtzeitig (in der Re
 gel am Tag vor der Veranstaltung) den Teilnahme-Link per E-Mail.\n\n&nbsp\
 ;\n\nReferent\n\nRainer Feldmann\, Bauingenieur und Zimmermann\nSeit 2002 
 externer Sachverständiger der KfW\, Energieeffizienz-Experte mit eigenem 
 Büro in Darmstadt. Mitgründer der Effizienzhaus-Akademie und ehemaliger 
 wissenschaftlicher Mitarbeiter am Institut Wohnen und Umwelt\n\n&nbsp\;\n\
 nThema\n\nBei der Errichtung oder Sanierung eines Effizienzhauses und bei 
 der Umsetzung von energieeffizienten Einzelmaßnahmen sind die in der Bund
 esförderung für effiziente Gebäude (BEG) geforderten technischen Mindes
 tleistungen zur energetischen Fachplanung und Baubegleitung die wesentlich
 en Bausteine für eine sachgerechte Umsetzung und Grundlage für die Best
 ätigung nach Durchführung (BnD). Dieses Seminar zeigt auf\, welche Leist
 ungen im Rahmen der BEG für die energetische Konzeptionierung zu erbringe
 n sind und welche Schritte und Teilaspekte bei der Baubegleitung beachtet 
 werden sollen\, damit die Expert*innen die programmgemäße Umsetzung übe
 rprüfen können. Sowohl für die Bauherrschaft als auch für die BEG-Qual
 itätssicherung ist dabei eine Projektdokumentation unerlässlich. Es werd
 en Hinweise gegeben\, was die BEG als mögliche Dokumentation versteht und
  wie die Effizienzmaßnahmen nachgewiesen werden können.\n\n&nbsp\;\n\nIn
 halt\n\n 	Hintergründe zu den Mindestleistungen der energetischen Fachpla
 nung und Baubegleitung\n 	Leitgedanken zum energetischen Gesamtkonzept und
  dem Förderhöchstbetrag\n 	Vorschläge zur Ausarbeitung eines Wärmebrü
 cken- und Luftdichtheitskonzeptes\n 	Grundlagen zur Konzeptionierung und B
 erechnung der Anlagentechnik\n 	Ansätze und Erläuterung zur Erstellung e
 iner nachvollziehbaren Dokumentation\n\n&nbsp\;\n\nZielgruppe\n\nArchitekt
 *innen\, Bauingenieur*innen\, Fachplaner*innen\, Sachverständige\, Handwe
 rker*innen\, Bauunternehmen\, Bauträger*innen und Bauherr*innen\n\n&nbsp\
 ;\n\nHinweis\n\nDie Bezahlung erfolgt ausschließlich per Überweisung nac
 h Erhalt einer Rechnung. Die Rechnungsstellung erfolgt nach der Veranstalt
 ung.
CATEGORIES:Seminare
END:VEVENT
BEGIN:VTIMEZONE
TZID:Europe/Berlin
X-LIC-LOCATION:Europe/Berlin
BEGIN:STANDARD
DTSTART:20221030T020000
TZOFFSETFROM:+0200
TZOFFSETTO:+0100
TZNAME:CET
END:STANDARD
END:VTIMEZONE
END:VCALENDAR