
BEGIN:VCALENDAR
VERSION:2.0
PRODID:-//wp-events-plugin.com//6.6.3//EN
TZID:Europe/Berlin
X-WR-TIMEZONE:Europe/Berlin
BEGIN:VEVENT
UID:0-560@veranstaltungen.muenchen.de
DTSTART;TZID=Europe/Berlin:20220427T090000
DTEND;TZID=Europe/Berlin:20220427T120000
DTSTAMP:20220426T140454Z
URL:https://veranstaltungen.muenchen.de/bauzentrum/veranstaltungen/bauzent
 rum-web-seminar-kompakt-abdichten/
SUMMARY:Bauzentrum Web-Seminar Kompakt: Abdichten von Bauteilen
DESCRIPTION:Web-Seminar Kompakt vom Bauzentrum München\nAbdichten von Baut
 eilen\nDach\, Flachdach\, Wand\, Boden\, Sockel\, Balkon\, Lichtschächte\
 , Fugen etc.\n\n&nbsp\;\n\nAnerkannte Fortbildungspunkte Energieeffizienz-
 Expertenliste:\n\n4 Unterrichtseinheiten Wohngebäude\n4 Unterrichtseinhei
 ten Nichtwohngebäude\n4 Unterrichtseinheiten Energieaudit DIN 16247\n\n&n
 bsp\;\n\nSchriftliche Anmeldung erforderlich\nEntweder direkt online (sieh
 e ganz unten auf dieser Seite)\noder mit dem Anmeldeformular (pdf) per E-M
 ail oder Fax.\n\nBestellschein Abo-Teilnahmekarten (pdf)\n\n&nbsp\;\n\nDie
 se Veranstaltung findet statt in Kooperation mit GIH Bayern e.V.  und der
  Bayerischen Architektenkammer.\n\n&nbsp\;\n\nAlle Online-Veranstaltungen 
 vom Bauzentrum München werden mit Webex durchgeführt.\nAngemeldete Perso
 nen erhalten rechtzeitig (in der Regel am Tag vor der Veranstaltung) den T
 eilnahme-Link per E-Mail.\n\n&nbsp\;\n\nReferent\n\nDr.-Ing. Christian Dia
 ler\, BYIK VDI\nIngenieur- und Sachverständigenbüro\, Beratender Ingenie
 ur (Bayerische Ingenieurekammer-Bau)\, Sachverständiger für Schäden im 
 Bauwesen\, Lehrbeauftragter an der Hochschule München\n\n&nbsp\;\n\nThema
 \n\nIn diesem Seminar wird das Thema Abdichten sowohl aus Sicht der Bautei
 le (Dach\, Flachdach\, Wand\, Boden\, Sockel\, Balkon\, Lichtschächte\, F
 ugen etc.) als auch aus der Sicht der Werkstoffe (Beton\, Mauerwerk\, Putz
 \, Holz\, Stahl etc.) behandelt. Als Basis dienen hierbei Querbezüge zur 
 (neuen) Normenreihe DIN 18531ff\, zur WU-Richtlinie und zu Fachregeln etc.
 . Eine intakte und funktionierende Abdichtung von Gebäuden und ihrer Baut
 eile ist nicht nur zum Erhalt der Bauwerke selbst\, sondern auch zum Erhal
 t der Dämmeigenschaften von Bauteilen von erheblicher Bedeutung.\n\n&nbsp
 \;\n\nInhalt\n\n- Methoden beim Neubau\n- Methoden beim nachträglichen Ab
 dichten von Bauteilen (Verpressen\, Vergelen\, ...)\n- Wasserundurchlässi
 ge Bauwerke aus Beton (WU-Bauwerke)\n- Tiefgaragen\n- Vorausschauende Plan
 ung zur Instandhaltung\n- Vorgehen bei Leckageortung\n- Messtechnik zur Sc
 hadensermittlung\n\n&nbsp\;\n\nZielgruppe\n\nArchitekt*innen\, Planer*inne
 n\, Bauingenieur*innen\, Energieberater*innen\, Handwerker*innen\, Bausach
 verständige\, Bauträger*innen\, Bauunternehmen\, Hausverwaltungen\, Verw
 altungsbeirät*innen\, Rechtsanwält*innen\, Versicherungen\, Makler*innen
 \, Immobilienfachwirt*innen und Studierende\n\n&nbsp\;\n\nHinweis\n\nDie B
 ezahlung erfolgt ausschließlich per Überweisung nach Erhalt einer Rechnu
 ng. Die Rechnungsstellung erfolgt nach der Veranstaltung.
CATEGORIES:Seminare
END:VEVENT
BEGIN:VTIMEZONE
TZID:Europe/Berlin
X-LIC-LOCATION:Europe/Berlin
BEGIN:DAYLIGHT
DTSTART:20220327T030000
TZOFFSETFROM:+0100
TZOFFSETTO:+0200
TZNAME:CEST
END:DAYLIGHT
END:VTIMEZONE
END:VCALENDAR