
BEGIN:VCALENDAR
VERSION:2.0
PRODID:-//wp-events-plugin.com//6.6.3//EN
TZID:Europe/Berlin
X-WR-TIMEZONE:Europe/Berlin
BEGIN:VEVENT
UID:0-579@veranstaltungen.muenchen.de
DTSTART;TZID=Europe/Berlin:20220512T160000
DTEND;TZID=Europe/Berlin:20220512T190000
DTSTAMP:20220512T123403Z
URL:https://veranstaltungen.muenchen.de/bauzentrum/veranstaltungen/bauzent
 rum-web-seminar-baurecht-nachverdichtung/
SUMMARY:Bauzentrum Web-Seminar Baurecht: Nachverdichtung auf bebauten Grund
 stücken
DESCRIPTION:Web-Seminar Baurecht vom Bauzentrum München\nNachverdichtung a
 uf bebauten Grundstücken -\nRechtliche Rahmenbedingungen für die Baurech
 tsoptimierung \n&nbsp\;\n\nAnerkannte Fortbildungspunkte Energieeffizienz
 -Expertenliste:\n0 Unterrichtseinheiten Wohngebäude\n0 Unterrichtseinheit
 en Nichtwohngebäude\n0 Unterrichtseinheiten Energieaudit DIN 16247\n\n&nb
 sp\;\n\nDiese Veranstaltung findet statt in Kooperation mit der Bayerisch
 en Architektenkammer.\n\n&nbsp\;\n\nSchriftliche Anmeldung erforderlich\nE
 ntweder direkt online (siehe ganz unten auf dieser Seite)\noder mit dem An
 meldeformular (pdf) per E-Mail oder Fax.\n\nBestellschein Abo-Teilnahmekar
 ten (pdf)\n\n&nbsp\;\nAlle Online-Veranstaltungen vom Bauzentrum München 
 werden mit Webex durchgeführt.\nAngemeldete Personen erhalten rechtzeitig
  (in der Regel am Tag vor der Veranstaltung) den Teilnahme-Link per E-Mail
 .\n&nbsp\;\n\nReferent\n\nFabian Gerstner\, LL.M\, Rechtsanwalt\, Rechtsan
 wälte Heuking Kühn Lüer Wojtek München\ntätig im Bereich des öffentl
 ichen Rechts mit Schwerpunkten\n\n&nbsp\;\n\nThema\n\nDas Schlagwort „Na
 chverdichtung“ hat insbesondere in den Ballungsräumen eine erhebliche B
 edeutung bekommen. Fehlt es an Flächen für eine freie und ungehinderte B
 aulandentwicklung\, kommt häufig nur noch eine quantitative Optimierung d
 es bereits vorhandenen Baurechts in Betracht. Hierbei stoßen viele Bauvor
 haben an die Grenzen des rechtlich Machbaren: Sie bewegen sich im Konflikt
 feld zwischen erforderlicher und politisch zumeist gewünschter Nachverdic
 htung einerseits und einer übermäßigen Versiegelung freier Grundstücks
 flächen andererseits. Bei Kenntnis gewisser Ansatzpunkte lassen sich jedo
 ch optimale Verwertungsergebnisse erzielen.\n\n&nbsp\;\n\nInhalt\n\nDas Se
 minar behandelt die rechtlichen Rahmenbedingungen für die Optimierung des
  Baurechts auf bereits bebauten Grundstücken. Hierbei werden die typische
 n rechtlichen Problemfelder behandelt\, insbesondere:\n\n 	Bauplanungs- un
 d bauordnungsrechtliche Rahmenbedingungen\n 	Abstandsflächen und deren Op
 timierung\n 	Festsetzungen eines Bebauungsplans / Innenbereichsvorhaben\n 
 	Hinterliegerbebauung / Bebauung in zweiter Reihe\n 	Erschließung\n 	Grü
 nordnung und Baumschutz\n\n&nbsp\;\n\nZielgruppe\n\nDas Seminar wendet sic
 h an alle am Bau Beteiligten\, insbesondere an Planungsbüros\, Architekt*
 innen\, Ingenieur*innen\, Investor*innen\, Projektentwickler*innen sowie V
 ertreter*innen von Behörden und kommunaler Gebietskörperschaften.\n\n&nb
 sp\;\n\nHinweis\n\nDie Bezahlung erfolgt ausschließlich per Überweisung 
 nach Erhalt einer Rechnung. Die Rechnungsstellung erfolgt nach der Veranst
 altung.
CATEGORIES:Seminare
END:VEVENT
BEGIN:VTIMEZONE
TZID:Europe/Berlin
X-LIC-LOCATION:Europe/Berlin
BEGIN:DAYLIGHT
DTSTART:20220327T030000
TZOFFSETFROM:+0100
TZOFFSETTO:+0200
TZNAME:CEST
END:DAYLIGHT
END:VTIMEZONE
END:VCALENDAR