
BEGIN:VCALENDAR
VERSION:2.0
PRODID:-//wp-events-plugin.com//6.6.3//EN
TZID:Europe/Berlin
X-WR-TIMEZONE:Europe/Berlin
BEGIN:VEVENT
UID:0-573@veranstaltungen.muenchen.de
DTSTART;TZID=Europe/Berlin:20221124T160000
DTEND;TZID=Europe/Berlin:20221124T190000
DTSTAMP:20221124T072711Z
URL:https://veranstaltungen.muenchen.de/bauzentrum/veranstaltungen/bauzent
 rum-web-seminar-baurecht-nachtraege/
SUMMARY:Bauzentrum Web-Seminar Baurecht: Nachträge am Bau - ein rechtliche
 r Leitfaden
DESCRIPTION:              \n\n&nbsp\;\n\nWeb-Seminar Baurecht vom Ba
 uzentrum München in Kooperation mit GIH Bayern e.V. und der Bayerischen 
 Architektenkammer\n\nNachträge am Bau - ein rechtlicher Leitfaden\n(inklu
 sive der aktuellen Reform des Bauvertragsrechts im BGB)\n\n&nbsp\;\n\nAner
 kannte Fortbildungspunkte Energieeffizienz-Expertenliste:\n0 Unterrichtsei
 nheiten Wohngebäude\n0 Unterrichtseinheiten Nichtwohngebäude\n0 Unterric
 htseinheiten Energieaudit DIN 16247\n\n&nbsp\;\n\nSchriftliche Anmeldung e
 rforderlich\nEntweder direkt online (siehe ganz unten auf dieser Seite)\no
 der mit dem Anmeldeformular (pdf) per E-Mail oder Fax.\n\nBestellschein Ab
 o-Teilnahmekarten (pdf)\n\n&nbsp\;\nAlle Online-Veranstaltungen vom Bauzen
 trum München werden mit Webex durchgeführt.\nAngemeldete Personen erhalt
 en rechtzeitig (in der Regel am Tag vor der Veranstaltung) den Teilnahme-L
 ink per E-Mail.\n&nbsp\;\n\nReferent\n\nCornelius Hartung\, Rechtsanwalt\,
  Fachanwalt für Bau- und Architektenrecht\,\nFachanwalt für Vergaberecht
 \, Partner der Goede Althaus Rechtsanwälte\, Mitautor des 4-bändigen Los
 eblattwerks „Erfolg in Baustreitigkeiten“ und des Handbuchs für Energ
 ieberater\, Mitarbeiter der Zeitschrift für Vergaberecht\, Mitautor im Be
 ck`schen VOB/B-Kommentar\, Berater im Bauzentrum München und Mitglied im 
 Netzwerk Bau Kompetenz München (BKM)\n\n&nbsp\;\n\nThema\n\nZiel des Semi
 nars ist es\, den Teilnehmer*innen einen Leitfaden an die Hand zu geben\, 
 um Nachträge am Bau konfliktfrei zu bewältigen. Es werden die verschiede
 nen Möglichkeiten von Nachträgen und deren sachgerechte Behandlung unter
  Berücksichtigung der aktuellen Reform des Bauvertragsrechts im BGB vorge
 stellt.\n\n&nbsp\;\n\nInhalt\n\n 	Begründetheit von Vergütungsansprüche
 n bei Mengenmehrungen\, Änderungs- und Zusatzleistungen nach der VOB/B un
 d BGB\n 	Ermittlung des „neuen“ Preises\n 	Auswirkung von Nachlass und
  Skonto auf Nachträge\n 	Formale Anforderungen der VOB/B an die Fälligke
 it und Verzinsung von Rechnungen\n 	Strategien zur Vermeidung von häufige
 n Konfliktsituationen wie Arbeitseinstellung oder Vertreter*in ohne Vertre
 tungsmacht\n 	Abgrenzung Einheitspreisvertrag zu Detail- und Globalpauscha
 lpreisvertrag\n 	Nachträge unter Berücksichtigung der aktuellen Reform d
 es Bauvertragsrechts im BGB\n\n&nbsp\;\n\nZielgruppe\n\nDas Seminar wendet
  sich an alle\, die sich mit dem Bauen bzw. mit Streitfragen am Bau besch
 äftigen: Auftraggeber*innen (Bauleute aller Art)\, Auftragnehmer*innen\, 
 Architekt*innen\, Bauingenieur*innen\, Bausachverständige\, Bauträger*in
 nen\, Studierende der Fachrichtung Bau und Vertreter*innen von Behörden.\
 n\n&nbsp\;\n\nHinweis\n\nDie Bezahlung erfolgt ausschließlich per Überwe
 isung nach Erhalt einer Rechnung. Die Rechnungsstellung erfolgt nach der V
 eranstaltung.
CATEGORIES:Seminare
END:VEVENT
BEGIN:VTIMEZONE
TZID:Europe/Berlin
X-LIC-LOCATION:Europe/Berlin
BEGIN:STANDARD
DTSTART:20221030T020000
TZOFFSETFROM:+0200
TZOFFSETTO:+0100
TZNAME:CET
END:STANDARD
END:VTIMEZONE
END:VCALENDAR