
BEGIN:VCALENDAR
VERSION:2.0
PRODID:-//wp-events-plugin.com//6.6.3//EN
TZID:Europe/Berlin
X-WR-TIMEZONE:Europe/Berlin
BEGIN:VEVENT
UID:0-555@veranstaltungen.muenchen.de
DTSTART;TZID=Europe/Berlin:20220310T160000
DTEND;TZID=Europe/Berlin:20220310T190000
DTSTAMP:20220128T105706Z
URL:https://veranstaltungen.muenchen.de/bauzentrum/veranstaltungen/bauzent
 rum-web-seminar-baurecht-immissionsschutz/
SUMMARY:Bauzentrum Web-Seminar Baurecht: Immissionsschutz bei Bauvorhaben 
 – Rechtliche Grundlagen
DESCRIPTION:Web-Seminar Baurecht vom Bauzentrum München\nImmissionsschutz 
 bei Bauvorhaben – Rechtliche Grundlagen\n&nbsp\;\n\nAnerkannte Fortbildu
 ngspunkte Energieeffizienz-Expertenliste:\n0 Unterrichtseinheiten Wohngeb
 äude\n0 Unterrichtseinheiten Nichtwohngebäude\n0 Unterrichtseinheiten En
 ergieaudit DIN 16247\n\n&nbsp\;\n\nDiese Veranstaltung findet statt in Koo
 peration mit GIH Bayern e.V. und der Bayerischen Architektenkammer.\n\n&n
 bsp\;\n\nSchriftliche Anmeldung erforderlich\nEntweder direkt online (sieh
 e ganz unten auf dieser Seite)\noder mit dem Anmeldeformular (pdf) per E-M
 ail oder Fax.\n\nBestellschein Abo-Teilnahmekarten (pdf)\n\n&nbsp\;\nAlle 
 Online-Veranstaltungen vom Bauzentrum München werden mit Webex Events dur
 chgeführt.\nAngemeldete Personen erhalten rechtzeitig (in der Regel am Ta
 g vor der Veranstaltung) den Teilnahme-Link per E-Mail.\n&nbsp\;\n\nRefere
 nt\n\nFabian Gerstner\, LL.M\, Rechtsanwalt\, Rechtsanwälte Heuking Kühn
  Lüer Wojtek München\;\ntätig im Bereich des öffentlichen Rechts mit S
 chwerpunkten im Bauplanungs- und Bauord-nungsrecht\, Immissionsschutzrecht
 \, Wasserrecht\, Denkmalschutzrecht und Kommunalrecht\n\n&nbsp\;\n\nThema\
 n\nBei der Realisierung von Bauvorhaben können immissionsschutzrechtliche
  Anforderungen an Baustellen\, an die Bauausführung als auch an den Betri
 ebsablauf gestellt werden. Bauherr*innen müssen diese Anforderungen stets
  in eigener Verantwortung beachten und umsetzen. Im Falle einer Nichtbeach
 tung der gesetzlichen Anforderungen drohen nicht nur kostenpflichtige nach
 trägliche Anordnungen seitens der Behörden. Auch stehen nachbarliche Abw
 ehransprüche im Raum. Eine Missachtung der rechtlichen Anforderungen kann
  daher kostenaufwändige nachträgliche Maßnahmen baulicher und organisat
 orischer Natur zur Folge haben.\n\nUnter anderem werden folgende Einzelthe
 men aufgegriffen:\n- Notwendigkeit einer Baugenehmigung oder einer Genehmi
 gung nach dem BImSchG\n- Der Begriff der schädlichen Umwelteinwirkungen a
 us dem BImSchG\n- Umgang mit technischen Regelwerken (insbesondere TA Lär
 m und TA Luft\, DIN-Normen)\n- Besonderer Immissionsschutz in Bebauungspl
 änen\n- Nachbarschutz – Gebot der Rücksichtnahme\n- Emissionen und Bau
 stellen\n\n&nbsp\;\n\nInhalt\n\nDiese Veranstaltung vermittelt einen Über
 blick zu allen wichtigen rechtlichen Grundlagen des Immissionsschutzrechts
  sowie zu ausgewählten Problemstellungen\, die in der Praxis häufig auft
 auchen.\n\n&nbsp\;\n\nZielgruppe\n\nDas Seminar wendet sich an alle am Bau
  Beteiligten\, insbesondere Planungsbüros\, Archi-tekt*innen\, Ingenieur*
 innen\, Investor*innen\, Projektentwickler*innen\, Bauherr*innen sowie Ver
 treter*innen von Behörden und kommunalen Gebietskörperschaften.\n\n&nbsp
 \;\n\nHinweis\n\nDie Bezahlung erfolgt ausschließlich per Überweisung na
 ch Erhalt einer Rechnung. Die Rechnungsstellung erfolgt nach der Veranstal
 tung.
CATEGORIES:Seminare
END:VEVENT
BEGIN:VTIMEZONE
TZID:Europe/Berlin
X-LIC-LOCATION:Europe/Berlin
BEGIN:STANDARD
DTSTART:20211031T020000
TZOFFSETFROM:+0200
TZOFFSETTO:+0100
TZNAME:CET
END:STANDARD
END:VTIMEZONE
END:VCALENDAR