
BEGIN:VCALENDAR
VERSION:2.0
PRODID:-//wp-events-plugin.com//6.6.3//EN
TZID:Europe/Berlin
X-WR-TIMEZONE:Europe/Berlin
BEGIN:VEVENT
UID:0-542@veranstaltungen.muenchen.de
DTSTART;TZID=Europe/Berlin:20220222T160000
DTEND;TZID=Europe/Berlin:20220222T190000
DTSTAMP:20220128T105807Z
URL:https://veranstaltungen.muenchen.de/bauzentrum/veranstaltungen/bauzent
 rum-web-seminar-baurecht-hoai/
SUMMARY:Bauzentrum Web-Seminar Baurecht: Die HOAI 2021 – Praktische Anwen
 dung und Umsetzung
DESCRIPTION:Web-Seminar Baurecht vom Bauzentrum München\nDie HOAI 2021 –
  Praktische Anwendung und Umsetzung\n- Sichere Honorarberechnung und Vertr
 agsgestaltung\n- Auswirkungen auf alte und laufende Verträge\n- Auswirkun
 gen auf neue Honorarangebote und Verträge\n\n&nbsp\;\n\nAnerkannte Fortbi
 ldungspunkte Energieeffizienz-Expertenliste:\n0 Unterrichtseinheiten Wohng
 ebäude\n0 Unterrichtseinheiten Nichtwohngebäude\n0 Unterrichtseinheiten 
 Energieaudit DIN 16247\n\n&nbsp\;\n\nDiese Veranstaltung findet statt in K
 ooperation mit der Bayerischen Architektenkammer.\n\n&nbsp\;\n\nSchriftlic
 he Anmeldung erforderlich\nEntweder direkt online (siehe ganz unten auf di
 eser Seite)\noder mit dem Anmeldeformular (pdf) per E-Mail oder Fax.\n\nBe
 stellschein Abo-Teilnahmekarten (pdf)\n\n&nbsp\;\nAlle Online-Veranstaltun
 gen vom Bauzentrum München werden mit Webex Events durchgeführt.\nAngeme
 ldete Personen erhalten rechtzeitig (in der Regel am Tag vor der Veranstal
 tung) den Teilnahme-Link per E-Mail.\n&nbsp\;\n\nReferent*in\n\nAnja Binde
 r\, Rechtsanwältin\, Fachanwältin für Bau- und Architektenrecht\nMitaut
 orin des „Praxiskommentars zur HOAI 2013“ von Ebert/Stork (Hrsg.) und 
 des Fachbuches „Urheberrecht für Architekten und Ingenieure“\n\n&nbsp
 \;\n\nThema\n\nMit Inkrafttreten der neuen „Honorarordnung für Architek
 ten und Ingenieure“ (HOAI) am 1.1.2021 sind die Vergütungsregeln für A
 rchitekt*innen und Ingenieur*innen grundlegend reformiert worden. Auslöse
 r für die Neugestaltung der HOAI war die Entscheidung des Europäischen G
 erichtshofs vom 4.7.2019 zur Unvereinbarkeit der Mindest- und Höchstsätz
 e der HOAI mit Europäischem Recht. Die Bindung an Min-dest- und Höchsts
 ätze ist seither Vergangenheit. Die Parteien eines Planervertrags können
  jetzt die Honorare für sämtliche Planungsleistungen frei vereinbaren. D
 ie HOAI 2021 stellt dabei nach wie vor einen wichtigen Leitfaden dar\, ist
  aber keine zwingende gesetzliche Vorgabe mehr.\n\n&nbsp\;\n\nIm Seminar e
 rfahren Planer*innen und Bauherr*innen\, wie sie nach diesem Paradigmenwec
 hsel sicher im Bereich der Vergütung für Architekt*innen und Ingenieur*i
 nnen agieren können. Es vermittelt anschaulich und praxisnah\, was bei Be
 auftragung und Gestaltung von HOAI-Verträgen bei Architekten- und Ingeni-
 eurleistungen beachtet werden muss.\n\n&nbsp\;\n\nInhalt\n\n- Die HOAI 202
 1 im Überblick: Darstellung der Neuregelungen und Vergleich zur HOAI 2013
 \n- Honorarorientierung und Basishonorarsatz\n- Wirksamkeitsvoraussetzunge
 n und Gestaltungsmöglichkeiten einer Honorarvereinbarung zwischen Bauherr
 *in und Architekt*in bzw. Bauingenieur*in\n- Honorarvereinbarungen in AGB?
 \n- Auswirkungen des EuGH-Urteils auf Altfälle\n\n&nbsp\;\n\nZielgruppe\n
 \nAlle Parteien von Architekten- und Ingenieurverträgen\, also Bauherr*in
 nen\, Architekt*innen\, Bauingenieur*innen und Fachplaner*innen sowie Stud
 ierende (Fachrichtungen Architektur / Bauingenieurwesen)\n\n&nbsp\;\n\nHin
 weis\n\nDie Bezahlung erfolgt ausschließlich per Überweisung nach Erhalt
  einer Rechnung. Die Rechnungsstellung erfolgt nach der Veranstaltung.
CATEGORIES:Seminare
END:VEVENT
BEGIN:VTIMEZONE
TZID:Europe/Berlin
X-LIC-LOCATION:Europe/Berlin
BEGIN:STANDARD
DTSTART:20211031T020000
TZOFFSETFROM:+0200
TZOFFSETTO:+0100
TZNAME:CET
END:STANDARD
END:VTIMEZONE
END:VCALENDAR