
BEGIN:VCALENDAR
VERSION:2.0
PRODID:-//wp-events-plugin.com//6.6.3//EN
TZID:Europe/Berlin
X-WR-TIMEZONE:Europe/Berlin
BEGIN:VEVENT
UID:0-544@veranstaltungen.muenchen.de
DTSTART;TZID=Europe/Berlin:20220316T160000
DTEND;TZID=Europe/Berlin:20220316T190000
DTSTAMP:20220131T075141Z
URL:https://veranstaltungen.muenchen.de/bauzentrum/veranstaltungen/bauzent
 rum-web-seminar-baurecht-abnahme/
SUMMARY:Bauzentrum Web-Seminar Baurecht: Abnahme und Mängelhaftung - ein r
 echtlicher Leitfaden
DESCRIPTION:Web-Seminar Baurecht vom Bauzentrum München\nAbnahme und Mäng
 elhaftung - ein rechtlicher Leitfaden \ninklusive der Reform des Bauvertra
 gsrechts im BGB ab dem 1.1.2018\n\n&nbsp\;\n\nAnerkannte Fortbildungspunkt
 e Energieeffizienz-Expertenliste:\n0 Unterrichtseinheiten Wohngebäude\n0 
 Unterrichtseinheiten Nichtwohngebäude\n0 Unterrichtseinheiten Energieaudi
 t DIN 16247\n\n&nbsp\;\n\nDiese Veranstaltung findet statt in Kooperation 
 mit der Bayerischen Architektenkammer.\n\n&nbsp\;\n\nSchriftliche Anmeldun
 g erforderlich\nEntweder direkt online (siehe ganz unten auf dieser Seite)
 \noder mit dem Anmeldeformular (pdf) per E-Mail oder Fax.\n\nBestellschein
  Abo-Teilnahmekarten (pdf)\n\n&nbsp\;\nAlle Online-Veranstaltungen vom Bau
 zentrum München werden mit Webex Events durchgeführt.\nAngemeldete Perso
 nen erhalten rechtzeitig (in der Regel am Tag vor der Veranstaltung) den T
 eilnahme-Link per E-Mail.\n&nbsp\;\n\nDiese Veranstaltung findet statt in 
 Kooperation mit GIH Bayern e.V.\n\n&nbsp\;\n\nReferent*in\n\nCornelius Ha
 rtung\, Rechtsanwalt\, Fachanwalt für Bau- und Architektenrecht\,\nFachan
 walt für Vergaberecht\, Partner der Goede Althaus Rechtsanwälte\, Mitaut
 or des 4-bändigen Loseblattwerks „Erfolg in Baustreitigkeiten“ und de
 s Handbuchs für Energieberater\, Mitarbeiter der Zeitschrift für Vergabe
 recht\, Mitautor im Beck`schen VOB/B-Kommentar\, Berater im Bauzentrum Mü
 nchen und Mitglied im Netzwerk Bau Kompetenz München (BKM)\n\n&nbsp\;\n\n
 Thema\n\nZiel des Seminars ist es\, den Teilnehmer*innen einen Leitfaden f
 ür die Abnahme und Mängelhaftung an die Hand zu geben. Alle mit der Abna
 hme und Mängelhaftung verbundenen wichtigen Rechtsfolgen werden unter Ber
 ücksichtigung der Reform des Bauvertragsrechts ab dem 1.1.2018 vermittelt
  und erörtert.\n\n&nbsp\;\n\nInhalt\n\n- Die Rechtsfolgen (Konsequenzen) 
 der Abnahme: Beginn der Gewährleistung\, Gefahrenübergang\, Beweislast f
 ür Mängel etc.\n- Die immer häufiger am Bau vorkommende Abnahmeverweige
 rung mit deren Rechtsfolgen und Gegenstrategien\n- Die unterschiedlichen A
 bnahmen: Förmliche\, konkludente und fiktive Abnahme\n- Der Mangelbegriff
  und die Mängelansprüche: Nacherfüllung\, Selbstvornahme\, Minderung\, 
 Schadensersatz und Rücktritt\n- Die Verjährungsvorschriften\nEin Leitfad
 en für Auftraggeber*innen und Auftragnehmer*innen wird an die Hand gegebe
 n.\n\n&nbsp\;\n\nZielgruppe\n\nDas Seminar wendet sich an alle\, die sich 
 mit dem Bauen bzw. mit Streitfragen am Bau beschäftigen: Auftraggeber*inn
 en (Bauleute aller Art)\, Auftragnehmer*innen\, Architekt*innen\, Bauingen
 ieur*innen\, Bausachverständige\, Studierende\, Bauträger*innen und Beh
 örden.\n\n&nbsp\;\n\nHinweis\n\nDie Bezahlung erfolgt ausschließlich per
  Überweisung nach Erhalt einer Rechnung. Die Rechnungsstellung erfolgt na
 ch der Veranstaltung.
CATEGORIES:Seminare
END:VEVENT
BEGIN:VTIMEZONE
TZID:Europe/Berlin
X-LIC-LOCATION:Europe/Berlin
BEGIN:STANDARD
DTSTART:20211031T020000
TZOFFSETFROM:+0200
TZOFFSETTO:+0100
TZNAME:CET
END:STANDARD
END:VTIMEZONE
END:VCALENDAR