
BEGIN:VCALENDAR
VERSION:2.0
PRODID:-//wp-events-plugin.com//6.6.3//EN
TZID:Europe/Berlin
X-WR-TIMEZONE:Europe/Berlin
BEGIN:VEVENT
UID:0-766@veranstaltungen.muenchen.de
DTSTART;TZID=Europe/Berlin:20221026T090000
DTEND;TZID=Europe/Berlin:20221026T121500
DTSTAMP:20221020T113740Z
URL:https://veranstaltungen.muenchen.de/bauzentrum/veranstaltungen/bauzent
 rum-web-forum-waermeversorgung-mit-solarstrom/
SUMMARY:Bauzentrum Web-Forum: Wärmeversorgung mit Solarstrom
DESCRIPTION:        \n\nDiese Veranstaltung unterstützt Wattbewerb M
 ünchen: muenchen.de/wattbewerb\n\n&nbsp\;\n\nWeb-Forum vom Bauzentrum Mü
 nchen\n\nWattbewerb Spezial:\nWärmeversorgung mit Solarstrom\n \n\nFortb
 ildungspunkte Energieeffizienz-Expertenliste:\n\n4 Unterrichtseinheiten Wo
 hngebäude\n4 Unterrichtseinheiten Nichtwohngebäude\n4 Unterrichtseinheit
 en Energieaudit DIN 16247\n\n&nbsp\;\n\nTeilnahme kostenfrei - Online-Anme
 ldung erforderlich:\n\n&nbsp\;\n\nhttps://lhm.webex.com/lhm/j.php?RGID=r05
 a61f968e27d6a51909b70004f6f62a\n\n&nbsp\;\nAlle Online-Veranstaltungen vom
  Bauzentrum München werden mit Webex durchgeführt.\n&nbsp\;\n\nTeilnahme
 bestätigung\n\n 	Falls sie eine Teilnahme-Bestätigung benötigen (ggf. i
 nklusive Fortbildungsode für die Energieeffizienz-Experten-Liste) muss di
 ese kostenpflichtig (25 Euro) mittels Formblatt (Download-Portal) bestellt
  werden.\n 	Für Mitarbeiter*innen der Landeshauptstadt München ist die B
 estätigung kostenfrei\n\n&nbsp\;\n\nThema\n\n&nbsp\;\n\nMit Strom zu heiz
 en war lange Zeit verpönt. Aufgrund des schlechten Wirkungsgrades bei der
  Umwandlung fossil-nuklearer Brennstoffe zu Strom war dieser zu kostbar zu
 m Heizen. Regenerativ erzeugter Solarstrom jedoch ist als Energieträger v
 öllig anders zu bewerten und eröffnet so neue Möglichkeiten zur Wärmee
 rzeugung mit Strom. Die Nutzung von Solarstrom führt zum einen zu einem r
 eduzierten Ausstoß von klimaschädlichem CO2\, zum anderen bringt sie fin
 anzielle Vorteile\, da die Gestehungskosten von Solarstrom wesentlich nied
 riger sind als die Kosten für Strom aus der Steckdose.\n\n&nbsp\;\n\nAktu
 ell sehr beliebt ist die Kombination von Wärmepumpe und Photovoltaik. Die
  Wärmepumpe nutzt die in der Umwelt gespeicherte Wärme – aus Luft\, Gr
 undwasser oder Erdreich – und wandelt diese mit Hilfe von Strom in Heizw
 ärme um. Daneben gibt es zahlreiche andere Lösungen\, die solaren Strom 
 für Raumheizung und Warmwasserbereitung nutzen\, zum Beispiel die Infraro
 theizung. Da Photovoltaikanlagen oft mehr Strom produzieren\, als durch de
 n Haushalt verbraucht wird\, kann der überschüssige Strom optimal zur W
 ärmeerzeugung verwendet werden\, beispielsweise als Antriebsenergie für 
 eine Wärmepumpe. Problematisch in unseren Breiten ist allerdings die Situ
 ation im Winter\, da aufgrund der klimatischen Bedingungen weniger Solarst
 rom erzeugt wird und gleichzeitig der Strombedarf besonders hoch ist. Dies
 e Lücke zwischen Strombedarf und Solarstromangebot lässt sich mit einem 
 Batteriespeicher reduzieren.\n\n&nbsp\;\n\nDas Fachforum zeigt technische 
 Möglichkeiten zum Heizen mit Solarstrom sowie deren Grenzen auf und stell
 t mögliche Einsparpotentiale vor. Dabei werden auch Vor- und Nachteile be
 im Einsatz der Wärmepumpentechnologie erläutert und Möglichkeiten zur i
 ntelligenten Steuerung der vorgestellten Heizsysteme dargestellt.\n\n&nbsp
 \;\n\nDas Bauzentrum München dankt Cigdem Sanalmis für die fachliche Lei
 tung bei der Vorbereitung dieser Veranstaltung sowie Wilhelm Kirchensteine
 r für die Moderation.\n\n&nbsp\;\n\nProgramm\n\n&nbsp\;\n\n09.00\nEinleit
 ung und Moderation\nWilhelm Kirchensteiner\n\n&nbsp\;\n\n09.10\nMehr Unabh
 ängigkeit durch Wärmepumpen in Verbindung mit Photovoltaik\nSven Kersten
 \, Dipl.-Ing.\, Bundesverband Wärmepumpe (BWP) e.V.\n\n&nbsp\;\n\n09.40\n
 Mit Lüftern Solarstrom verheizen?\nAlternative Elektro-Heizungen zur Wär
 mepumpe\nKlaus Richter\, Dipl.-Ing.\, smart training concepts\n\n&nbsp\;\n
 \n10.10\nSolaroptimierte Regelung von Wärmepumpenheizungen\nAxel Horn\, D
 ipl.-Ing.\, Ing. Büro solar energie information\n\n&nbsp\;\n\n10.30\nFrag
 en zum ersten Teil\n\n&nbsp\;\n\n10.40\nPause\n\n&nbsp\;\n\n10.50\nWie geh
 t die Entwicklung bei Wärmepumpen weiter?\nSven Kersten\, Dipl.-Ing.\, Bu
 ndesverband Wärmepumpe (BWP) e.V.\n\n&nbsp\;\n\n11.20\nPVT - Eine alterna
 tive Wärmeerzeugung - Initiative "IntegraTE"\nPeter Pärisch\, Dipl.-Ing.
 \, Institut für Solarenergieforschung GmbH (ISFH)\n\n&nbsp\;\n\n11:50\nF
 örderung im Münchner Förderprogramm Klimaneutrale Gebäude (FKG)\nMicha
 el Pröll\, Referat für Klima- und Umweltschutz\, Sachgebiet Klimaneutral
 e Gebäude\n\n&nbsp\;\n\n12.05\nFragen zum zweiten Teil\n\n&nbsp\;\n\n12.1
 5\nEnde der Veranstaltung
CATEGORIES:Fachforen - Exkursionen,Veranstaltungen zur Solarenergie
END:VEVENT
BEGIN:VTIMEZONE
TZID:Europe/Berlin
X-LIC-LOCATION:Europe/Berlin
BEGIN:DAYLIGHT
DTSTART:20220327T030000
TZOFFSETFROM:+0100
TZOFFSETTO:+0200
TZNAME:CEST
END:DAYLIGHT
END:VTIMEZONE
END:VCALENDAR