
BEGIN:VCALENDAR
VERSION:2.0
PRODID:-//wp-events-plugin.com//6.6.3//EN
TZID:Europe/Berlin
X-WR-TIMEZONE:Europe/Berlin
BEGIN:VEVENT
UID:0-732@veranstaltungen.muenchen.de
DTSTART;TZID=Europe/Berlin:20221006T090000
DTEND;TZID=Europe/Berlin:20221006T123000
DTSTAMP:20220922T074622Z
URL:https://veranstaltungen.muenchen.de/bauzentrum/veranstaltungen/bauzent
 rum-web-forum-stecker-photovoltaik/
SUMMARY:Bauzentrum Web-Forum: Stecker-Photovoltaik
DESCRIPTION:         \n\n&nbsp\;\n\nWeb-Forum vom Bauzentrum München i
 n Kooperation mit der Deutschen Gesellschaft für Sonnenenergie e.V.\n\nWa
 ttbewerb Spezial: Stecker-Photovoltaik\nRahmenbedingungen – Produktnorm 
 – Marktentwicklung\n\n \n\nFortbildungspunkte Energieeffizienz-Experten
 liste:\n\n4 Unterrichtseinheiten Wohngebäude\n4 Unterrichtseinheiten Nich
 twohngebäude\n4 Unterrichtseinheiten Energieaudit DIN 16247\n\n&nbsp\;\n\
 nTeilnahme kostenfrei - Online-Anmeldung erforderlich:\n\n&nbsp\;\n\nhttps
 ://lhm.webex.com/lhm/j.php?RGID=ree8c9272732adcfc17b6433cf17a540e\n\n&nbsp
 \;\nAlle Online-Veranstaltungen vom Bauzentrum München werden mit Webex d
 urchgeführt.\n&nbsp\;\n\nThema\n\n&nbsp\;\n\nSteckbare Solargeräte (Balk
 on-Photovoltaikanlagen) können als Beitrag zur Energiewende auf dem eigen
 en Balkon oder Dach montiert und betrieben werden. Diese Anlagen haben ein
 e Leistungsbegrenzung von 600 W (Watt). Ein spezieller Wechselrichter spei
 st den Strom in das Stromnetz der Wohnung oder des Eigenheims.\n\n&nbsp\;\
 n\nStecker-Solar-Geräte sind eine einfache Möglichkeit für Mieter*innen
  und Eigentümer*innen den Strombezug aus dem Netz zu reduzieren und Geld 
 zu sparen\, denn Solarstrom ist längst günstiger als Netzstrom.\n\n&nbsp
 \;\n\nDieses Fachforum bietet den Teilnehmenden die Möglichkeit\, ihr Wis
 sen rund um Stecker-PV auf den neuesten Stand zu bringen. Sie erhalten Hin
 weise zum sicheren Anschluss und Betrieb sowie zur neuen Förderung für S
 tecker-Solar-Geräte im Münchner Förderprogramm Klimaneutrale Gebäude (
 FKG) und erfahren Einzelheiten zum Produktnormungsprozess und zur Marktent
 wicklung.\n\n&nbsp\;\n\nDas Bauzentrum München dankt Cigdem Sanalmis für
  die fachliche Leitung bei der Vorbereitung dieser Veranstaltung sowie Kla
 us-Peter Rosenthal für die Moderation.\n\n&nbsp\;\n\nProgramm\n\n&nbsp\;\
 n\n9.00\nEinleitung und Moderation\nKlaus-Peter Rosenthal\, Dipl.-Ing. (FH
 )\, Solarer Lebensstil\n\n&nbsp\;\n\n9.10\nDie neue Förderung für Stecke
 r-Solar-Geräte im Münchner Förderprogramm Klimaneutrale Gebäude (FKG)\
 nKlaus-Peter Rosenthal\, Dipl.-Ing. (FH)\, Solarer Lebensstil\n\n&nbsp\;\n
 \n9.15\nStecker-Photovoltaik – ein kleiner\, aber sinnvoller Beitrag zur
  Energiewende\nJulian Müller\, C.A.R.M.E.N. e.V.\n\n&nbsp\;\n\n9.45\nElek
 trische Sicherheit im Gebäude\nJanko Kroschl\, Dipl.-Ing. (FH) Elektrotec
 hnik\, Solartechnik Kroschl\n\n&nbsp\;\n\n10.15\nSteckerfertige Erzeugungs
 anlagen – Anmeldeverfahren\, Zählertechnik\, Zahlen\nMaximilian Dorsch\
 , SWM\n\n&nbsp\;\n\n10.35\nFragen zum ersten Teil\n\n&nbsp\;\n\n10.45\nPau
 se\n\n&nbsp\;\n\n10.55\nGefährdungsanalyse von Stecker-Solar-Geräten: Vo
 rort- und Komponentenmessungen in gealterten Elektroinstallationen\nRalf H
 aselhuhn\, Dipl.-Ing.\, DGS – Deutsche Gesellschaft für Sonnenenergie e
 .V.\n\n&nbsp\;\n\n11.40\nVorstellung der Produkt- (Vor-) Norm für Stecker
 -Solar-Geräte\nHermann Laukamp\, Dipl.-Ing.\, Fraunhofer Institut für So
 lare Energiesysteme ISE\n\n&nbsp\;\n\n12.00\nMarktentwicklung Balkonkraftw
 erk – Status Quo und Trends\nChristian Ofenheusle\, EmpowerSource\n\n&nb
 sp\;\n\n12.20\nFragen zum zweiten Teil\n\n&nbsp\;\n\n12.30\nEnde der Veran
 staltung\n\n&nbsp\;\n\nTeilnahmebestätigung\n\n 	Falls sie eine Teilnahme
 -Bestätigung benötigen (ggf. inklusive Fortbildungsode für die Energiee
 ffizienz-Experten-Liste) muss diese kostenpflichtig (25 Euro) mittels Form
 blatt (Download-Portal) bestellt werden.\n 	Für Mitarbeiter*innen der Lan
 deshauptstadt München ist die Bestätigung kostenfrei\n
CATEGORIES:Fachforen - Exkursionen,Veranstaltungen zur Solarenergie
END:VEVENT
BEGIN:VTIMEZONE
TZID:Europe/Berlin
X-LIC-LOCATION:Europe/Berlin
BEGIN:DAYLIGHT
DTSTART:20220327T030000
TZOFFSETFROM:+0100
TZOFFSETTO:+0200
TZNAME:CEST
END:DAYLIGHT
END:VTIMEZONE
END:VCALENDAR