
BEGIN:VCALENDAR
VERSION:2.0
PRODID:-//wp-events-plugin.com//6.6.3//EN
TZID:Europe/Berlin
X-WR-TIMEZONE:Europe/Berlin
BEGIN:VEVENT
UID:0-634@veranstaltungen.muenchen.de
DTSTART;TZID=Europe/Berlin:20220511T090000
DTEND;TZID=Europe/Berlin:20220511T121500
DTSTAMP:20220425T061142Z
URL:https://veranstaltungen.muenchen.de/bauzentrum/veranstaltungen/bauzent
 rum-web-forum-solarthermie/
SUMMARY:Bauzentrum Web-Forum: Potentiale und Techniken in der Solarthermie
DESCRIPTION:Web-Forum vom Bauzentrum München\nPotentiale und Techniken in 
 der Solarthermie\nSolare Wärmenetze — solare Kühlung — solarthermisc
 he Bauteilaktivierung\n\n \n\nFortbildungspunkte Energieeffizienz-Experte
 nliste:\n\n4 Unterrichtseinheiten Wohngebäude\n4 Unterrichtseinheiten Nic
 htwohngebäude\n4 Unterrichtseinheiten Energieaudit DIN 16247\n\n&nbsp\;\n
 \nTeilnahme kostenfrei - Online-Anmeldung erforderlich:\n\n&nbsp\;\n\nhttp
 s://lhm.webex.com/lhm/j.php?RGID=ra8fbe33532001811a49d9e12bca3e61c\n\n&nbs
 p\;\nHinweis:\nAlle Online-Veranstaltungen vom Bauzentrum München werden 
 mit Webex durchgeführt.\n&nbsp\;\n\nThema\n\n&nbsp\;\n\nDie Unabhängigke
 it von fossilen Energieträgern ist vor dem Hintergrund der aktuellen Entw
 icklungen wichtiger als je zuvor. Dies gilt insbesondere für die Wärmeve
 rsorgung. Derzeit steigen die Energiepreise stetig an und wir sind in der 
 Versorgung stark von externen Zulieferern abhängig. Um den Klimawandel au
 f ein erträgliches Maß zu begrenzen und unsere Gebäude auch zukünftig 
 mit behaglicher und kostengünstiger Wärme versorgen zu können\, bietet 
 gerade die Solarthermie ein großes Potential.\n\n&nbsp\;\n\nEin übergeor
 dnetes Ziel der Energiewende ist die vernetzte und klimaneutrale Versorgun
 g der Kommunen mit Wärme\, Strom und Mobilität bis in das einzelne Stadt
 quartier. Richtig eingesetzt und kombiniert kann die Solarthermie hier ein
 en wertvollen Beitrag für mehr Unabhängigkeit und Resilienz leisten. Die
  Vielfalt dieser Technologie ermöglicht ihren Einsatz dabei nicht nur in 
 der Wärmegewinnung\, sondern auch in der solaren Kühlung der Gebäude.\n
 \n&nbsp\;\n\nDieses Fachforum bietet einen guten Einblick in die aktuellen
  Entwicklungen in der Solarthermie. Vorgestellt werden Best-Practice-Beisp
 iele für solare Wärmenetze und Solar-Architektur\, aber auch Kosten/Nutz
 en-Aspekte und Fördermöglichkeiten.\n\n&nbsp\;\n\nDas Bauzentrum Münche
 n dankt Denise Pielniok für die fachliche Leitung bei der Vorbereitung di
 eser Veranstaltung und für die Moderation des Fachforums.\n\n&nbsp\;\n\nD
 iese Veranstaltung findet statt in Kooperation mit: https://www.solartherm
 ie-jahrbuch.de/\n\n&nbsp\;\n\nProgramm\n\n&nbsp\;\n\n9.00\nEinleitung und 
 Moderation\nDenise Pielniok\, Solarkoordinatorin Solarthermie\, Referat f
 ür Klima- und Umweltschutz\n\n&nbsp\;\n\n9.10\nSolarthermie - ein wichtig
 er Beitrag zur Wärmewende\nDr. Harald Drück\, Koordinator Forschung\,\nI
 nstitut für Gebäudeenergetik\, Universität Stuttgart\n\n&nbsp\;\n\n9.35
 \nSolare Wärme und Wärmespeicherung mit dem Sonnenhaus\nGeorg Dasch\, Di
 pl.-Ing. (FH)\,\nSonnenhaus-Institut e.V.\n\n&nbsp\;\n\n10.00\nSolarthermi
 sche Großanlagen und solare Wärmenetze\nPatrick Geiger\, M.Sc.\,\nSolite
 s - Steinbeis Forschungsinstitut für solare und zukunftsfähige thermisch
 e Energiesysteme\n\n&nbsp\;\n\n10.25\nFragen zum ersten Teil\n\n&nbsp\;\n\
 n10.35\nPause\n\n&nbsp\;\n\n10.50\nSolare Kühlung und Klimatisierung\nDr.
  Gerrit Füldner\, Dipl.-Phys.\, Head of Team Sorption Technology\,\nDivis
 ion Thermal Systems and Building Technolgies\,\nFraunhofer-Institut für S
 olare Energiesysteme ISE\n\n&nbsp\;\n\n11.15\nDie solarthermische Bauteila
 ktivierung\nFrank Hartmann\,\nForum Wohnenergie\n\n&nbsp\;\n\n11.40\nCheck
 liste für einen erfolgreichen Projektstart\nAxel Horn\, Dipl.-Ing. (FH)\,
 \nIngenieurbüro Solar Energie Information\n\n&nbsp\;\n\n12.05\nFragen zum
  zweiten Teil\n\n&nbsp\;\n\n12.15\nEnde der Veranstaltung\n\n&nbsp\;\n\nTe
 ilnahmebestätigung\n\n&nbsp\;\n\nFalls sie eine Teilnahme-Bestätigung be
 nötigen (ggf. inklusive Fortbildungsode für die Energieeffizienz-Experte
 n-Liste) muss diese kostenpflichtig (25 Euro) mittels Formblatt (Download-
 Portal) bestellt werden.\n(Hinweis: Für Mitarbeiter*innen der Landeshaupt
 stadt München ist die Bestätigung kostenfrei)
CATEGORIES:Fachforen - Exkursionen
END:VEVENT
BEGIN:VTIMEZONE
TZID:Europe/Berlin
X-LIC-LOCATION:Europe/Berlin
BEGIN:DAYLIGHT
DTSTART:20220327T030000
TZOFFSETFROM:+0100
TZOFFSETTO:+0200
TZNAME:CEST
END:DAYLIGHT
END:VTIMEZONE
END:VCALENDAR