
BEGIN:VCALENDAR
VERSION:2.0
PRODID:-//wp-events-plugin.com//6.6.3//EN
TZID:Europe/Berlin
X-WR-TIMEZONE:Europe/Berlin
BEGIN:VEVENT
UID:0-796@veranstaltungen.muenchen.de
DTSTART;TZID=Europe/Berlin:20221115T090000
DTEND;TZID=Europe/Berlin:20221115T120000
DTSTAMP:20221111T100548Z
URL:https://veranstaltungen.muenchen.de/bauzentrum/veranstaltungen/bauzent
 rum-web-forum-schimmel-vorbeugen/
SUMMARY:Bauzentrum Web-Forum: Schimmel vorbeugen – auch bei niedrigerer R
 aumtemperatur
DESCRIPTION:     \n\n&nbsp\;\n\nWeb-Forum vom Bauzentrum München in Koop
 eration mit dem Verband Baubiologie e.V.\n\nSchimmel vorbeugen – auch be
 i niedrigerer Raumtemperatur\n \n\nFortbildungspunkte Energieeffizienz-Ex
 pertenliste:\n\n4 Unterrichtseinheiten Wohngebäude\n4 Unterrichtseinheite
 n Nichtwohngebäude\n4 Unterrichtseinheiten Energieaudit DIN 16247\n\n&nbs
 p\;\n\nTeilnahme kostenfrei - Online-Anmeldung erforderlich:\n\n&nbsp\;\n\
 nhttps://lhm.webex.com/lhm/j.php?RGID=r10bea2742bd5a4b3407d5a6b836b5bad\n\
 n&nbsp\;\nAlle Online-Veranstaltungen vom Bauzentrum München werden mit W
 ebex durchgeführt.\n&nbsp\;\n\nTeilnahmebestätigung\n\n 	Falls sie eine 
 Teilnahme-Bestätigung benötigen (ggf. inklusive Fortbildungsode für die
  Energieeffizienz-Experten-Liste) muss diese kostenpflichtig (25 Euro) mit
 tels Formblatt (Download-Portal) bestellt werden.\n 	Für Mitarbeiter*inne
 n der Landeshauptstadt München ist die Bestätigung kostenfrei\n\n&nbsp\;
 \n\nThema\n\nZur Heizkosteneinsparung wird derzeit eine Absenkung der Raum
 temperatur empfohlen. Leider haben niedrige Raumtemperaturen auch niedrige
 re Innenoberflächentemperaturen und dadurch ein höhere Oberflächenfeuch
 te zur Folge. Dies kann bei ungünstigen raumklimatischen Bedingungen zu S
 chimmelbefall und entsprechenden gesundheitlichen Belastungen führen. Die
  Kosten für eine im Schadensfall erforderliche Sanierung können die erho
 fften finanziellen Einsparungen bei den Heizkosten übersteigen. Gebäude 
 mit guter Wärmedämmung sind hier meist weniger gefährdet als ungedämmt
 e. Auch unterschiedlich beheizte Räume können das Problem verschärfen. 
 Durch gezieltes Heizen und Lüften sind viele Probleme mit Feuchtigkeit un
 d Schimmel jedoch in den Griff zu bekommen. Wichtig ist es dabei\, die Rau
 mluftfeuchte zu beobachten\, die bestimmte Werte nicht überschreiten soll
 te. Dies hängt sowohl von der Außen- als auch von der Raumtemperatur ab.
  Auch spielen die Art der Heizung und die Strahlungssymmetrien eine Rolle.
 \n\n&nbsp\;\n\nDas Forum gibt Antworten auf folgende Fragestellungen:\n\n 
 	Wie kühl dürfen Räume werden\, ohne die Schimmelgefahr zu erhöhen?\n 
 	Welche hygienischen Anforderungen gelten und welche grundlegenden physika
 lischen Zusammenhänge müssen beachtet werden?\n 	Wie wirkt sich eine red
 uzierte Raumtemperatur auf den Feuchtehaushalt und die Schimmelbildung aus
 ?\n 	Wie kann sinnvoll geheizt und gelüftet werden?\n 	Welche sonstigen M
 aßnahmen sind im Neubau sowie im Bestand hilfreich?\n 	Welche Unterschied
 e gibt es zwischen Neubauten und älteren Gebäuden mit oder ohne Dämmung
 ?\n 	Welche rechtlichen Aspekte sind zu beachten? Wer trägt bei zwangswei
 se reduzierter Heiztemperatur die Verantwortung für Schäden - die Eigent
 ümer*innen oder die Mieter*innen?\n\n&nbsp\;\n\nDas Bauzentrum München d
 ankt Pamela Jentner für die fachliche Leitung bei der Vorbereitung dieser
  Veranstaltung sowie für die Moderation.\n\n&nbsp\;\n\nProgramm\n\n&nbsp\
 ;\n\n9.00\n\nEinleitung und Moderation\nPamela Jentner\, Dipl. Biol.\, Ora
 ngePep GmbH &amp\; Co.KG\, Freising\,\nVerband Baubiologie e.V.\n\n&nbsp\;
 \n\n9.10\n\nRaumklima\, Behaglichkeit\, Temperatur und Schimmelrisiko\n- B
 ehagliches Raumklima für unterschiedliche Räume und Nutzungen\n- Schimme
 lbefall\, vorbeugende Maßnahmen und Nutzerverhalten\nPamela Jentner\, Dip
 l.-Biol.\, OrangePep GmbH &amp\; Co.KG\, Freising\,\nVerband Baubiologie e
 .V.\n\n&nbsp\;\n\n9.25\n\nHeizung und Lüftung - grundlegende physikalisch
 e Zusammenhänge\n- Oberflächentemperatur\, Feuchte\, Lüftung und Schimm
 elbildung\n- Verschiedene Heizsysteme und Strahlungssymmetrien\n- Energiee
 insparung ohne Absenken der Raumtemperatur\nAlexander Schaaf\, Technisches
  Büro Alexander Schaaf\, München\n\n&nbsp\;\n\n10.05\n\nFragen zum erste
 n Teil\n\n&nbsp\;\n\n10.15\n\nPause\n\n&nbsp\;\n\n10.25\n\nAuswirkungen ei
 ner Temperatur-Absenkung auf hygienische Bedingungen im Raum\n- Veränderu
 ngen der Raumluftfeuchte\n- Oberflächenfeuchte und Schimmelrisiko\nProf. 
 Dr.-Ing. Hartwig Künzel\, Fraunhofer-Institut für Bauphysik IBP\, Valley
 \n\n&nbsp\;\n\n11.10\n\nRechtliche Aspekte bei reduzierter Raumtemperatur\
 n- Liegt die Verantwortung bei den Eigentümer*innen oder den Mieter*innen
 ?\n- Freiwillige Temperaturabsenkung oder zwangsweise Reduzierung?\nPatric
 k Lerch\, Rechtsanwalt\, Lerch &amp\; Donadio\, Nürnberg\n\n&nbsp\;\n\n11
 .40\n\nFragen zum zweiten Teil\n\n&nbsp\;\n\n12.00\n\nEnde der Veranstaltu
 ng
CATEGORIES:Fachforen - Exkursionen
END:VEVENT
BEGIN:VTIMEZONE
TZID:Europe/Berlin
X-LIC-LOCATION:Europe/Berlin
BEGIN:STANDARD
DTSTART:20221030T020000
TZOFFSETFROM:+0200
TZOFFSETTO:+0100
TZNAME:CET
END:STANDARD
END:VTIMEZONE
END:VCALENDAR