
BEGIN:VCALENDAR
VERSION:2.0
PRODID:-//wp-events-plugin.com//6.6.3//EN
TZID:Europe/Berlin
X-WR-TIMEZONE:Europe/Berlin
BEGIN:VEVENT
UID:0-597@veranstaltungen.muenchen.de
DTSTART;TZID=Europe/Berlin:20220317T090000
DTEND;TZID=Europe/Berlin:20220317T114000
DTSTAMP:20220224T145840Z
URL:https://veranstaltungen.muenchen.de/bauzentrum/veranstaltungen/bauzent
 rum-web-forum-quartiere-teil-2/
SUMMARY:Bauzentrum Web-Forum: Klimaneutrale und klimaresiliente Quartiere 
 – Teil 2
DESCRIPTION:Web-Forum vom Bauzentrum München\nKlimaneutrale und klimaresil
 iente Quartiere – Teil 2\n\n 	dena-Studie „Das Quartier-Teil II“\n 	
 Strategien und Hemmnisse\n 	Serielle Sanierung als Lösungsansatz\n 	Wärm
 ewende im Quartier\n\n \n\nFortbildungspunkte Energieeffizienz-Expertenli
 ste:\n\nDie Anerkennung von Fortbildungspunkten wurde beantragt.\n\n&nbsp\
 ;\n\nTeilnahme kostenfrei - Online-Anmeldung erforderlich - siehe unten\n\
 n&nbsp\;\nAlle Online-Veranstaltungen vom Bauzentrum München werden mit W
 ebex Events durchgeführt.\nAngemeldete Personen erhalten rechtzeitig (in 
 der Regel am Tag vor der Veranstaltung) den Teilnahme-Link per E-Mail.\n&n
 bsp\;\n\nThema\n\nIm zweiten Teil der Reihe „Klimaneutrale und klimaresi
 liente Quartiere“ liegt der Fokus auf der Energieversorgung\, der seriel
 len Sanierung und den Quartierskonzepten. Die im Januar veröffentlichte d
 ena-Studie definiert die Quartiersebene als festen Bestandteil des klimane
 utralen Energiesystems und legt die aktuellen Hemmnisse und Schwachstellen
  offen. Der Vortrag gibt aber auch einen Ausblick auf die nächsten Schrit
 te auf dem Weg zur Klimaneutralität im Quartier. Die Veranstaltung themat
 isiert unter anderem die Umsetzung von Quartierkonzepten. Es werden Projek
 te in den Bereichen Wärmewende und Klimaschutzaspekte aus Hamburg und Hei
 delberg vorgestellt.\nMit der Seriellen Sanierung von Quartieren gibt es e
 ine kostengünstige und schnell umsetzbare Möglichkeit\, mit vorgefertigt
 en Komponenten ganze Stadtviertel energetisch zu sanieren. Das erste in De
 utschland realisierte Projekt einer Seriellen Sanierung in Hameln wird vor
 gestellt. Dort\, wo die klimaneutrale Fernwärmeversorgung\, wie z.B. mit 
 Geothermie in München\, in den nächsten Jahrzehnten nicht umgesetzt werd
 en kann\, müssen Nahwärmenetze zum Einsatz kommen\, die auch Gebiete im 
 ländlichen Raum mit Wärme klimaneutral versorgen. Die Stadtwerke Bad Nau
 heim stellen ihr Konzept der kalten Nahwärme vor\, welches auch übertrag
 bar ist auf andere Kommunen.\nDieses Forum gibt einen Überblick zu den ak
 tuellen Entwicklungen aus Wissenschaft und Technik. Darüber hinaus stelle
 n die Referent*innen Konzepte und Praxiserfahrungen vor aus den Bereichen 
 Energieversorgung und Energieeinsparung im Quartier.\n\nDas Bauzentrum Mü
 nchen dankt Anke Richter für die fachliche Leitung bei der Vorbereitung d
 ieser Veranstaltung und Alexandra Bayer für die Moderation.\n\n&nbsp\;\n\
 nProgramm\n\n&nbsp\;\n\n9.00\n\nEinleitung und Moderation\nAlexandra Bayer
 \, minga architekten\, München\n\n&nbsp\;\n\n9.10\n\nDena-Studie „Das Q
 uartier-Teil II“\nQuartiersebene als fester Bestandteil des klimaneutral
 en Energiesystems\nSusanne Schmelcher\, Deutsche Energie-Agentur GmbH (den
 a)\, Berlin\n\n&nbsp\;\n\n9.35\n\nStrategien und Hemmnisse bei der klimane
 utralen Quartiersentwicklung\nHolger Zimmermann\, Ebök GmbH\, Tübingen\n
 \n&nbsp\;\n\n10.00\n\nKalte Nahwärme Bad Nauheim\nHerr Lach &amp\; Herr B
 öck\, Stadtwerke Bad Nauheim\n\n&nbsp\;\n\n10.20   Fragen zum ersten Te
 il\n\n&nbsp\;\n\n10.30   Pause\n\n&nbsp\;\n\n10.40\n\nSerielles Sanieren
  am Beispiel von Hameln\nErkenntnisse aus dem deutschlandweit ersten klima
 neutralen seriellen Sanierungsprojekt in Hameln\nEmanuel Heisenberg\, ecow
 orks GmbH\n\n&nbsp\;\n\n11:05\n\nWärmewende im Quartier\nJan Gerbitz\, Di
 pl.-Ing.\, ZEBAU – Zentrum für Energie\, Bauen\, Architektur und Umwelt
  Hamburg\n\n&nbsp\;\n\n11:30   Fragen zum zweiten Teil\n\n&nbsp\;\n\n11:
 40   Ende der Veranstaltung\n\n&nbsp\;\n\nTeilnahmebestätigung\n\nFalls
  sie eine Teilnahme-Bestätigung benötigen (ggf. inklusive Fortbildungsod
 e für die Energieeffizienz-Experten-Liste) muss diese kostenpflichtig (25
  Euro) mittels Formblatt (Download-Portal) bestellt werden.
CATEGORIES:Fachforen - Exkursionen
END:VEVENT
BEGIN:VTIMEZONE
TZID:Europe/Berlin
X-LIC-LOCATION:Europe/Berlin
BEGIN:STANDARD
DTSTART:20211031T020000
TZOFFSETFROM:+0200
TZOFFSETTO:+0100
TZNAME:CET
END:STANDARD
END:VTIMEZONE
END:VCALENDAR