
BEGIN:VCALENDAR
VERSION:2.0
PRODID:-//wp-events-plugin.com//6.6.3//EN
TZID:Europe/Berlin
X-WR-TIMEZONE:Europe/Berlin
BEGIN:VEVENT
UID:0-980@veranstaltungen.muenchen.de
DTSTART;TZID=Europe/Berlin:20230419T090000
DTEND;TZID=Europe/Berlin:20230419T122500
DTSTAMP:20230418T131406Z
URL:https://veranstaltungen.muenchen.de/bauzentrum/veranstaltungen/bauzent
 rum-web-forum-pv-gruendach-teil-1/
SUMMARY:Bauzentrum Web-Forum: Photovoltaik-Gründach 2023 - Teil 1
DESCRIPTION:     \n\nDiese Veranstaltung unterstützt Wattbewerb Münche
 n: muenchen.de/wattbewerb\n\n&nbsp\;\n\nWeb-Forum vom Bauzentrum München\
 n\n&nbsp\;\n\nWattbewerb Spezial\nPhotovoltaik-Gründach 2023 – Teil 1\n
 Praxisbeispiel – Anwendungsfälle – Planungsgrundlagen – Fördermög
 lichkeiten\n \n\nFortbildungspunkte Energieeffizienz-Expertenliste:\n\n4 
 Unterrichtseinheiten Wohngebäude\n4 Unterrichtseinheiten Nichtwohngebäud
 e\n4 Unterrichtseinheiten Energieaudit DIN 16247\n\n&nbsp\;\n\nTeilnahme k
 ostenfrei - Online-Anmeldung erforderlich:\n\n&nbsp\;\n\nHier anmelden\n\n
 &nbsp\;\nAlle Online-Veranstaltungen vom Bauzentrum München werden mit We
 bex durchgeführt.\n&nbsp\;\n\nTeilnahmebestätigung\n\n 	Falls sie eine T
 eilnahme-Bestätigung benötigen (ggf. inklusive Fortbildungsode für die 
 Energieeffizienz-Experten-Liste) muss diese kostenpflichtig (25 Euro) mitt
 els Formblatt (Download-Portal) bestellt werden.\n 	Für Mitarbeiter*innen
  der Landeshauptstadt München ist die Bestätigung kostenfrei und kann fo
 rmlos per E-Mail bestellt werden.\n\n&nbsp\;\n\nThema\n\n&nbsp\;\n\nDie En
 ergiekosten sind hoch und zur Erreichung der Klimaziele brauchen wir einen
  starken Ausbau der Photovoltaik. Daher stellen sich immer mehr Gebäudeei
 gentümer*innen und Planer*innen die Frage\, ob auf dem Flachdach ihres Ne
 ubau- oder Sanierungsvorhabens zusätzlich zu der in München vorgeschrieb
 enen Dachbegrünung auch eine Photovoltaikanlage installiert werden kann. 
 In vielen Fällen ist dies realisierbar in Form eines sogenannten Solargr
 ündachs. Damit wird es möglich\, von beiden Nutzungsformen zu profitiere
 n.\n\n&nbsp\;\n\nEin Solargründach verbindet Klimaschutz mit Naturschutz 
 und Klimaanpassung. Die Photovoltaikanlage produziert Strom aus erneuerbar
 en Energien und trägt so zum Klimaschutz bei. Die Dachbegrünung schafft 
 einen teilweisen Ausgleich für die vom Gebäude versiegelte Fläche und s
 chafft neuen Lebensraum für Pflanzen und Insekten. Angenehmere Temperatur
 en unter dem Dach erhöhen den Wohnkomfort und bewirken somit auch ein St
 ück Anpassung an die Folgen des Klimawandels. Durch die kühlende Wirkung
  der Begrünung ergibt sich ein möglicher Mehrertrag bei der Stromerzeugu
 ng in der darüber installierten PV-Anlage. Bei der Umsetzung von Solargr
 ündächern treffen viele Gewerke aufeinander\, die es aufeinander abzusti
 mmen gilt\, um ein gutes Ergebnis zu erzielen. Eine fachgerechte Planung\,
  Ausführung und eine gute Kommunikation der einzelnen Fachfirmen sind wic
 htige Voraussetzungen für eine reibungslose Umsetzung.\n\n&nbsp\;\n\nDies
 es Fachforum gibt einen Überblick zu Ausführungsmöglichkeiten für Sola
 rgründächer\, zu ihren Vorteilen und darüber was bei der Planung beacht
 et werden sollte. Am Beispiel des „Haus der Architektur“ in München w
 erden Zusammenhänge erläutert. Zudem erfahren die Teilnehmenden\, welche
  Fördermöglichkeiten es in München für Solargründächer gibt.\nDas Ba
 uzentrum München dankt Lena Kehl für die fachliche Leitung bei der Vorbe
 reitung dieser Veranstaltung sowie für die Moderation.\n\n&nbsp\;\n\nProg
 ramm\n\n&nbsp\;\n\n9.00\nBegrüßung\, Einführung und Moderation\nLena Ke
 hl\, Ingenieurbüro Kehl\n\n&nbsp\;\n\n9.10\nPraxisbeispiel: Haus der Arch
 itektur\, München\nNachhaltiges Bauen im Bestand – Solargründach als B
 austein für CO2-Neutralität\nThomas M. Lenzen\, Bayerische Architektenka
 mmer\n\n&nbsp\;\n\n9.45\nSolargründach – Grundlagen und Erfolgsfaktoren
 \nStefan Zeller\, Bundesverband GebäudeGrün e. V. (BuGG)\n\n&nbsp\;\n\n1
 0.20\nPhotovoltaikplanung – worauf ist zu achten?\nKevin Bjarsch\, Ingen
 ieurbüro Kehl\n\n&nbsp\;\n\n10.55\nPause\n\n&nbsp\;\n\n11.05\nPV-Gründac
 h im Neubau und Bestand:\nWelche weiteren Planungsrandbedingungen gibt es?
 \nLena Kehl\, Ingenieurbüro Kehl\n\n&nbsp\;\n\n11.40\nPhotovoltaikförder
 ung der Landeshauptstadt München\nMünchner Förderprogramm Klimaneutrale
  Gebäude (FKG)\nKlaus-Peter Rosenthal\, PV-Berater\n\n&nbsp\;\n\n12.10\nG
 ründachförderung der Landeshauptstadt München\nMünchner Förderprogram
 m Begrünung\nCornelia Leupold\, Referat für Klima- und Umweltschutz\, F
 örderprogramm Begrünung\n\n&nbsp\;\n\n12.25\nEnde der Veranstaltung
CATEGORIES:Fachforen - Exkursionen,Veranstaltungen zur Solarenergie
END:VEVENT
BEGIN:VTIMEZONE
TZID:Europe/Berlin
X-LIC-LOCATION:Europe/Berlin
BEGIN:DAYLIGHT
DTSTART:20230326T030000
TZOFFSETFROM:+0100
TZOFFSETTO:+0200
TZNAME:CEST
END:DAYLIGHT
END:VTIMEZONE
END:VCALENDAR