
BEGIN:VCALENDAR
VERSION:2.0
PRODID:-//wp-events-plugin.com//6.6.3//EN
TZID:Europe/Berlin
X-WR-TIMEZONE:Europe/Berlin
BEGIN:VEVENT
UID:0-869@veranstaltungen.muenchen.de
DTSTART;TZID=Europe/Berlin:20230227T140000
DTEND;TZID=Europe/Berlin:20230227T164500
DTSTAMP:20230227T083039Z
URL:https://veranstaltungen.muenchen.de/bauzentrum/veranstaltungen/bauzent
 rum-web-forum-mieterstrom-2023-teil-1/
SUMMARY:Bauzentrum Web-Forum: Mieterstrom 2023 – Teil 1: Messtechnik und 
 Abrechnung
DESCRIPTION:     \n\nDiese Veranstaltung unterstützt Wattbewerb Münche
 n: muenchen.de/wattbewerb\n\n&nbsp\;\n\nWeb-Forum vom Bauzentrum München\
 n\nMieterstrom 2023 – Teil 1: Messtechnik und Abrechnung\n \n\nFortbild
 ungspunkte Energieeffizienz-Expertenliste:\n\n3 Unterrichtseinheiten Wohng
 ebäude\n3 Unterrichtseinheiten Nichtwohngebäude\n3 Unterrichtseinheiten 
 Energieaudit DIN 16247\n\n&nbsp\;\n\nTeilnahme kostenfrei - Online-Anmeldu
 ng erforderlich:\n\n&nbsp\;\n\nhttps://lhm.webex.com/weblink/register/r336
 bfa4b0981677cd3abeef1df52b910\n\n&nbsp\;\nAlle Online-Veranstaltungen vom 
 Bauzentrum München werden mit Webex durchgeführt.\n&nbsp\;\n\nTeilnahmeb
 estätigung\n\n 	Falls sie eine Teilnahme-Bestätigung benötigen (ggf. in
 klusive Fortbildungsode für die Energieeffizienz-Experten-Liste) muss die
 se kostenpflichtig (25 Euro) mittels Formblatt (Download-Portal) bestellt 
 werden.\n 	Für Mitarbeiter*innen der Landeshauptstadt München ist die Be
 stätigung kostenfrei und kann formlos per E-Mail bestellt werden.\n\n&nbs
 p\;\n\nThema\n\n&nbsp\;\n\nMehr als die Hälfte des Solarpotentials in der
  Stadt München befindet sich auf Dach- und Fassadenflächen. Photovoltaik
 -Anlagen werden besonders durch die Eigennutzung des Solarstroms attraktiv
 . Doch der Eigenverbrauch ist bei mehreren Parteien schwierig zu managen. 
 Mieterstrom (auch Quartierstrom oder allgemeiner Direktstrom genannt) biet
 et sich hier als Lösung an und bedeutet im weiteren Sinne die Direktliefe
 rung von Strom durch einen Dritten direkt im Gebäude an mehrere Parteien.
  Mieterstrom bietet besonders in den Städten\, dort wo es besonders viele
  Wohnungseigentümer-Gemeinschaften (WEG)\, Mehrparteienhäuser und Wohnqu
 artiere gibt\, eine große Chance für die Energiewende.\n\n&nbsp\;\n\nIn 
 dieser neuen mehrteiligen Forums-Reihe bietet das Bauzentrum München fach
 liche Informationen und Hilfestellungen zu wichtigen Detailbereichen rund 
 um Mieterstrom.\n\n&nbsp\;\n\nDer erste Teil beschäftigt sich mit dem zen
 tralen Thema Messung und Abrechnung gemäß dem Energiewirtschaftsgesetz (
 EnWG). Die Veranstaltung gibt einen Überblick\, welche rechtlichen Vorgab
 en erfüllt werden müssen und wie die Stromabrechnung für kleine und gr
 ößere Mietobjekte\, WEGs sowie Gewerbeimmobilien mit wenig Aufwand organ
 isiert werden kann. Darüber hinaus erläutern die Referent*innen\, wie Me
 sstechnik und Abrechnungssoftware in der Praxis funktionieren.\n\n&nbsp\;\
 n\nDas Bauzentrum München dankt Klaus-Peter Rosenthal für die fachliche 
 Leitung bei der Vorbereitung dieser Veranstaltung sowie für die Moderatio
 n.\n\n&nbsp\;\n\nProgramm\n\n&nbsp\;\n\n14.00\nEinführung und Moderation\
 nKlaus-Peter Rosenthal\, Dipl.-Ing. (FH)\, Mieterstrom-Berater\n\n&nbsp\;\
 n\n14.10\nAktuelle Mieterstrommodelle und Anforderungen an die Messkonzept
 e\nKlaus-Peter Rosenthal\, Dipl.-Ing. (FH)\, Mieterstrom-Berater\n\n&nbsp\
 ;\n\n14.40\nEintarif-\, Zweitarif- und Mehrtarifmesskonzepte\nDr. Andreas 
 Horn\, Easy Energiedienste Sonnenkraft Freising GmbH\n\n&nbsp\;\n\n15.10\n
 Rechtliche Anforderungen an die Abrechnung von Mieterstrom\nTatjana Schnei
 der\, Rechtsanwältin\, Maier Rechtsanwälte PartGmbB\n\n&nbsp\;\n\n15.30\
 nFragen zum ersten Teil\n\n&nbsp\;\n\n15.40\nPause\n\n&nbsp\;\n\n15.50\nMi
 eterstrom aber einfach\nLokales Energy-Sharing mit attraktiven finanzielle
 n\, sozialen und ökologischen Renditen\nRalf Gruber\, Projektmanagement\,
  Pionierkraft GmbH\n\n&nbsp\;\n\n16.05\nMieterstrom einfach umgesetzt\nSie
 gfried Götz\, Head of Sales\, Smart-Red GmbH\n\n&nbsp\;\n\n16.20\nMieters
 trom selbst verwalten durch rechtssichere und skalierbare Softwarelösung\
 nPascal Stephan\, Sales- und Projekt-Manager\, metergrid GmbH\n\n&nbsp\;\n
 \n16.35\nFragen zum zweiten Teil\n\n&nbsp\;\n\n16.45\nEnde der Veranstaltu
 ng
CATEGORIES:Fachforen - Exkursionen,Veranstaltungen zur Solarenergie
END:VEVENT
BEGIN:VTIMEZONE
TZID:Europe/Berlin
X-LIC-LOCATION:Europe/Berlin
BEGIN:STANDARD
DTSTART:20221030T020000
TZOFFSETFROM:+0200
TZOFFSETTO:+0100
TZNAME:CET
END:STANDARD
END:VTIMEZONE
END:VCALENDAR