
BEGIN:VCALENDAR
VERSION:2.0
PRODID:-//wp-events-plugin.com//6.6.3//EN
TZID:Europe/Berlin
X-WR-TIMEZONE:Europe/Berlin
BEGIN:VEVENT
UID:0-1019@veranstaltungen.muenchen.de
DTSTART;TZID=Europe/Berlin:20230705T090000
DTEND;TZID=Europe/Berlin:20230705T123000
DTSTAMP:20230628T091908Z
URL:https://veranstaltungen.muenchen.de/bauzentrum/veranstaltungen/bauzent
 rum-web-forum-energiegemeinschaften/
SUMMARY:Bauzentrum Web-Forum: Klimaneutrale und klimaresiliente Quartiere 2
 023 – Teil 3: Energiegemeinschaften
DESCRIPTION:    \n\nDiese Veranstaltung unterstützt Wattbewerb München:
  muenchen.de/wattbewerb\n\n&nbsp\;\n\nWeb-Forum vom Bauzentrum München\n\
 n&nbsp\;\nKlimaneutrale und klimaresiliente Quartiere 2023 – Teil 3:\nEn
 ergiegemeinschaften – gemeinsam Solarstrom im Quartier erzeugen und nutz
 en\n \n\nFortbildungspunkte Energieeffizienz-Expertenliste:\n\n4 Unterric
 htseinheiten Wohngebäude\n4 Unterrichtseinheiten Nichtwohngebäude\n4 Unt
 errichtseinheiten Energieaudit DIN 16247\n\n&nbsp\;\n\nTeilnahme kostenfre
 i - Online-Anmeldung erforderlich:\n\n&nbsp\;\n\nLink zur Anmeldung\n\n&nb
 sp\;\nAlle Online-Veranstaltungen vom Bauzentrum München werden mit Webex
  durchgeführt.\n&nbsp\;\n\nTeilnahmebestätigung\n\n 	Falls sie eine Teil
 nahme-Bestätigung benötigen (ggf. inklusive Fortbildungsode für die Ene
 rgieeffizienz-Experten-Liste) muss diese kostenpflichtig (25 Euro) mittels
  Formblatt bestellt werden.\n 	Für Mitarbeiter*innen der Landeshauptstadt
  München ist die Bestätigung kostenfrei und kann formlos per E-Mail best
 ellt werden.\n\n&nbsp\;\n\nThema\n\n&nbsp\;\n\n 	In welchen Organisationsf
 ormen können sich Energiegemeinschaft gründen?\n 	Welche Geschäftsmodel
 le sind in der heutigen Rechtslage tragfähig und welche Perspektiven vers
 prechen anstehende Reformen?\n 	Was können wir von bestehenden Beispielen
  auch in anderen EU-Ländern lernen und übertragen?\n 	Wie gelingt eine f
 aire Beteiligung von allen Verbraucher*innen?\n\n&nbsp\;\n\nIm dritten Tei
 l der Reihe „Klimaneutrale und klimaresiliente Quartiere“ liegt der Fo
 kus auf der gemeinschaftlichen Eigenversorgung mit erneuerbaren Energien. 
 In Energiegemeinschaften schließen sich lokale Haushalte\, KMU und Kommun
 en zusammen\, um beispielsweise Solaranlagen zu bauen und zu betreiben. Di
 e EU gibt mit dem so genannten Energy Sharing vor\, dass die Mitglieder de
 n gemeinschaftlich erzeugten Solarstrom über mehrere Gebäude hinweg selb
 st nutzen können\, so dass auch Verbraucher*innen ohne Eigenheim von prei
 sgünstigem Solarstrom profitieren können. Neben diesem finanziellen Nutz
 en fördert die direkte inhaltliche Mitgestaltung der eigenen Energieverso
 rgung den sozialen Zusammenhalt vor Ort und mobilisiert Investitionen. Ene
 rgiegemeinschaften haben deswegen erhebliches Potenzial eine saubere Vor-O
 rt Versorgung durch lokales Bürger*innen-Engagement voranzutreiben.\n\n&n
 bsp\;\n\nDieses Forum stellt zunächst europäische Erfolgskonzepte und Pr
 axiserfahrungen aus bestehenden Energiegemeinschaften insbesondere in Stä
 dten vor. Referenten aus Lyon und Wien berichten über deren Entstehungsge
 schichte\, Organisations- und Geschäftsmodelle. Anschließend stehen Umse
 tzungsmöglichkeiten in Deutschland trotz des hierzulande fehlenden Rechts
  auf Energy Sharing im Fokus. Energiewirtschaftliche und genossenschaftlic
 he Akteur*innen erörtern hierzu praktikable und innovative Ansätze. Weit
 ere Impulse liefern Forschungsergebnisse zu sozialverträglichen Finanzier
 ungslösungen für die energetische Sanierung im Kontext einkommensschwach
 er Haushalte. Schließlich geht die Diskussion mit den Expert*innen den Fr
 agen nach\, welche Zukunftsperspektiven regulatorische und technische Weit
 erentwicklungen in Richtung Energy Sharing\, Smart Meter und Digitalisieru
 ng für quartiersbezogene Energiegemeinschaften eröffnen und wie München
  im Rahmen des integrierten Quartiersansatzes Energie- und Sanierungsgemei
 nschaften fördern kann.\n\n&nbsp\;\n\nDie Veranstaltung richtet sich an A
 kteur*innen\, die sich für Bürgerenergie\, solare Quartiersstromversorgu
 ng\, Energiewende in Städten und Sharing Konzepte interessieren oder sich
  engagieren wollen.\n\n&nbsp\;\n\nDas Bauzentrum München dankt Serena Kel
 ler und Claudia Hemmerle (TU München) für die fachliche Leitung bei der 
 Vorbereitung dieser Veranstaltung sowie Claudia Hemmerle und Emmanuelle Po
 lette-Burkardt für die Moderation.\n\n&nbsp\;\n\nDie Veranstaltung findet
  statt in Kooperation mit der Technischen Universität München (TUM) sowi
 e den EU-Projekten ASCEND (Accelerate Positive Clean Energy Districts) mit
  den Leuchtturmstädten München und Lyon und „Creating NEBourhoods Toge
 ther“ im Rahmen des Neuen Europäischen Bauhauses.\n\n&nbsp\;\n\nLinks:\
 nstadt.muenchen.de/infos/ascend\nwww.nebourhoods.de\n\n&nbsp\;\n\nWir möc
 hten in diesem Zusammenhang auf eine weitere Bauzentrums-Veranstaltung am 
 19.06.2023 hinweisen:\nWeb-Forum „Mieterstrom 2023 – Teil 2: Mieterstr
 om in der aktuellen Gesetzgebung“\n\n&nbsp\;\n\nProgramm\n\n&nbsp\;\n\n9
 .00\nBegrüßung\, Einführung und Moderation\nClaudia Hemmerle\, TU Münc
 hen und Emmanuelle Polette-Burkhardt\, Referat für Klima- und Umweltschut
 z\n\n&nbsp\;\n\n9.15\nBest Practice in Europa und EU-Rahmenbedingungen - R
 olle der Stadt\nEnergiegemeinschaften als Treiber einer demokratischen und
  erneuerbaren Energiewende in Europa\nMiriam Eisermann\, Kommunikation &am
 p\; EU Politik\, Europäisches Städtenetzwerk Energy Cities\n\n&nbsp\;\n\
 n9.40\nBest Practice aus Lyon\, Frankreich (auf Englisch)\nBruno Gaiddon\,
  Experte für Photovoltaikanlagen und Netze\, Hespul e.V.\n\n&nbsp\;\n\n10
 .05\nBest Practice aus Wien\, Österreich\nKonstantin Geiger\, Experte fü
 r städtische erneuerbare Energien\, Urban Innovation Vienna\n\n&nbsp\;\n\
 n10.35\nPause\n\n&nbsp\;\n\n10.45\nEnergiegemeinschaften als Teilnehmer am
  Energiemarkt\nRahmenbedingungen und energiewirtschaftliche Einbettung\nPe
 ter Ugolini-Schmidt\, Energiepolitischer Sprecher\, EWS Elektrizitätswerk
 e Schönau eG\; Bündnis Bürgerenergie BBEn e.V.\n\n&nbsp\;\n\n11.10\nEne
 rgiegemeinschaften und Bürgerenergie im erneuerbaren Energiesystem\nErfah
 rung in Deutschland und München\nKatharina Habersbrunner\, Bürgerenergie
 genossenschaft BENG eG\; Bündnis Bürgerenergie BBEn e.V.\n\n&nbsp\;\n\n1
 1.35\nFinanzierung der Wärmewende in einkommensschwachen Haushalten\nAudr
 ey Dobbins\, INVEST Wärmewende\; Forschungsgruppenleiterin\, Abteilung En
 ergiewirtschaft und Sozialwissenschaftliche Analysen\, Universität Stuttg
 art\n\n&nbsp\;\n\n12.00\nPodiumsgespräch (mit zusätzlicher Teilnahme von
  Peter Schaumann\, Solar2030 e.V.)\n\n&nbsp\;\n\n12.20\nZusammenfassung un
 d Ausblick\n\n&nbsp\;\n\n12.30\nEnde der Veranstaltung
CATEGORIES:Fachforen - Exkursionen,Veranstaltungen zur Solarenergie
END:VEVENT
BEGIN:VTIMEZONE
TZID:Europe/Berlin
X-LIC-LOCATION:Europe/Berlin
BEGIN:DAYLIGHT
DTSTART:20230326T030000
TZOFFSETFROM:+0100
TZOFFSETTO:+0200
TZNAME:CEST
END:DAYLIGHT
END:VTIMEZONE
END:VCALENDAR