
BEGIN:VCALENDAR
VERSION:2.0
PRODID:-//wp-events-plugin.com//6.6.3//EN
TZID:Europe/Berlin
X-WR-TIMEZONE:Europe/Berlin
BEGIN:VEVENT
UID:0-1870@veranstaltungen.muenchen.de
DTSTART;TZID=Europe/Berlin:20250602T183000
DTEND;TZID=Europe/Berlin:20250602T193000
DTSTAMP:20250527T114053Z
URL:https://veranstaltungen.muenchen.de/bauzentrum/veranstaltungen/bauzent
 rum-praesenz-vortrag-in-der-mvhs-west-regenwasser-speichern-oder-versicker
 n/
SUMMARY:Bauzentrum Präsenz-Vortrag in der MVHS West: Regenwasser – speic
 hern oder versickern?
DESCRIPTION:    \n\nPräsenz-Vortrag vom Bauzentrum München in der MVHS 
 West (Pasing)\n\n&nbsp\;\nRegenwasser – speichern oder versickern?\n&nbs
 p\;\n\nEintritt kostenfrei - Anmeldung bei der MVHS erforderlich\n\nhttps:
 //www.mvhs.de/kurse/gesundheit-umwelt-kochkultur/nachhaltig-leben/nachhalt
 ig-bauen-sanieren-wohnen/wasser/regenwasser-speichern-oder-versickern-460-
 C-U324407\n\n&nbsp\;\n\nReferent*in:\n\nBoris John\, Sachverständiger\n\n
 \n&nbsp\;\n\nRegenwasser ist viel zu wertvoll\, um es einfach über die Ka
 nalisation abfließen zu lassen. Es kann über durchlässige Beläge\, Mul
 den oder Schächte im Boden versickern und so gereinigt das Grundwasser wi
 eder auffüllen. Dachwässer können in Zisternen und Teichen gespeichert 
 werden\, um damit den Garten zu bewässern. Sie können auch gereinigt im 
 Haus als “Grauwasser” den Trinkwasserverbrauch senken. Der Sachverstä
 ndige Boris John informiert über die vielfältigen Möglichkeiten und erl
 äutert auch baurechtliche Voraussetzungen\, Kosten sowie die Vorteile von
  Speichersystemen. Im Anschluss besteht die Möglichkeit zu einer Kurzbera
 tung.
CATEGORIES:Infovorträge - Führungen - Infotage
LOCATION:Münchner Volkshochschule West (Pasing)\, Bäckerstr. 14\, Münche
 n\, Bayern\, 81241\, Deutschland
GEO:48.145704;11.461308
X-APPLE-STRUCTURED-LOCATION;VALUE=URI;X-ADDRESS=Bäckerstr. 14\, München\,
  Bayern\, 81241\, Deutschland;X-APPLE-RADIUS=100;X-TITLE=Münchner Volksho
 chschule West (Pasing):geo:48.145704,11.461308
END:VEVENT
BEGIN:VTIMEZONE
TZID:Europe/Berlin
X-LIC-LOCATION:Europe/Berlin
BEGIN:DAYLIGHT
DTSTART:20250330T030000
TZOFFSETFROM:+0100
TZOFFSETTO:+0200
TZNAME:CEST
END:DAYLIGHT
END:VTIMEZONE
END:VCALENDAR