
BEGIN:VCALENDAR
VERSION:2.0
PRODID:-//wp-events-plugin.com//6.6.3//EN
TZID:Europe/Berlin
X-WR-TIMEZONE:Europe/Berlin
BEGIN:VEVENT
UID:0-527@veranstaltungen.muenchen.de
DTSTART;TZID=Europe/Berlin:20220124T183000
DTEND;TZID=Europe/Berlin:20220124T193000
DTSTAMP:20211221T075955Z
URL:https://veranstaltungen.muenchen.de/bauzentrum/veranstaltungen/bauzent
 rum-online-vortrag-mvhs-schimmel/
SUMMARY:Bauzentrum Online-Vortrag für MVHS: Frei von Schimmel - vorbeugen 
 und sanieren
DESCRIPTION:Online-Vortrag vom Bauzentrum München für die MVHS Nord\nFrei
  von Schimmel - vorbeugen und sanieren\n&nbsp\;\n\nTeilnahme kostenfrei - 
 Anmeldung bei der MVHS erforderlich:\n\n&nbsp\;\n\nhttps://www.mvhs.de/pro
 gramm/umwelt-wissenschaft.20241/N324232\n\n&nbsp\;\n\nReferent:\nEdmund Br
 omm\, Sachverständiger\nEhrenamtlicher Berater beim Bauzentrum München\n
 \n&nbsp\;\n\nSchimmel in der Wohnung ist eklig und kann Allergien auslöse
 n. Oftmals entsteht Schimmel nach Modernisierungen\, vor allem wenn die ei
 nzelnen Maßnahmen nicht gut aufeinander abgestimmt waren. In der Heizsais
 on sollte immer darauf geachtet werden\, dass an den Wänden kein Tauwasse
 r entsteht\, welches dem Schimmel einen perfekten Nährboden bereitet. Der
  Sachverständige Edmund Bromm zeigt in seinem Vortrag wie Schimmel vermie
 den oder wieder beseitigt werden kann und wie die Wohnung im schlimmsten F
 all fachgerecht zu sanieren ist.
CATEGORIES:Infovorträge - Führungen - Infotage
END:VEVENT
BEGIN:VTIMEZONE
TZID:Europe/Berlin
X-LIC-LOCATION:Europe/Berlin
BEGIN:STANDARD
DTSTART:20211031T020000
TZOFFSETFROM:+0200
TZOFFSETTO:+0100
TZNAME:CET
END:STANDARD
END:VTIMEZONE
END:VCALENDAR