
BEGIN:VCALENDAR
VERSION:2.0
PRODID:-//wp-events-plugin.com//6.6.3//EN
TZID:Europe/Berlin
X-WR-TIMEZONE:Europe/Berlin
BEGIN:VEVENT
UID:0-538@veranstaltungen.muenchen.de
DTSTART;TZID=Europe/Berlin:20220215T180000
DTEND;TZID=Europe/Berlin:20220215T190000
DTSTAMP:20220125T081958Z
URL:https://veranstaltungen.muenchen.de/bauzentrum/veranstaltungen/bauzent
 rum-online-infoabend-wohnraumlueftung/
SUMMARY:Bauzentrum Online-Infoabend: Wohnraumlüftung zur Feuchtevermeidung
DESCRIPTION:Online-Infoabend vom Bauzentrum München\nWohnraumlüftung zur 
 Feuchtevermeidung\n&nbsp\;\n\nTeilnahme kostenfrei - Anmeldung erforderlic
 h - siehe unten\n\n&nbsp\;\n\nReferent:\n\nAlexander Schaaf\, staatlich ge
 prüfter Techniker und Sachverständiger\n\n\n&nbsp\;\nAlle Online-Veranst
 altungen vom Bauzentrum München werden mit Webex Events durchgeführt.\nA
 ngemeldete Personen erhalten rechtzeitig (in der Regel am Tag vor der Vera
 nstaltung) den Teilnahme-Link per E-Mail.\n&nbsp\;\n\nBei alten Kastenfens
 tern wurde die Luft in Wohnräumen durch Undichtigkeiten bis zu 10-mal pro
  Stunde sozusagen „automatisch“ ausgetauscht\, aber damit gleichzeitig
  auch die Wärme im Raum im wahrsten Sinne des Wortes „zum Fenster hinau
 s geheizt“. Außerdem musste die trockene Luft im Raum häufig künstlic
 h befeuchtet werden. Um Energieverluste zu vermeiden müssen Wohnräume he
 utzutage luftdicht sein. Moderne Fenster verringern diese Energieverluste 
 sehr stark\, verhindern durch ihre Dichtheit aber auch den notwendigen Luf
 taustausch und Feuchteabtransport. Weil insbesondere berufstätige Bewohne
 r*innen häufig nur 2- bis 3-mal täglich stoßlüften können und dies me
 ist nicht ausreicht\, ist eine mechanische Lüftungsanlage die logische Ko
 nsequenz. Der staatlich geprüfte Techniker und Sachverständige Alexander
  Schaaf erläutert die gesetzlichen Vorgaben\, die gültigen Normen und di
 e einzelnen Systeme mit ihren Vor- und Nachteilen.
CATEGORIES:Infovorträge - Führungen - Infotage
END:VEVENT
BEGIN:VTIMEZONE
TZID:Europe/Berlin
X-LIC-LOCATION:Europe/Berlin
BEGIN:STANDARD
DTSTART:20211031T020000
TZOFFSETFROM:+0200
TZOFFSETTO:+0100
TZNAME:CET
END:STANDARD
END:VTIMEZONE
END:VCALENDAR