
BEGIN:VCALENDAR
VERSION:2.0
PRODID:-//wp-events-plugin.com//6.6.3//EN
TZID:Europe/Berlin
X-WR-TIMEZONE:Europe/Berlin
BEGIN:VEVENT
UID:0-1311@veranstaltungen.muenchen.de
DTSTART;TZID=Europe/Berlin:20240612T180000
DTEND;TZID=Europe/Berlin:20240612T190000
DTSTAMP:20240531T073925Z
URL:https://veranstaltungen.muenchen.de/bauzentrum/veranstaltungen/bauzent
 rum-online-infoabend-strom-sparen-balkonsolar/
SUMMARY:Bauzentrum Online-Infoabend: Strom sparen und selbst erzeugen mit B
 alkonsolar
DESCRIPTION:         \n\nDiese Veranstaltung unterstützt Wattbewerb M
 ünchen: muenchen.de/wattbewerb\n\n&nbsp\;\n\nOnline-Infoabend vom Bauzent
 rum München\nStrom sparen und selbst erzeugen mit Balkonsolar\n&nbsp\;\n\
 nTeilnahme kostenfrei - Online-Anmeldung erforderlich:\n\nhttps://lhm.webe
 x.com/weblink/register/rcfe1976d8dcbbad13710d64b3678646d\n\n&nbsp\;\n\nAll
 e Online-Veranstaltungen vom Bauzentrum München werden mit Webex durchgef
 ührt.\n\n&nbsp\;\n\nReferent*in:\n\nNorbert Endres\n\n\n&nbsp\;\n\nStrom 
 sparen dient der Umwelt und schont den Geldbeutel. Energieberater Norbert 
 Endres zeigt Möglichkeiten auf\, wie in Haus und Haushalt durch einfache 
 Maßnahmen Strom und damit Geld gespart werden kann\, ohne auf den gewohnt
 en Komfort zu verzichten. Der benötigte Strom kann mittels Photovoltaik t
 eilweise selbst vor Ort erzeugt werden. Photovoltaik kann nicht nur auf de
 m Dach\, sondern auch auf dem Balkon\, der Terrasse\, an der Fassade oder 
 im Garten produziert werden. Der Referent zeigt die verschiedenen Möglich
 keiten auf und erläutert ebenso die Funktionsweise von Mieterstrom und St
 ecker-Solargeräten.
CATEGORIES:Infovorträge - Führungen - Infotage,Veranstaltungen zur
 Solarenergie
END:VEVENT
BEGIN:VTIMEZONE
TZID:Europe/Berlin
X-LIC-LOCATION:Europe/Berlin
BEGIN:DAYLIGHT
DTSTART:20240331T030000
TZOFFSETFROM:+0100
TZOFFSETTO:+0200
TZNAME:CEST
END:DAYLIGHT
END:VTIMEZONE
END:VCALENDAR