
BEGIN:VCALENDAR
VERSION:2.0
PRODID:-//wp-events-plugin.com//6.6.3//EN
TZID:Europe/Berlin
X-WR-TIMEZONE:Europe/Berlin
BEGIN:VEVENT
UID:0-686@veranstaltungen.muenchen.de
DTSTART;TZID=Europe/Berlin:20221027T180000
DTEND;TZID=Europe/Berlin:20221027T190000
DTSTAMP:20220929T111013Z
URL:https://veranstaltungen.muenchen.de/bauzentrum/veranstaltungen/bauzent
 rum-online-infoabend-solarthermie-oder-pv/
SUMMARY:Bauzentrum Online-Infoabend Wattbewerb: Solarthermie versus Photovo
 ltaik
DESCRIPTION:               \n\nDiese Veranstaltung unterstützt 
 Wattbewerb München: muenchen.de/wattbewerb\n\n&nbsp\;\n\nOnline-Infoabend
  vom Bauzentrum München im Rahmen des Münchner Klimaherbst 2022\n\n&nbsp
 \;\nWattbewerb für Bürger*innen:\nSolarthermie versus Photovoltaik: Die 
 wichtigsten Fakten im Vergleich\n\n&nbsp\;\n\nTeilnahme kostenfrei - Onlin
 e-Anmeldung erforderlich:\n\n&nbsp\;\n\nhttps://lhm.webex.com/lhm/j.php?RG
 ID=ra212f94f2a14dc03d839281535aab787\n\n&nbsp\;\n\nAlle Online-Veranstaltu
 ngen vom Bauzentrum München werden mit Webex durchgeführt.\n\n&nbsp\;\n\
 nReferent:\n\nAlfred Bäder\, Diplom-Ingenieur für Elektrotechnik\n\n&nbs
 p\;\n\nMit der Kraft der Sonne lassen sich unterschiedliche Formen von Ene
 rgie erzeugen: Elektrische Energie mit Hilfe der Photovoltaik (PV) oder ab
 er Wärme für die Heizung und Warmwasserversorgung durch solarthermische 
 Kollektoren. Als weitere Möglichkeit kann auch nicht verbrauchter oder ei
 ngespeister PV-Strom sekundär für die Erzeugung von Wärme genutzt werde
 n. Stehen diese Technologien also in Konkurrenz zueinander? Welche Technik
  beziehungsweise welche Kombination lohnt sich wirklich? Damit Sie dem Zie
 l der eigenständigen Energieversorgung näherkommen\, werden im Vortrag d
 iese und andere Fragen erläutert und beantwortet.
CATEGORIES:Infovorträge - Führungen - Infotage,Veranstaltungen zur
 Solarenergie
END:VEVENT
BEGIN:VTIMEZONE
TZID:Europe/Berlin
X-LIC-LOCATION:Europe/Berlin
BEGIN:DAYLIGHT
DTSTART:20220327T030000
TZOFFSETFROM:+0100
TZOFFSETTO:+0200
TZNAME:CEST
END:DAYLIGHT
END:VTIMEZONE
END:VCALENDAR