
BEGIN:VCALENDAR
VERSION:2.0
PRODID:-//wp-events-plugin.com//6.6.3//EN
TZID:Europe/Berlin
X-WR-TIMEZONE:Europe/Berlin
BEGIN:VEVENT
UID:0-1300@veranstaltungen.muenchen.de
DTSTART;TZID=Europe/Berlin:20240411T180000
DTEND;TZID=Europe/Berlin:20240411T190000
DTSTAMP:20240326T122208Z
URL:https://veranstaltungen.muenchen.de/bauzentrum/veranstaltungen/bauzent
 rum-online-infoabend-solar-eigenheim/
SUMMARY:Bauzentrum Online-Infoabend: Solarthermie und/oder Photovoltaik fü
 r das Eigenheim?
DESCRIPTION:      \n\nDiese Veranstaltung unterstützt Wattbewerb Münche
 n: muenchen.de/wattbewerb\n\n&nbsp\;\n\nOnline-Infoabend vom Bauzentrum M
 ünchen\n\n&nbsp\;\nSolarthermie und/oder Photovoltaik für das Eigenheim?
 \n&nbsp\;\n\nTeilnahme kostenfrei - Online-Anmeldung erforderlich:\n\n&nbs
 p\;\n\nhttps://lhm.webex.com/weblink/register/rc497df5a52b17ef05e7585781ce
 07adb\n\n&nbsp\;\n\nAlle Online-Veranstaltungen vom Bauzentrum München we
 rden mit Webex durchgeführt.\n\n&nbsp\;\n\nReferent:\n\nDr. Michael Schmi
 d\, Diplom-Ingenieur für Elektrotechnik\n\n\n&nbsp\;\n\nViele Besitzer*in
 nen von Eigenheimen denken derzeit über den Einsatz von Erneuerbaren Ener
 gien in Form einer thermischen Solaranlage zur Brauchwassererwärmung bzw.
  Heizungsunterstützung und/oder einer Photovoltaik-Anlage zur Stromerzeug
 ung nach. Dr. Michael Schmid\, Diplom-Ingenieur für Elektrotechnik\, gibt
  als Basis für eine persönliche Entscheidungsfindung eine kompakte Einf
 ührung und erklärt die wichtigsten Kriterien für die Wahl zwischen Phot
 ovoltaik und/oder Solarthermie. Anhand eines konkreten Beispiels (Doppelha
 ushälfte) werden Informationen zu Erträgen\, Kosten/Nutzen\, Voraussetzu
 ngen und Simulationsprogramme anschaulich erklärt\, aber auch Maßnahmen 
 zum erfolgreichen Betrieb einer Solaranlage beschrieben.
CATEGORIES:Infovorträge - Führungen - Infotage,Veranstaltungen zur
 Solarenergie
END:VEVENT
BEGIN:VTIMEZONE
TZID:Europe/Berlin
X-LIC-LOCATION:Europe/Berlin
BEGIN:DAYLIGHT
DTSTART:20240331T030000
TZOFFSETFROM:+0100
TZOFFSETTO:+0200
TZNAME:CEST
END:DAYLIGHT
END:VTIMEZONE
END:VCALENDAR