
BEGIN:VCALENDAR
VERSION:2.0
PRODID:-//wp-events-plugin.com//6.6.3//EN
TZID:Europe/Berlin
X-WR-TIMEZONE:Europe/Berlin
BEGIN:VEVENT
UID:0-793@veranstaltungen.muenchen.de
DTSTART;TZID=Europe/Berlin:20221130T180000
DTEND;TZID=Europe/Berlin:20221130T190000
DTSTAMP:20221026T122917Z
URL:https://veranstaltungen.muenchen.de/bauzentrum/veranstaltungen/bauzent
 rum-online-infoabend-sichere-stromversorgung/
SUMMARY:Bauzentrum Online-Infoabend Wattbewerb: Sichere Stromversorgung von
  Wohnung und Eigenheim
DESCRIPTION:        \n\nDiese Veranstaltung unterstützt Wattbewerb M
 ünchen: muenchen.de/wattbewerb\n\n&nbsp\;\n\nOnline-Infoabend vom Bauzent
 rum München\n\n&nbsp\;\nWattbewerb für Bürger*innen:\nSichere Stromvers
 orgung von Wohnung und Eigenheim\n&nbsp\;\n\nTeilnahme kostenfrei - Online
 -Anmeldung erforderlich:\n\n&nbsp\;\n\nhttps://lhm.webex.com/lhm/j.php?RGI
 D=rb0c7f852633ca5f847bc668d71568cc1\n\n&nbsp\;\n\nAlle Online-Veranstaltun
 gen vom Bauzentrum München werden mit Webex durchgeführt.\n\n&nbsp\;\n\n
 Referent:\n\nAlfred Bäder\, Diplom-Ingenieur für Elektrotechnik\n\n&nbsp
 \;\n\nAuch in Deutschland sind örtlich begrenzte als auch großflächige 
 und länger anhaltende Stromausfälle möglich\, sogenannte "blackouts". D
 er Referent Alfred Bäder\, Diplom-Ingenieur für Elektrotechnik\, stellt 
 mögliche technische Maßnahmen vor\, um im Falle eines Stromausfalls eine
  grundlegende Versorgung mit elektrischer Energie sicherzustellen\, z.B. f
 ür Licht\, Radio und Telekommunikation. Größere Photovoltaik-Anlagen mi
 t Speicher können so ausgelegt werden\, dass sie bei Netzausfall im Insel
 betrieb neben dem Betrieb der Heizung sogar nennenswerte Fahrleistungen vo
 n Elektrofahrzeugen ermöglichen.
CATEGORIES:Infovorträge - Führungen - Infotage,Veranstaltungen zur
 Solarenergie
END:VEVENT
BEGIN:VTIMEZONE
TZID:Europe/Berlin
X-LIC-LOCATION:Europe/Berlin
BEGIN:STANDARD
DTSTART:20221030T020000
TZOFFSETFROM:+0200
TZOFFSETTO:+0100
TZNAME:CET
END:STANDARD
END:VTIMEZONE
END:VCALENDAR