
BEGIN:VCALENDAR
VERSION:2.0
PRODID:-//wp-events-plugin.com//6.6.3//EN
TZID:Europe/Berlin
X-WR-TIMEZONE:Europe/Berlin
BEGIN:VEVENT
UID:0-785@veranstaltungen.muenchen.de
DTSTART;TZID=Europe/Berlin:20221129T180000
DTEND;TZID=Europe/Berlin:20221129T190000
DTSTAMP:20221026T105014Z
URL:https://veranstaltungen.muenchen.de/bauzentrum/veranstaltungen/bauzent
 rum-online-infoabend-schimmel-vorbeugen/
SUMMARY:Bauzentrum Online-Infoabend: Schimmel vorbeugen – auch bei verrin
 gerter Raumtemperatur
DESCRIPTION:\n\n&nbsp\;\n\nOnline-Infoabend vom Bauzentrum München\n\n&nbs
 p\;\nSchimmel vorbeugen – auch bei verringerter Raumtemperatur\n&nbsp\;\
 n\nTeilnahme kostenfrei - Online-Anmeldung erforderlich:\n\n&nbsp\;\n\nhtt
 ps://lhm.webex.com/lhm/j.php?RGID=rabeb312f3a123c7b8e06cddfe3c218f8\n\n&nb
 sp\;\n\nAlle Online-Veranstaltungen vom Bauzentrum München werden mit Web
 ex durchgeführt.\n\n&nbsp\;\n\nReferentin:\n\nPamela Jentner\, Diplom-Bio
 login\n\n\n&nbsp\;\n\nIn diesem Winter senken viele Menschen die Raumtempe
 raturen\, um Energie und Heizkosten zu sparen. Bei ungünstigen raumklimat
 ischen Bedingungen kann sich jedoch rasch Schimmel bilden\, denn Heizen un
 d Lüften hängen physikalisch zusammen und beeinflussen das Schimmelwachs
 tum. Dadurch entstehen gesundheitliche Risiken. Die Kosten für eine dann 
 notwendige Sanierung können die erhofften finanziellen Einsparungen bei d
 en Heizkosten übersteigen. Die Diplom-Biologin Pamela Jentner erläutert\
 , welche Risiken entstehen und welche vorbeugenden Maßnahmen im Neubau un
 d im Bestand getroffen werden können. Neben Hinweisen zur richtigen Lüft
 ung wird im Vortrag auch darauf eingegangen\, was unternommen werden kann\
 , wenn sich bereits Schimmel gebildet hat.
CATEGORIES:Infovorträge - Führungen - Infotage
END:VEVENT
BEGIN:VTIMEZONE
TZID:Europe/Berlin
X-LIC-LOCATION:Europe/Berlin
BEGIN:STANDARD
DTSTART:20221030T020000
TZOFFSETFROM:+0200
TZOFFSETTO:+0100
TZNAME:CET
END:STANDARD
END:VTIMEZONE
END:VCALENDAR