
BEGIN:VCALENDAR
VERSION:2.0
PRODID:-//wp-events-plugin.com//6.6.3//EN
TZID:Europe/Berlin
X-WR-TIMEZONE:Europe/Berlin
BEGIN:VEVENT
UID:0-682@veranstaltungen.muenchen.de
DTSTART;TZID=Europe/Berlin:20221013T180000
DTEND;TZID=Europe/Berlin:20221013T190000
DTSTAMP:20220929T104434Z
URL:https://veranstaltungen.muenchen.de/bauzentrum/veranstaltungen/bauzent
 rum-online-infoabend-pv-speicher/
SUMMARY:Bauzentrum Online-Infoabend Wattbewerb: Was ist der Nutzen eines Ph
 otovoltaik-Speichers für eine Solarstromanlage?
DESCRIPTION:                \n\nDiese Veranstaltung unterstützt W
 attbewerb München: muenchen.de/wattbewerb\n\n&nbsp\;\n\nOnline-Infoabend 
 vom Bauzentrum München im Rahmen des Münchner Klimaherbst 2022\n\n&nbsp\
 ;\nWattbewerb für Bürger*innen:\nWas ist der Nutzen eines Photovoltaik-S
 peichers für eine Solarstromanlage?\n&nbsp\;\n\nTeilnahme kostenfrei - On
 line-Anmeldung erforderlich:\n\n&nbsp\;\n\nhttps://lhm.webex.com/lhm/j.php
 ?RGID=rc948f544fab984e2b06bc2e149c681cd\n\n&nbsp\;\n\nAlle Online-Veransta
 ltungen vom Bauzentrum München werden mit Webex durchgeführt.\n\n&nbsp\;
 \n\nReferent*in:\n\nKlaus-Peter Rosenthal\, Diplom-Ingenieur für Elektrot
 echnik\n\n&nbsp\;\n\nBatteriespeicher erweitern die klassische Solarstroma
 nlage\, die aus Photovoltaik-Paneelen und einem Wechselrichter (Inverter) 
 besteht. Der Photovoltaik-Speicher (PV-Speicher) erlaubt es\, die am Tage 
 erzeugte überschüssige elektrische Energie auch in der Nacht und am folg
 enden Morgen zur Verfügung zu stellen. Auf dem Markt sind derzeit drei ve
 rschiedene Typen von Batteriespeichern erhältlich. Diplom-Ingenieur Klaus
 -Peter Rosenthal gibt den Teilnehmer*innen Kriterien für ihre Auswahl an 
 die Hand und erläutert\, ob und in welchem Umfang PV-Speicher für eine N
 otstromversorgung einsetzbar sind. Tipps für den Erwerb und die richtige 
 Dimensionierung einer PV-Anlage runden die Veranstaltung ab.
CATEGORIES:Infovorträge - Führungen - Infotage,Veranstaltungen zur
 Solarenergie
END:VEVENT
BEGIN:VTIMEZONE
TZID:Europe/Berlin
X-LIC-LOCATION:Europe/Berlin
BEGIN:DAYLIGHT
DTSTART:20220327T030000
TZOFFSETFROM:+0100
TZOFFSETTO:+0200
TZNAME:CEST
END:DAYLIGHT
END:VTIMEZONE
END:VCALENDAR