
BEGIN:VCALENDAR
VERSION:2.0
PRODID:-//wp-events-plugin.com//6.6.3//EN
TZID:Europe/Berlin
X-WR-TIMEZONE:Europe/Berlin
BEGIN:VEVENT
UID:0-1312@veranstaltungen.muenchen.de
DTSTART;TZID=Europe/Berlin:20240618T180000
DTEND;TZID=Europe/Berlin:20240618T190000
DTSTAMP:20240531T074205Z
URL:https://veranstaltungen.muenchen.de/bauzentrum/veranstaltungen/bauzent
 rum-online-infoabend-optimale-heizungsanlage/
SUMMARY:Bauzentrum Online-Infoabend: Die optimale Heizungsanlage für die e
 igene Energiewende
DESCRIPTION:   \n\n&nbsp\;\n\nOnline-Infoabend vom Bauzentrum München\nDi
 e optimale Heizungsanlage für die eigene Energiewende\n&nbsp\;\n\nTeilnah
 me kostenfrei - Online-Anmeldung erforderlich:\n\nhttps://lhm.webex.com/we
 blink/register/r48e2194ccf8e5435ee50414ea48ad8f5\n\n&nbsp\;\n\nAlle Online
 -Veranstaltungen vom Bauzentrum München werden mit Webex durchgeführt.\n
 \n&nbsp\;\n\nReferent*in:\n\nGerhard Schmid\, Diplom-Ingenieur und Energie
 berater\n\n\n&nbsp\;\n\nHohe Energiekosten und CO2-Emissionen vieler Heizu
 ngsanlagen erhöhen den Sanierungsdruck bei der Wärmeversorgung. Bei der 
 Planung einer neuen Heizungsanlage im Bestand ist aktuell jedoch die Unsic
 herheit groß. Besonders Eigentümer*innen von Wohngebäuden stehen vor de
 r Frage\, welches Heizungssystem gewählt werden soll. Gerhard Schmid\, Di
 plom-Ingenieur und Energieberater\, stellt technische Möglichkeiten für 
 eine Sanierung im Bestand vor\, damit die eigene Energiewende gelingen kan
 n.
CATEGORIES:Infovorträge - Führungen - Infotage
END:VEVENT
BEGIN:VTIMEZONE
TZID:Europe/Berlin
X-LIC-LOCATION:Europe/Berlin
BEGIN:DAYLIGHT
DTSTART:20240331T030000
TZOFFSETFROM:+0100
TZOFFSETTO:+0200
TZNAME:CEST
END:DAYLIGHT
END:VTIMEZONE
END:VCALENDAR