
BEGIN:VCALENDAR
VERSION:2.0
PRODID:-//wp-events-plugin.com//6.6.3//EN
TZID:Europe/Berlin
X-WR-TIMEZONE:Europe/Berlin
BEGIN:VEVENT
UID:0-889@veranstaltungen.muenchen.de
DTSTART;TZID=Europe/Berlin:20230323T180000
DTEND;TZID=Europe/Berlin:20230323T190000
DTSTAMP:20230215T144614Z
URL:https://veranstaltungen.muenchen.de/bauzentrum/veranstaltungen/bauzent
 rum-online-infoabend-mieterstrom/
SUMMARY:Bauzentrum Online-Infoabend: Einführung in den Mieterstrom
DESCRIPTION:         \n\nDiese Veranstaltung unterstützt Wattbewerb M
 ünchen: muenchen.de/wattbewerb\n\n&nbsp\;\n\nOnline-Infoabend vom Bauzent
 rum München\n\n&nbsp\;\nWattbewerb für Bürger*innen:\nEinführung in de
 n Mieterstrom\n&nbsp\;\n\nTeilnahme kostenfrei - Online-Anmeldung erforder
 lich:\n\n&nbsp\;\n\nhttps://lhm.webex.com/weblink/register/r1a5dbc3532abb3
 8bd2f8156e155216c0\n\n&nbsp\;\n\nAlle Online-Veranstaltungen vom Bauzentru
 m München werden mit Webex durchgeführt.\n\n&nbsp\;\n\nReferent:\n\nKlau
 s-Peter Rosenthal\, Dipl.-Ing. (FH) für Elektrotechnik\n\n\n&nbsp\;\n\nMe
 hr als die Hälfte des Solarpotentials in der Stadt München befindet sich
  auf Dächern und Fassadenflächen. Durch die stark gestiegenen Kosten fü
 r elektrische Energie aber auch durch gesetzliche Änderungen und Vereinfa
 chungen erfahren Photovoltaik-Anlagen (PV-Anlagen) auf Dächern von Mehrfa
 milien- und Gewerbehäusern derzeit eine große Nachfrage. Besonders durch
  die Eigennutzung des Solarstroms werden PV-Anlagen attraktiv. Die Verteil
 ung von Energie im Mietshaus\, einer Wohnungseigentumsgemeinschaft (WEG) o
 der einem Gewerbehaus erfordert aber ein durchdachtes Vorgehen. Klaus-Pete
 r Rosenthal – Dipl.-Ing. (FH) für Elektrotechnik – erläutert die Gru
 ndlagen der sogenannten Mieterstrommodelle. Diese basieren auf unterschied
 lichen Kalkulationen\, Gesetzen und Gemeinschaften oder Gesellschaften im 
 Sinne des Bürgerlichen Gesetzbuchs (BGB)\, des Handelsgesetzbuchs (HGB) o
 der der Betriebskostenverordnung (BetrKV).
CATEGORIES:Infovorträge - Führungen - Infotage,Veranstaltungen zur
 Solarenergie
END:VEVENT
BEGIN:VTIMEZONE
TZID:Europe/Berlin
X-LIC-LOCATION:Europe/Berlin
BEGIN:STANDARD
DTSTART:20221030T020000
TZOFFSETFROM:+0200
TZOFFSETTO:+0100
TZNAME:CET
END:STANDARD
END:VTIMEZONE
END:VCALENDAR