
BEGIN:VCALENDAR
VERSION:2.0
PRODID:-//wp-events-plugin.com//6.6.3//EN
TZID:Europe/Berlin
X-WR-TIMEZONE:Europe/Berlin
BEGIN:VEVENT
UID:0-589@veranstaltungen.muenchen.de
DTSTART;TZID=Europe/Berlin:20220330T180000
DTEND;TZID=Europe/Berlin:20220330T190000
DTSTAMP:20220323T151825Z
URL:https://veranstaltungen.muenchen.de/bauzentrum/veranstaltungen/bauzent
 rum-online-infoabend-lichtverschmutzung/
SUMMARY:Bauzentrum Online-Infoabend: Rettet die Nacht – Was jede*r gegen 
 Lichtverschmutzung beitragen kann
DESCRIPTION:Online-Infoabend vom Bauzentrum München\nRettet die Nacht – 
 Was jede*r gegen Lichtverschmutzung beitragen kann\n\n&nbsp\;\n\nTeilnahme
  kostenfrei - Anmeldung erforderlich - siehe unten\n\n&nbsp\;\n\nReferent:
 \n\nRudi Seibt\, Sachverständiger\n\n&nbsp\;\nAlle Online-Veranstaltungen
  vom Bauzentrum München werden mit Webex durchgeführt.\nAngemeldete Pers
 onen erhalten rechtzeitig (in der Regel am Tag vor der Veranstaltung) den 
 Teilnahme-Link per E-Mail.\n&nbsp\;\n\nSo richtig dunkel ist es im nächtl
 ichen München nicht. Bei einem Spaziergang durch die Innenstadt sind zum 
 Beispiel immer wieder große Lichtkegel zu sehen\, Schaufenster werfen ihr
 e Lichtwellen auf die Straße und Reklameschilder blinken an Türen\, Säu
 len und Tafeln und in vielen Gärten quillt Licht aus weißen Plastikkugel
 n um Pflanzen ganznächtig zu illuminieren. Der Begriff „Lichtverschmutz
 ung“ hat sich für diese Überbeleuchtung eingebürgert\, welche die Nac
 ht fast zum Tag macht. „Kaltes“ Licht beeinträchtigt Flora und Fauna 
 dabei besonders stark. Insekten\, die Leuchtmittel mit dieser Farbtemperat
 ur für das Licht des Mondes halten\, schwirren so lange um das Licht bis 
 sie vor Erschöpfung sterben. Der Licht-Experte Rudi Seibt stellt einfache
  und umfassende Lösungen zur Verringerung der Lichtverschmutzung vor\, so
 wohl für Eigenheime\, Geschäftshäuser und Schaufenster als auch für B
 ürogebäude.
CATEGORIES:Infovorträge - Führungen - Infotage
END:VEVENT
BEGIN:VTIMEZONE
TZID:Europe/Berlin
X-LIC-LOCATION:Europe/Berlin
BEGIN:DAYLIGHT
DTSTART:20220327T030000
TZOFFSETFROM:+0100
TZOFFSETTO:+0200
TZNAME:CEST
END:DAYLIGHT
END:VTIMEZONE
END:VCALENDAR