
BEGIN:VCALENDAR
VERSION:2.0
PRODID:-//wp-events-plugin.com//6.6.3//EN
TZID:Europe/Berlin
X-WR-TIMEZONE:Europe/Berlin
BEGIN:VEVENT
UID:0-1313@veranstaltungen.muenchen.de
DTSTART;TZID=Europe/Berlin:20240620T180000
DTEND;TZID=Europe/Berlin:20240620T190000
DTSTAMP:20240531T074359Z
URL:https://veranstaltungen.muenchen.de/bauzentrum/veranstaltungen/bauzent
 rum-online-infoabend-geg/
SUMMARY:Bauzentrum Online-Infoabend: Das neue Gebäudeenergiegesetz (GEG)
DESCRIPTION:   \n\n&nbsp\;\n\nOnline-Infoabend vom Bauzentrum München\nDa
 s neue Gebäudeenergiegesetz (GEG)\n&nbsp\;\n\nTeilnahme kostenfrei - Onli
 ne-Anmeldung erforderlich:\n\nhttps://lhm.webex.com/weblink/register/r09de
 c489665ac8b8ba0718c10e3b53f9\n\n&nbsp\;\n\nAlle Online-Veranstaltungen vom
  Bauzentrum München werden mit Webex durchgeführt.\n\n&nbsp\;\n\nReferen
 t*in:\n\nBettina Neheider und Martin Delker\n\n\n&nbsp\;\n\nDas Gebäudeen
 ergiegesetz (GEG) – umgangssprachlich auch „Heizungsgesetz“ genannt 
 – legt energetische Anforderungen an beheizte oder klimatisierte Gebäud
 e fest. Ab 2045 dürfen keine Heizungen mehr mit Heizöl oder Erdgas betri
 eben werden\, was Immobilieneigentümer*innen und Bauherr*innen vor erhebl
 iche Herausforderungen stellt. Das GEG sieht dabei mehrere Erfüllungsopti
 onen vor\, um die gesetzlichen Ziele zu erreichen. Architekt Martin Delker
  und Rechtsanwältin Bettina Neheider informieren\, worauf es bei einer Er
 neuerung oder Modernisierung ankommt und welche Fördermöglichkeiten vorg
 esehen sind.
CATEGORIES:Infovorträge - Führungen - Infotage
END:VEVENT
BEGIN:VTIMEZONE
TZID:Europe/Berlin
X-LIC-LOCATION:Europe/Berlin
BEGIN:DAYLIGHT
DTSTART:20240331T030000
TZOFFSETFROM:+0100
TZOFFSETTO:+0200
TZNAME:CEST
END:DAYLIGHT
END:VTIMEZONE
END:VCALENDAR