
BEGIN:VCALENDAR
VERSION:2.0
PRODID:-//wp-events-plugin.com//6.6.3//EN
TZID:Europe/Berlin
X-WR-TIMEZONE:Europe/Berlin
BEGIN:VEVENT
UID:0-744@veranstaltungen.muenchen.de
DTSTART;TZID=Europe/Berlin:20221208T180000
DTEND;TZID=Europe/Berlin:20221208T190000
DTSTAMP:20221123T130948Z
URL:https://veranstaltungen.muenchen.de/bauzentrum/veranstaltungen/bauzent
 rum-online-infoabend-fenstertausch/
SUMMARY:Bauzentrum Online-Infoabend: Fenstertausch und alles\, was damit zu
 sammenhängt
DESCRIPTION:     \n\n&nbsp\;\n\nOnline-Infoabend Verbraucherzentrale Baye
 rn e.V. für das Bauzentrum München\n\n&nbsp\;\nFenstertausch und alles\,
  was damit zusammenhängt\n&nbsp\;\n\nTeilnahme kostenfrei - Online-Anmeld
 ung erforderlich:\n\n&nbsp\;\n\nhttps://lhm.webex.com/lhm/j.php?RGID=re842
 9c31880713053198717fa32fc778\n\n&nbsp\;\n\nAlle Online-Veranstaltungen vom
  Bauzentrum München werden mit Webex durchgeführt.\n\n&nbsp\;\n\nReferen
 t*in:\n\nGisela Kienzle\, Verbraucherzentrale Bayern e.V.\n\n\n&nbsp\;\nVi
 ele Eigenheimbesitzer*innen wollen Energie einsparen und fragen sich\, ob 
 sich ein Fenstertausch lohnt. Dabei muss allerdings einiges beachtet werde
 n. Gisela Kienzle – Energieberaterin der Verbraucherzentrale Bayern e.V.
  – stellt die verschiedenen Möglichkeiten dar\, erläutert technische u
 nd bauphysikalische Zusammenhänge und gibt Hinweise zur geeigneten Vorgeh
 ensweise. Im Chat gestellte Fragen dazu werden im Anschluss an den Vortrag
  von der Referentin beantwortet.
CATEGORIES:Infovorträge - Führungen - Infotage
END:VEVENT
BEGIN:VTIMEZONE
TZID:Europe/Berlin
X-LIC-LOCATION:Europe/Berlin
BEGIN:STANDARD
DTSTART:20221030T020000
TZOFFSETFROM:+0200
TZOFFSETTO:+0100
TZNAME:CET
END:STANDARD
END:VTIMEZONE
END:VCALENDAR