
BEGIN:VCALENDAR
VERSION:2.0
PRODID:-//wp-events-plugin.com//6.6.3//EN
TZID:Europe/Berlin
X-WR-TIMEZONE:Europe/Berlin
BEGIN:VEVENT
UID:0-781@veranstaltungen.muenchen.de
DTSTART;TZID=Europe/Berlin:20221117T180000
DTEND;TZID=Europe/Berlin:20221117T190000
DTSTAMP:20221026T115232Z
URL:https://veranstaltungen.muenchen.de/bauzentrum/veranstaltungen/bauzent
 rum-online-infoabend-elektromobile-solar-laden/
SUMMARY:Bauzentrum Online-Infoabend Wattbewerb: Elektromobile solar laden
DESCRIPTION:         \n\nDiese Veranstaltung unterstützt Wattbewerb M
 ünchen: muenchen.de/wattbewerb\n\n&nbsp\;\n\nOnline-Infoabend vom Bauzent
 rum München\n\n&nbsp\;\nWattbewerb für Bürger*innen:\nElektromobile sol
 ar laden:\nEinrichtung von Ladepunkten und Fördermöglichkeiten\n&nbsp\;\
 n\nTeilnahme kostenfrei - Online-Anmeldung erforderlich:\n\n&nbsp\;\n\nhtt
 ps://lhm.webex.com/lhm/j.php?RGID=r995861111b8e32f29bcde047d569f5ec\n\n&nb
 sp\;\n\nAlle Online-Veranstaltungen vom Bauzentrum München werden mit Web
 ex durchgeführt.\n\n&nbsp\;\n\nReferent:\n\nJanko Kroschl\, Diplom Ingeni
 eur für Elektrotechnik\n\n&nbsp\;\n\nBesonders umweltfreundlich und güns
 tig werden Elektro-Mobile mit Strom aus der eigenen Photovoltaik-Anlage ge
 laden. Janko Kroschl\, Diplom Ingenieur für Elektrotechnik\, erläutert d
 ie technischen Grundlagen des Ladens in der Garage und auf dem privaten Gr
 undstück und insbesondere die Anforderungen an die Elektroinstallation f
 ür einen sicheren Betrieb der Ladetechnik. Die Möglichkeiten und Grenzen
  der Solartechnik (Regelung\, Batterie) zur Ladung im eigenen Haus werden 
 dabei ebenfalls betrachtet. Im Anschluss erläutert der Referent bestehend
 e Fördermöglichkeiten für eine Installation von Ladestationen im Privat
 bereich\, sowie die Förderung für eine Elektromobilitäts-Beratung.
CATEGORIES:Infovorträge - Führungen - Infotage,Veranstaltungen zur
 Solarenergie
END:VEVENT
BEGIN:VTIMEZONE
TZID:Europe/Berlin
X-LIC-LOCATION:Europe/Berlin
BEGIN:STANDARD
DTSTART:20221030T020000
TZOFFSETFROM:+0200
TZOFFSETTO:+0100
TZNAME:CET
END:STANDARD
END:VTIMEZONE
END:VCALENDAR