
BEGIN:VCALENDAR
VERSION:2.0
PRODID:-//wp-events-plugin.com//6.6.3//EN
TZID:Europe/Berlin
X-WR-TIMEZONE:Europe/Berlin
BEGIN:VEVENT
UID:0-537@veranstaltungen.muenchen.de
DTSTART;TZID=Europe/Berlin:20220210T180000
DTEND;TZID=Europe/Berlin:20220210T190000
DTSTAMP:20220118T111454Z
URL:https://veranstaltungen.muenchen.de/bauzentrum/veranstaltungen/bauzent
 rum-online-infoabend-dachbegruenung/
SUMMARY:Bauzentrum Online-Infoabend: Artenreiche Dachbegrünung
DESCRIPTION:Online-Infoabend vom Bauzentrum München\nAnpassung an den Klim
 awandel: Artenreiche Dachbegrünung\n&nbsp\;\n\nTeilnahme kostenfrei - Anm
 eldung erforderlich - siehe unten\n\n&nbsp\;\n\nReferent:\nWolfgang Heiden
 reich\, Dipl.-Ing. Landschaftsarchitekt bdla\, Begrünungsbüro Green City
  e.V.\n\n\n&nbsp\;\nAlle Online-Veranstaltungen vom Bauzentrum München we
 rden mit Webex Events durchgeführt.\nAngemeldete Personen erhalten rechtz
 eitig (in der Regel am Tag vor der Veranstaltung) den Teilnahme-Link per E
 -Mail.\n&nbsp\;\n\nWolfgang Heidenreich\, Begrünungsexperte bei Green Cit
 y e.V.\, erklärt im Vortrag\, wie Hausbesitzer*innen selber den Klimawand
 el abmildern können. Pflanzen an Hausfassaden und Hausdächern kühlen un
 d tragen zu einem angenehmen Stadtklima und zur Artenvielfalt bei. Sie sch
 affen es beispielsweise die nächtliche Wärmestrahlung von Gebäuden um b
 is zu 80 Prozent zu reduzieren. Auch das Aufheizen der Zimmer im Haus wird
  reduziert und trägt damit zum erholsamen Schlaf bei. Auch bei Starkregen
 \, der oft in Form von Gewittern auf Hitze folgt\, sind Dachbegrünungen w
 ichtig. Sie speichern Wasser\, entlasten die Kanalisation und schützen da
 s Dach.
CATEGORIES:Infovorträge - Führungen - Infotage
END:VEVENT
BEGIN:VTIMEZONE
TZID:Europe/Berlin
X-LIC-LOCATION:Europe/Berlin
BEGIN:STANDARD
DTSTART:20211031T020000
TZOFFSETFROM:+0200
TZOFFSETTO:+0100
TZNAME:CET
END:STANDARD
END:VTIMEZONE
END:VCALENDAR