
BEGIN:VCALENDAR
VERSION:2.0
PRODID:-//wp-events-plugin.com//6.6.3//EN
TZID:Europe/Berlin
X-WR-TIMEZONE:Europe/Berlin
BEGIN:VEVENT
UID:0-588@veranstaltungen.muenchen.de
DTSTART;TZID=Europe/Berlin:20220329T180000
DTEND;TZID=Europe/Berlin:20220329T190000
DTSTAMP:20220329T140212Z
URL:https://veranstaltungen.muenchen.de/bauzentrum/veranstaltungen/bauzent
 rum-online-infoabend-balkonsolar/
SUMMARY:Bauzentrum Online-Infoabend Wattbewerb: Strom erzeugen auf dem eige
 nen Balkon
DESCRIPTION:\n\nOnline-Infoabend vom Bauzentrum München\nWattbewerb für B
 ürger*innen:\nStrom erzeugen auf dem eigenen Balkon\n&nbsp\;\n\nTeilnahme
  kostenfrei - Anmeldung erforderlich - siehe unten\n\n&nbsp\;\n\nReferent:
 \n\nJanko Kroschl\, Dipl.-Ing. Elektrotechnik\n\n&nbsp\;\nAlle Online-Vera
 nstaltungen vom Bauzentrum München werden mit Webex durchgeführt.\nAngem
 eldete Personen erhalten rechtzeitig (in der Regel am Tag vor der Veransta
 ltung) den Teilnahme-Link per E-Mail.\n&nbsp\;\n\nSolar-Anlagen für die S
 teckdose machen es seit Kurzem möglich\, sogar auf dem eigenen Balkon Str
 om zu erzeugen und in das Stromnetz der Wohnung einzuspeisen. So können z
 wischen 5 und 20 Prozent des durchschnittlichen Strombedarfs eines Haushal
 ts abgedeckt werden. Die praktischen und rechtlichen Rahmenbedingungen sow
 ie eine Kosten-Nutzen-Analyse werden im Vortrag von Janko Kroschl (Dipl-In
 g. Elektrotechnik) erläutert. Individuelle Fragen sind möglich.
CATEGORIES:Infovorträge - Führungen - Infotage,Veranstaltungen zur
 Solarenergie
END:VEVENT
BEGIN:VTIMEZONE
TZID:Europe/Berlin
X-LIC-LOCATION:Europe/Berlin
BEGIN:DAYLIGHT
DTSTART:20220327T030000
TZOFFSETFROM:+0100
TZOFFSETTO:+0200
TZNAME:CEST
END:DAYLIGHT
END:VTIMEZONE
END:VCALENDAR