
BEGIN:VCALENDAR
VERSION:2.0
PRODID:-//wp-events-plugin.com//6.6.3//EN
TZID:Europe/Berlin
X-WR-TIMEZONE:Europe/Berlin
BEGIN:VEVENT
UID:0-1283@veranstaltungen.muenchen.de
DTSTART;TZID=Europe/Berlin:20240312T090000
DTEND;TZID=Europe/Berlin:20240312T122000
DTSTAMP:20240304T125204Z
URL:https://veranstaltungen.muenchen.de/bauzentrum/veranstaltungen/bauzent
 rum-online-forum-weg_teil1/
SUMMARY:Bauzentrum Online-Forum: Klimaschutz und Klimaanpassung in WEGs - T
 eil 1: Bautypus Gründerzeit und Jahrhundertwende
DESCRIPTION:\n\n&nbsp\;\n\nOnline-Forum vom Bauzentrum München\n\n&nbsp\;\
 nKlimaschutz und Klimaanpassung in WEGs – Teil 1:  Bautypus Gründerzei
 t und Jahrhundertwende\n \n\nFortbildungspunkte Energieeffizienz-Experten
 liste:\n\nDie Anerkennung von Fortbildungspunkten wurde beantragt.\n\n4 Un
 terrichtseinheiten Wohngebäude\n4 Unterrichtseinheiten Nichtwohngebäude\
 n4 Unterrichtseinheiten Energieaudit DIN 16247\n\n&nbsp\;\n\nTeilnahme ko
 stenfrei - Online-Anmeldung erforderlich:\n\n&nbsp\;\n\nAnmeldung\n\n&nbsp
 \;\nAlle Online-Veranstaltungen vom Bauzentrum München werden mit Webex d
 urchgeführt.\n&nbsp\;\n\nTeilnahmebestätigung\n\n 	Falls sie eine Teilna
 hme-Bestätigung benötigen (ggf. inklusive Fortbildungsode für die Energ
 ieeffizienz-Experten-Liste) muss diese kostenpflichtig (25 Euro) mittels F
 ormblatt bestellt werden.\n 	Für Mitarbeiter*innen der Landeshauptstadt M
 ünchen ist die Bestätigung kostenfrei und kann formlos per E-Mail bestel
 lt werden.\n\n&nbsp\;\n\nUmfrage\n\nNennen Sie uns gerne Fragen die im Pod
 iumsgespräch besprochen werden sollen\, bitte nutzen Sie dafür den folge
 nden Link:\n\nUmfrage\n\n&nbsp\;\n\nThema\n\nDie energetische Sanierung vo
 n Gebäuden\, die sich in der Hand von Wohnungseigentümergemeinschaften (
 WEG) befinden\, stellt alle Beteiligten aufgrund der Eigentumsverhältniss
 e und der vielfältigen – oft widerstreitenden – Interessen vor komple
 xe Herausforderungen. Diese Veranstaltungsreihe gibt Entscheider*innen und
  Verwalter*innen in einer WEG sowie allen am Planungsprozess Beteiligten e
 inen Überblick zu typischen Problemstellungen und Lösungsansätzen bei d
 er Sanierung bestimmter Bautypen. Impulse zu Eigentumsfragen\, Entscheidun
 gsprozessen und Konflikt-\, bzw. Kommunikationsstrategien werden ebenfalls
  eingestreut. Finanzierungsfragen werden in einer eigenen Veranstaltung ge
 bündelt behandelt (voraussichtlich in Teil 4).\n\n&nbsp\;\n\nGebäude der
  Gründerzeit und der Jahrhundertwende prägen weite Teile des Stadtbildes
  der Münchner Innenstadt. Viele dieser Bauten stehen unter Denkmalschutz.
  Dieser Bautypus zeichnet sich durch bestimmte Konstruktionsmerkmale aus. 
 Ist das Gebäude in der Hand einer Wohnungseigentümergemeinschaft (WEG) u
 nd steht eine Sanierung an\, so ist viel Fachwissen und Feingefühl gefrag
 t – sowohl beim Umgang mit der historischen Bausubstanz als auch mit den
  komplexen Entscheidungsprozessen innerhalb der WEG.\n\n&nbsp\;\n\nDieses 
 Fachforum gibt allen am Planungsprozess Beteiligten einen Überblick zu ty
 pischen Problemstellungen von Gründerzeitbauten und zeigt Lösungsansätz
 e in der Sanierung auf. Der Schwerpunkt liegt auf Erfahrungsberichten aus 
 der Praxis\, die relevante Aspekte aus verschiedenen Perspektiven beleucht
 en – aus der Sicht von Planenden\, der Behörde und einer Mediatorin. Im
  abschließenden Podiumsgespräch werden Fragen aus dem Chat aufgegriffen 
 und von den Vortragenden diskutiert.\n\n&nbsp\;\n\nDas Bauzentrum München
  dankt Naomi Morishita-Steffen für die fachliche Leitung bei der Vorberei
 tung dieser Veranstaltung sowie Cornelius Schmidt für die Moderation.\n\n
 &nbsp\;\n\nProgramm\n\n&nbsp\;\n\n9.00\nBegrüßung\, Einführung und Mode
 ration\,\nCornelius Schmidt\, GIH Bayern e. V.\n\n&nbsp\;\n\n9.10\nEnerget
 ische Sanierung von WEGs in Gründerzeitgebäuden\nPraxisbeispiele aus Mü
 nchen\n• Vom Keller zum Dach – Was ist typisch für diesen Bautypus?\n
 • Lösungen für die energetische Sanierung\n• Was bedeutet Denkmalsch
 utz? Erfahrungen eines Planenden\nCornelius Tarnai\, Corni DER verrückte 
 Bauingenieur #KSDR\n\n&nbsp\;\n\n9.50\nWTA-Merkblätter: Praxis-Leitfaden 
 für die Sanierung historischer Wohnhäuser\nÜberblick und Anwendung der 
 Merkblätter der Wissenschaftlich-Technischen Arbeitsgemeinschaft für Bau
 werkserhaltung und Denkmalpflege (WTA)\nEdmund Bromm\, Bromm GmbH\n\n&nbsp
 \;\n\n10.10\nUmstellung von Etagen- und Einzelofenheizungen auf energieeff
 iziente Heizungstechnik\nWelche Lösungsansätze gibt es?\nGerhard Schmid\
 , Dipl.-Ing. (FH)\, EURA-Ingenieure-Schmid\n\n&nbsp\;\n\n10.40\nPause\n\n&
 nbsp\;\n\n10.50\nDenkmalschutz und Energiewende – Herausforderungen für
  Wohnungseigentümergemeinschaften\nJuliana Helmstreit\, Kanzlei für Medi
 ation und Konfliktmanagement\n\n&nbsp\;\n\n11.20\nDie energetische Instand
 setzung von denkmalgeschützten Mehrfamilienhäusern - gemeinsam gute Lös
 ungen finden\n• Erfahrungsbericht aus Sicht des Bayerischen Landesamts f
 ür Denkmalpflege\n• Änderung des Bayerischen Denkmalschutzgesetzes (Ba
 yDschG) seit 01.07.2023 –\nKonsequenz für die denkmalrechtliche Erlaubn
 is für Anlagen erneuerbarer Energien\nDr. phil. Thomas Wenderoth\, Archit
 ekt\, Bayerisches Landesamt für Denkmalpflege\n\n&nbsp\;\n\n12.00\nPodium
 sgespräch\n\n&nbsp\;\n\n12.20\nEnde der Veranstaltung
CATEGORIES:Fachforen - Exkursionen
END:VEVENT
BEGIN:VTIMEZONE
TZID:Europe/Berlin
X-LIC-LOCATION:Europe/Berlin
BEGIN:STANDARD
DTSTART:20231029T020000
TZOFFSETFROM:+0200
TZOFFSETTO:+0100
TZNAME:CET
END:STANDARD
END:VTIMEZONE
END:VCALENDAR