
BEGIN:VCALENDAR
VERSION:2.0
PRODID:-//wp-events-plugin.com//6.6.3//EN
TZID:Europe/Berlin
X-WR-TIMEZONE:Europe/Berlin
BEGIN:VEVENT
UID:0-1116@veranstaltungen.muenchen.de
DTSTART;TZID=Europe/Berlin:20230926T180000
DTEND;TZID=Europe/Berlin:20230926T190000
DTSTAMP:20230907T145120Z
URL:https://veranstaltungen.muenchen.de/bauzentrum/veranstaltungen/bauzent
 rum-hybrid-infoabend-vorlage/
SUMMARY:Bauzentrum Hybrid-Infoabend: Baubegleitung – Qualitätskontrolle 
 bei der Ausführung
DESCRIPTION:    \n\n&nbsp\;\n\nHybrid-Infoabend vom Bauzentrum München\n
 in Kooperation mit dem Bauherren-Schutzbund e.V.\n\n&nbsp\;\nBaubegleitung
  – Qualitätskontrolle bei der Ausführung\n&nbsp\;\n\nTeilnahme kostenf
 rei\n\n\n&nbsp\;\n\nHinweise:\n\n 	Dieser Infoabend findet als Hybrid-Vera
 nstaltung in Präsenz im Bauzentrum München sowie auch online statt.\n\n 
 	Für eine Präsenz-Teilnahme vor Ort im Bauzentrum ist keine Anmeldung er
 forderlich\n 	Für eine Online-Teilnahme ist eine Anmeldung über untenste
 henden Link erforderlich\n\n&nbsp\;\n\nhttps://lhm.webex.com/weblink/regis
 ter/rf7a72f4dfbbef1d208821d011b5dbbd6\n\n&nbsp\;\n\nAlle Online-Veranstalt
 ungen vom Bauzentrum München werden mit Webex durchgeführt.\n\n&nbsp\;\n
 \nReferent:\n\nAndreas Schmitt\, Architekt\, Bauherrenberater beim BSB\n\n
 &nbsp\;\n\nDie Anforderungen an die Bauausführung sind erheblich gestiege
 n\, vor allem energiesparendes Bauen erfordert einen hohen Standard. Die V
 ernetzung von Bauleistungen und technischem Ausbau werden immer größer u
 nd komplexer. Der Architekt Andreas Schmitt\, Bauherrenberater beim BSB\, 
 zeigt anhand von Beispielen aus der Beratungspraxis\, wie Bauherr*innen si
 ch durch eine fachmännische\, unabhängige Baubegleitung unterstützen la
 ssen können.
CATEGORIES:Infovorträge - Führungen - Infotage
LOCATION:Bauzentrum München\, Konrad-Zuse-Platz 12 (Eingang: Konrad-Zuse-P
 latz 8)\, München\, Bayern\, 81829\, Deutschland
GEO:48.138166;11.689028
X-APPLE-STRUCTURED-LOCATION;VALUE=URI;X-ADDRESS=Konrad-Zuse-Platz 12 (Einga
 ng: Konrad-Zuse-Platz 8)\, München\, Bayern\, 81829\, Deutschland;X-APPLE
 -RADIUS=100;X-TITLE=Bauzentrum München:geo:48.138166,11.689028
END:VEVENT
BEGIN:VTIMEZONE
TZID:Europe/Berlin
X-LIC-LOCATION:Europe/Berlin
BEGIN:DAYLIGHT
DTSTART:20230326T030000
TZOFFSETFROM:+0100
TZOFFSETTO:+0200
TZNAME:CEST
END:DAYLIGHT
END:VTIMEZONE
END:VCALENDAR