
BEGIN:VCALENDAR
VERSION:2.0
PRODID:-//wp-events-plugin.com//6.6.3//EN
TZID:Europe/Berlin
X-WR-TIMEZONE:Europe/Berlin
BEGIN:VEVENT
UID:0-2078@veranstaltungen.muenchen.de
DTSTART;TZID=Europe/Berlin:20251128T090000
DTEND;TZID=Europe/Berlin:20251128T114500
DTSTAMP:20251127T092330Z
URL:https://veranstaltungen.muenchen.de/bauzentrum/veranstaltungen/animal-
 aided-design-im-quartier/
SUMMARY:Bauzentrum Online-Forum: Klimaneutrale und klimaresiliente Stadtqua
 rtiere – Animal-Aided Design im Quartier
DESCRIPTION:   \n\nOnline-Forum vom Bauzentrum München\n\n&nbsp\;\nKliman
 eutrale und klimaresiliente Stadtquartiere – Teil 4\nAnimal-Aided Design
 ® im Quartier – Förderung der Biodiversität und Lebensqualität durch
  tierfreundliche Stadtplanung\n \n\nFortbildungspunkte Energieeffizienz-E
 xpertenliste:\n\n2 UE Wohngebäude\n2 UE Nichtwohngebäude\n2 UE Energieau
 dit DIN 16247/Contracting (BAFA)\n\n&nbsp\;\n\nTeilnahme kostenfrei - Onli
 ne-Anmeldung erforderlich:\n\nAnmeldung\n\n&nbsp\;\nAlle Online-Veranstalt
 ungen vom Bauzentrum München werden mit Webex durchgeführt.\nOb Ihr Arbe
 itsplatz die technischen Voraussetzungen für die Teilnahme erfüllt\, kö
 nnen Sie hier testen:\nTestseite Webex\n\n&nbsp\;\n\nTeilnahmebestätigung
 \n\n 	Falls sie eine Teilnahme-Bestätigung benötigen (ggf. inklusive For
 tbildungsode für die Energieeffizienz-Experten-Liste) muss diese kostenpf
 lichtig (25 Euro) mittels Formblatt bestellt werden.\n 	Für Mitarbeiter*i
 nnen der städtischen Referate der Landeshauptstadt München ist die Best
 ätigung kostenfrei und kann formlos per E-Mail bestellt werden.\n\n&nbsp\
 ;\n\nThema:\n\nIm Zuge von Klimawandel\, intensiver Landnutzung\, Umweltve
 rschmutzung und invasiven Arten nimmt die Biodiversität seit Jahrzehnten 
 dramatisch ab. In Deutschland sind über 70 Prozent der natürlichen Leb
 ensräume gefährdet\, mehr als 40 Prozent der Tierarten bedroht und run
 d 3 Prozent bereits ausgestorben. Vor diesem Hintergrund gewinnen Städt
 e als Rückzugsräume für Tiere zunehmend an Bedeutung und übernehmen ei
 ne wichtige Schutzfunktion\, die mit fortschreitendem Klimawandel immer wi
 chtiger wird. Für das Überleben von Tieren in der Stadt ist es entscheid
 end\, gezielt Lebensräume über reine Grünflächen hinaus zu schaffen\, 
 anstatt auf ihr zufälliges Vorkommen zu setzen. Hier setzt die Methode de
 s Animal-Aided Design® (AAD) an\, bei der Tiere aktiv in die Planung und 
 Gestaltung von Freiräumen\, Gebäuden oder Quartieren einbezogen und ihr 
 Vorkommen bewusst geplant wird. Ziel ist es\, Lebensräume zu schaffen\, i
 n denen Tierpopulationen dauerhaft existieren können. Dieses Forum besch
 äftigt sich mit AAD und seiner Anwendung in Theorie und Praxis. Eine Einf
 ührung in die Methode gibt einer der Mitbegründer des Studio Animal-Aide
 d Design®. Auf dieser theoretischen Grundlage werden Best-Practice-Projek
 te aus München und Ingolstadt vorgestellt. Das Referat für Klima und Umw
 eltschutz stellt seine Förderprogramme „Biodiversitätsbausteine“ und
  „Begrünung“ vor\, mit denen entsprechende Maßnahmen bezuschusst wer
 den können.\n\n&nbsp\;\n\nIm abschließenden Podiumsgespräch werden Frag
 en aus dem Chat von den Vortragenden diskutiert.\nTeilnehmer*innen können
  auch im Vorfeld über den folgenden Link Fragen einreichen: Fragen-einrei
 chen.\n\n&nbsp\;\n\nDas Bauzentrum München dankt Vanessa Dörges und Joha
 nna Wiester für die fachliche Leitung bei der Vorbereitung dieser Veranst
 altung sowie Prof. Dr. Simone Linke für die Moderation.\n\n&nbsp\;\n\nHin
 weis: Animal-Aided Design® ist eine eingetragene Wortmarke von Studio Ani
 mal-Aided Design. Verwendung mit Genehmigung.\n\n&nbsp\;\n\nForums-Reihe\n
 Klimaneutrale und klimaresiliente Quartiere \n\nDie Landeshauptstadt Münc
 hen richtet ihr Augenmerk verstärkt auf einzelne\, kleinere Wohnquartiere
 \, um ihre Ziele für Klimaneutralität und Klimaresilienz zu erreichen. D
 urch die Verbesserung der Energieeffizienz und den Einsatz erneuerbarer En
 ergien sollen möglichst viele Quartiere bis 2035 klimaneutral werden. Gle
 ichzeitig müssen die Quartiere - inklusive ihrer Freiflächen - an den Kl
 imawandel angepasst werden. Im Rahmen der Quartiersarbeit werden dabei auc
 h Themen wie Nachverdichtung\, Mobilität\, Kreislaufwirtschaft\, Ernähru
 ng\, Konsum\, nachhaltige Bildung und soziale Aspekte mit einbezogen. Dies
 e Forums-Reihe bietet in jeder Veranstaltung einen vertieften Themenschwer
 punkt zur klimaneutralen und klimaresilienten Weiterentwicklung von Bestan
 dsquartieren und gibt Einblicke in die neuen städteplanerischen Anforderu
 ngen.\n\n&nbsp\;\n\nProgramm:\n\n&nbsp\;\n\n09.00\n\nBegrüßung\, Einfüh
 rung und Moderation\nProf. Dr. Simone Linke\, Hochschule Weihenstephan-Tri
 esdorf\,\nFakultät Landschaftsarchitektur\, Professur für Stadtplanung u
 nd Landschaft\n\n&nbsp\;\n\n09.10\n\nAnimal-Aided Design® - Theoretische 
 Grundlage und Strategie\nProf. Dr. Wolfgang W. Weisser\, Mitbegründer des
  Studio Animal-Aided Design\, Technische Universität München\, Professur
  für Terrestrische Ökologie\n\n&nbsp\;\n\n9.35\n\nPraktische Umsetzung i
 m Bestand „Creating NEBourhoods together – Neuperlach“\nProf. Dr. Th
 omas E. Hauck\, Mitbegründer des Studio Animal-Aided Design\,\nTechnische
  Universität Wien\, Professur für Landschaftsarchitektur und Landschafts
 planung\n\n\n&nbsp\;\n\n10.00\n\nAnimal-Aided Design® über Quartiere hin
 aus: Beispiel Stadtpark Donau und faunistische Raumwiderstandsanalyse in I
 ngolstadt\nThomas Schneider\, Stadt Ingolstadt\, Stabsstelle Klima\, Biodi
 versität und Donau\n\n&nbsp\;\n\n10.25\n\nPause\n\n&nbsp\;\n\n10.35\n\nPr
 aktische Umsetzung im Neubau „Brantstraße“\, München\nGünter Schalk
 \, michellerundschalk GmbH landschaftsarchitektur und urbanismus\n\n&nbsp\
 ;\n\n11.00\n\nFörderprogramm \,\,Biodiversitätsbausteine“ und \,\,Begr
 ünung“\nMichael Hemauer und Cornelia Leupold\, Referat für Klima- und 
 Umweltschutz\, SG\nBiodiversität &amp\; SG Stadtklima\, Grundwasser\, Kli
 maanpassung\n\n&nbsp\;\n\n11.20\n\nPodiumsdiskussion\n\n&nbsp\;\n\n11.40\n
 \nZusammenfassung und Ausblick\n\n&nbsp\;\n\n11.45\n\nEnde der Veranstaltu
 ng\n\n&nbsp\;
CATEGORIES:Fachforen - Exkursionen
END:VEVENT
BEGIN:VTIMEZONE
TZID:Europe/Berlin
X-LIC-LOCATION:Europe/Berlin
BEGIN:STANDARD
DTSTART:20251026T020000
TZOFFSETFROM:+0200
TZOFFSETTO:+0100
TZNAME:CET
END:STANDARD
END:VTIMEZONE
END:VCALENDAR