
BEGIN:VCALENDAR
VERSION:2.0
PRODID:-//wp-events-plugin.com//6.6.3//EN
TZID:Europe/Berlin
X-WR-TIMEZONE:Europe/Berlin
BEGIN:VEVENT
UID:0-50@veranstaltungen.muenchen.de
DTSTART;TZID=Europe/Berlin:20230506T130000
DTEND;TZID=Europe/Berlin:20230506T153000
DTSTAMP:20230505T052306Z
URL:https://veranstaltungen.muenchen.de/bau/veranstaltungen/fuehrung-durch
 -den-prinz-eugen-park/
SUMMARY:Führung durch den Prinz-Eugen-Park
DESCRIPTION:Im Stadtteil Bogenhausen entstand auf der 30 Hektar großen Fl
 äche der ehemaligen Prinz-Eugen-Kaserne zwischen 2016 und 2020 ein neues 
 Quartier mit etwa 1.800 Wohnungen. Die nun fertiggestellten öffentlichen 
 Grünflächen im Prinz-Eugen-Park nehmen mit ca.11\,9 Hektar etwa ein Drit
 tel der Gesamtfläche des neuen Stadtquartiers ein.
ATTACH;FMTTYPE=image/jpeg:https://veranstaltungen.muenchen.de/bau/wp-conte
 nt/uploads/sites/33/Biberburg-Spielplatz-1-scaled.jpg
CATEGORIES:Tag der offenen Tür
LOCATION:Prinz-Eugen-Park\, Maria-Nindl-Platz 6\, München\, Bayern\, 81927
 \, Deutschland
GEO:48.162883;11.6304
X-APPLE-STRUCTURED-LOCATION;VALUE=URI;X-ADDRESS=Maria-Nindl-Platz 6\, Münc
 hen\, Bayern\, 81927\, Deutschland;X-APPLE-RADIUS=100;X-TITLE=Prinz-Eugen-
 Park:geo:48.162883,11.6304
END:VEVENT
BEGIN:VTIMEZONE
TZID:Europe/Berlin
X-LIC-LOCATION:Europe/Berlin
BEGIN:DAYLIGHT
DTSTART:20230326T030000
TZOFFSETFROM:+0100
TZOFFSETTO:+0200
TZNAME:CEST
END:DAYLIGHT
END:VTIMEZONE
END:VCALENDAR