
BEGIN:VCALENDAR
VERSION:2.0
PRODID:-//wp-events-plugin.com//6.6.3//EN
TZID:Europe/Berlin
X-WR-TIMEZONE:Europe/Berlin
BEGIN:VEVENT
UID:0-70@veranstaltungen.muenchen.de
DTSTART;TZID=Europe/Berlin:20230708T140000
DTEND;TZID=Europe/Berlin:20230708T200000
DTSTAMP:20230706T115654Z
URL:https://veranstaltungen.muenchen.de/bau/veranstaltungen/feierliche-ero
 effnung-des-prinz-eugen-parks/
SUMMARY:Feierliche Eröffnung der Grünanlagen im Prinz-Eugen-Park
DESCRIPTION:Das Baureferat der Landeshauptstadt München lädt ein zum Bür
 gerfest anlässlich der feierlichen Eröffnung der öffentlichen Grünanla
 gen im Prinz-Eugen-Park.\nAm: Samstag\, 8. Juli 2023\nUm: 14:00 - 20:00 Uh
 r\nIm: Prinz-Eugen-Park\, Wiese an der Biberburg\n\nProgramm:\n\n\n\n14:00
 \n\nSamba Auftakt GoBrasil\n\n\n14:15\n\nModeration\n\n\n14:15\n\nRede - B
 aureferentin\, Dr.-Ing. Jeanne-Marie Ehbauer\n\n\n14:25\n\nRede - 2. Bürg
 ermeisterin\, Katrin Habenschaden\n\n\n\n\n\n\n\n14:35\n\nOysters Midnight
  - Swing  &amp\; Soul\n\n\n16:00\n\nTanzaufführung mit Kindergruppe\n\n\
 n16:30\n\nOblivion - Gypsy Jazz\n\n\n18:00\n\nCapoeira\n\n\n18:30\n\nGroß
 stadt Boazn - Alpenländischer Pop\n\n\n20:00\n\nEnde\n\n\n\n&nbsp\;\n\nMe
 hr Infos zu den Grünflächen finden Sie hier\n\n&nbsp\;\n\n*Wir fotografi
 eren bei dieser Veranstaltung. Bitte informieren Sie die Fotografin* oder 
 den Fotografen*\, wenn Sie nicht möchten\, dass Bilder von Ihnen veröffe
 ntlicht werden.\n\n\n\n\n\n\n\n
ATTACH;FMTTYPE=image/jpeg:https://veranstaltungen.muenchen.de/bau/wp-conte
 nt/uploads/sites/33/Biberburg-Spielplatz-1-1-scaled.jpg
CATEGORIES:Eröffnungen
LOCATION:Prinz-Eugen-Park\, Maria-Nindl-Platz 6\, München\, Bayern\, 81927
 \, Deutschland
GEO:48.162883;11.6304
X-APPLE-STRUCTURED-LOCATION;VALUE=URI;X-ADDRESS=Maria-Nindl-Platz 6\, Münc
 hen\, Bayern\, 81927\, Deutschland;X-APPLE-RADIUS=100;X-TITLE=Prinz-Eugen-
 Park:geo:48.162883,11.6304
END:VEVENT
BEGIN:VTIMEZONE
TZID:Europe/Berlin
X-LIC-LOCATION:Europe/Berlin
BEGIN:DAYLIGHT
DTSTART:20230326T030000
TZOFFSETFROM:+0100
TZOFFSETTO:+0200
TZNAME:CEST
END:DAYLIGHT
END:VTIMEZONE
END:VCALENDAR